From mboxrd@z Thu Jan  1 00:00:00 1970
Return-Path: <test-report-bounces@dpdk.org>
Received: from mails.dpdk.org (mails.dpdk.org [217.70.189.124])
	by inbox.dpdk.org (Postfix) with ESMTP id D54D445717
	for <public@inbox.dpdk.org>; Thu,  1 Aug 2024 23:11:39 +0200 (CEST)
Received: from mails.dpdk.org (localhost [127.0.0.1])
	by mails.dpdk.org (Postfix) with ESMTP id D27494067B;
	Thu,  1 Aug 2024 23:11:39 +0200 (CEST)
Received: from mail-pl1-f228.google.com (mail-pl1-f228.google.com
 [209.85.214.228])
 by mails.dpdk.org (Postfix) with ESMTP id ED0DD4066F
 for <test-report@dpdk.org>; Thu,  1 Aug 2024 23:11:37 +0200 (CEST)
Received: by mail-pl1-f228.google.com with SMTP id
 d9443c01a7336-1fc66fc35f2so18968225ad.0
 for <test-report@dpdk.org>; Thu, 01 Aug 2024 14:11:37 -0700 (PDT)
DKIM-Signature: v=1; a=rsa-sha256; c=relaxed/relaxed;
 d=iol.unh.edu; s=unh-iol; t=1722546697; x=1723151497; darn=dpdk.org;
 h=references:in-reply-to:cc:to:from:subject:message-id:date:from:to
 :cc:subject:date:message-id:reply-to;
 bh=sXXsx73Q/GXT5WsgfOG8ruaIIy4xbF3qy6QHxlsRiP4=;
 b=FlL1X18q/rJmhYOrGXRjevzRuu0vDXaoZLwjUPTv4KEQhc0n4L1jx0rPkFCvqnw2St
 y1cBeWTqvVKTiy9Aba+zI48LGmYYvFRpkLyJYkhJeADZZ7oW+mzhdFyjOU466sBPwLjO
 E+ptVRlg49pngh9TkphLv4i48LKSDyN8LAOuk=
X-Google-DKIM-Signature: v=1; a=rsa-sha256; c=relaxed/relaxed;
 d=1e100.net; s=20230601; t=1722546697; x=1723151497;
 h=references:in-reply-to:cc:to:from:subject:message-id:date
 :x-gm-message-state:from:to:cc:subject:date:message-id:reply-to;
 bh=sXXsx73Q/GXT5WsgfOG8ruaIIy4xbF3qy6QHxlsRiP4=;
 b=KnFIkzzJw5mnBVo/j3LfnjfwmN2KYsPDHj+kasweZxWqQRrLB4ARh/t2FKACb2aTvf
 M8iGyCYYUuBH7QjjN+qQ0ubeAKGN2Q6lKCxj0MIr92PGUTplIydwGzOxAWAslusO+cgY
 /qUt0FJgsiv7wwoOt4Fq0zTvxSKG+H+WTBsEXX35BTzCjKxWLi4hHv7Je7OOZRnxnPJ6
 488PIYCaWsBDNC2hAXSlVw9lJfWZXVU5LwfCL9dle8xZ996v35LnY0k7ixcsKU0D+Vo1
 +tCKbS2scg5qludfDVRDZ6r58qlWWQuYXZraf/1gCg50S9x6qWc5gzK8QY+fRuQnMf6r
 t0xg==
X-Gm-Message-State: AOJu0Yy873RgYTbybCII2T3sWGXJTmDwvofXGiUykhaz4PuClFL4/JQX
 nswRgBVSRwyzurmA+EgjfkV6KBQBYkNQMPdU6iVs2WW6iFmJ26PxkkGL8s8ig6Dv5SihJeWnaJ0
 vujw2szi6mp67SE2y9GjtrMeiGFwW/MknWriZcd8t3DfOSW4DACtwhTEu
X-Google-Smtp-Source: AGHT+IEgeUKNVLoCnoOEwomjPlnQVEkZU18zDA7mz88XeKCTvcPOO0WOqgKfHBJwOUCA7z9z8JoY2iogGKCA
X-Received: by 2002:a17:902:ecd2:b0:1fd:6b87:2152 with SMTP id
 d9443c01a7336-1ff524afdffmr45176195ad.28.1722546696971; 
 Thu, 01 Aug 2024 14:11:36 -0700 (PDT)
Received: from postal.iol.unh.edu (postal.iol.unh.edu.
 [2606:4100:3880:1234::84]) by smtp-relay.gmail.com with ESMTPS id
 41be03b00d2f7-7b7653aeeabsm20601a12.34.2024.08.01.14.11.36
 (version=TLS1_2 cipher=ECDHE-ECDSA-AES128-GCM-SHA256 bits=128/128);
 Thu, 01 Aug 2024 14:11:36 -0700 (PDT)
X-Relaying-Domain: iol.unh.edu
Date: Thu, 01 Aug 2024 14:11:36 -0700 (PDT)
Message-ID: <66abfa08.630a0220.2435cc.14d1SMTPIN_ADDED_MISSING@mx.google.com>
Received: from [172.21.0.8] (unknown [172.18.0.240])
 by postal.iol.unh.edu (Postfix) with ESMTP id A398A605C351;
 Thu,  1 Aug 2024 17:11:35 -0400 (EDT)
Subject: |PENDING| pw142807 [PATCH] [v1] net/i40e: updated 24.07 recommended 
From: dpdklab@iol.unh.edu
To: Test Report <test-report@dpdk.org>
Cc: dpdk-test-reports@iol.unh.edu
In-Reply-To: <20240801081902.750080-1-hailinx.xu@intel.com>
References: <20240801081902.750080-1-hailinx.xu@intel.com>
Content-Type: text/plain
X-BeenThere: test-report@dpdk.org
X-Mailman-Version: 2.1.29
Precedence: list
List-Id: automatic DPDK test reports <test-report.dpdk.org>
List-Unsubscribe: <https://mails.dpdk.org/options/test-report>,
 <mailto:test-report-request@dpdk.org?subject=unsubscribe>
List-Archive: <http://mails.dpdk.org/archives/test-report/>
List-Post: <mailto:test-report@dpdk.org>
List-Help: <mailto:test-report-request@dpdk.org?subject=help>
List-Subscribe: <https://mails.dpdk.org/listinfo/test-report>,
 <mailto:test-report-request@dpdk.org?subject=subscribe>
Errors-To: test-report-bounces@dpdk.org

Test-Label: iol-compile-arm64-testing
Test-Status: PENDING
http://dpdk.org/patch/142807

_Testing pending_

Submitter: hailinx <hailinx.xu@intel.com>
Date: Thursday, August 01 2024 08:19:02 
DPDK git baseline: Repo:dpdk
  Branch: master
  CommitID:3b017bdc4c25e2cd6733a9363e9c566b95834cc4

142807 --> testing pending

Upstream job id: Generic-DPDK-Compile-Meson#283258

Test environment and result as below:

+----------------------------------------+--------------------+
|              Environment               | dpdk_meson_compile |
+========================================+====================+
| RHEL9 (ARM)                            | PASS               |
+----------------------------------------+--------------------+
| Ubuntu 20.04 ARM GCC Cross Compile     | PEND               |
+----------------------------------------+--------------------+
| Ubuntu 20.04 ARM SVE                   | PASS               |
+----------------------------------------+--------------------+
| Debian 12 with MUSDK                   | PASS               |
+----------------------------------------+--------------------+
| Fedora 37 (ARM)                        | PASS               |
+----------------------------------------+--------------------+
| Fedora 38 (ARM)                        | PASS               |
+----------------------------------------+--------------------+
| Fedora 38 (ARM Clang)                  | PEND               |
+----------------------------------------+--------------------+
| Fedora 39 (ARM)                        | PASS               |
+----------------------------------------+--------------------+
| Fedora 39 (ARM Clang)                  | PEND               |
+----------------------------------------+--------------------+
| Fedora 40 (ARM)                        | PASS               |
+----------------------------------------+--------------------+
| Fedora 40 (ARM Clang)                  | PEND               |
+----------------------------------------+--------------------+
| Ubuntu 20.04 (ARM)                     | PASS               |
+----------------------------------------+--------------------+
| Ubuntu 22.04 (ARM)                     | PASS               |
+----------------------------------------+--------------------+
| Ubuntu 24.04 (ARM)                     | PASS               |
+----------------------------------------+--------------------+
| CentOS Stream 9 (ARM)                  | PASS               |
+----------------------------------------+--------------------+
| Debian 11 (Buster) (ARM)               | PASS               |
+----------------------------------------+--------------------+
| Debian 12 (arm)                        | PEND               |
+----------------------------------------+--------------------+
| Ubuntu 20.04 ARM Clang Cross Compile   | PEND               |
+----------------------------------------+--------------------+
| Ubuntu 20.04 aarch32 GCC Cross Compile | PEND               |
+----------------------------------------+--------------------+


RHEL9 (ARM)
	Kernel: Depends on container host
	Compiler: gcc 11.4.1

Ubuntu 20.04 ARM GCC Cross Compile
	Kernel: 5.4.0-167-generic
	Compiler: aarch64-linux-gnu-gcc (Ubuntu 9.4.0-1ubuntu1~20.04.2) 9.4.0

Ubuntu 20.04 ARM SVE
	Kernel: 5.4.0-167-generic
	Compiler: gcc (Ubuntu 10.5.0-1ubuntu1~20.04) 10.5.0

Debian 12 with MUSDK
	Kernel: Container Host Kernel
	Compiler: gcc 12.2.0

Fedora 37 (ARM)
	Kernel: Depends on container host
	Compiler: gcc 12.3.1

Fedora 38 (ARM)
	Kernel: Depends on container host
	Compiler: gcc 13.2.1

Fedora 38 (ARM Clang)
	Kernel: Depends on container host
	Compiler: clang 16.0.6

Fedora 39 (ARM)
	Kernel: Depends on container host
	Compiler: gcc 13.2.1

Fedora 39 (ARM Clang)
	Kernel: Depends on container host
	Compiler: clang 17.0.6

Fedora 40 (ARM)
	Kernel: Depends on container host
	Compiler: gcc 14.1.1

Fedora 40 (ARM Clang)
	Kernel: Depends on container host
	Compiler: clang 18.1.6

Ubuntu 20.04 (ARM)
	Kernel: Container Host Kernel
	Compiler: gcc 9.4.0

Ubuntu 22.04 (ARM)
	Kernel: Container Host Kernel
	Compiler: gcc 11.4.0

Ubuntu 24.04 (ARM)
	Kernel: 5.4.0-167-generic
	Compiler: gcc 13.2.0

CentOS Stream 9 (ARM)
	Kernel: Container Host Kernel
	Compiler: gcc 11.4.1

Debian 11 (Buster) (ARM)
	Kernel: Container Host Kernel
	Compiler: gcc 10.2.1

Debian 12 (arm)
	Kernel: Container Host Kernel
	Compiler: gcc 12.2.0

Ubuntu 20.04 ARM Clang Cross Compile
	Kernel: 5.4.0-72-generic
	Compiler: clang 10.0.0-4ubuntu1

Ubuntu 20.04 aarch32 GCC Cross Compile
	Kernel: 5.4.0-167-generic
	Compiler: gcc 9.4.0

To view detailed results, visit:
https://lab.dpdk.org/results/dashboard/patchsets/30690/

UNH-IOL DPDK Community Lab

To manage your email subscriptions, visit: 
https://lab.dpdk.org/results/dashboard/preferences/subscriptions/