From mboxrd@z Thu Jan  1 00:00:00 1970
Return-Path: <test-report-bounces@dpdk.org>
Received: from mails.dpdk.org (mails.dpdk.org [217.70.189.124])
	by inbox.dpdk.org (Postfix) with ESMTP id 6569945717
	for <public@inbox.dpdk.org>; Thu,  1 Aug 2024 23:16:40 +0200 (CEST)
Received: from mails.dpdk.org (localhost [127.0.0.1])
	by mails.dpdk.org (Postfix) with ESMTP id 5FFCF4067B;
	Thu,  1 Aug 2024 23:16:40 +0200 (CEST)
Received: from mail-il1-f226.google.com (mail-il1-f226.google.com
 [209.85.166.226])
 by mails.dpdk.org (Postfix) with ESMTP id DAD354066F
 for <test-report@dpdk.org>; Thu,  1 Aug 2024 23:16:38 +0200 (CEST)
Received: by mail-il1-f226.google.com with SMTP id
 e9e14a558f8ab-396cc82f6d7so8378655ab.0
 for <test-report@dpdk.org>; Thu, 01 Aug 2024 14:16:38 -0700 (PDT)
DKIM-Signature: v=1; a=rsa-sha256; c=relaxed/relaxed;
 d=iol.unh.edu; s=unh-iol; t=1722546998; x=1723151798; darn=dpdk.org;
 h=references:in-reply-to:cc:to:from:subject:message-id:date:from:to
 :cc:subject:date:message-id:reply-to;
 bh=Puc8R/u0bG7hOBjyYOjkt+r2XSP6JgC+3vxfoUsfb+o=;
 b=HDP4ClQyjqi1ZHn/KbR4F4W/ooFP2eUHZ2AJvqC+xmtLqRMA4Lul29/rf+xWtGFUxb
 R/xIQGpw6lVjgQQhqscZbrgRAT4UXF8KvPvBU0EiMPgrNWZtw5sSmGWSFwhD/lWy2RmM
 zHovF7l+ExCXlRNnpO2ML+E47uNJQ5ppfSJ+I=
X-Google-DKIM-Signature: v=1; a=rsa-sha256; c=relaxed/relaxed;
 d=1e100.net; s=20230601; t=1722546998; x=1723151798;
 h=references:in-reply-to:cc:to:from:subject:message-id:date
 :x-gm-message-state:from:to:cc:subject:date:message-id:reply-to;
 bh=Puc8R/u0bG7hOBjyYOjkt+r2XSP6JgC+3vxfoUsfb+o=;
 b=EKUOQp9qchy5yBAikXO8p2aq0uwawr20XGNc4d19Gzte5wiw1OPyw8d1tljI1uOy+D
 iKwV7y2jtFdLDMDY58jnQaX9yKLawNd/ASd0b9UsbsGoQmGCTgNWr6HfJJ3Bvc4SrNC4
 7KbfcI0WTIz2j04Mh/2FRbwsAB9AcvS2ikCVdets9tSN6rBD2Hv4uEaj28PzawiJ9KX4
 VGeSaTO2W5pGaJFA09tNfigTEkn8cO9QABdN6u+3kB6ZV8ji7NGD/cuYn7kP0vNN0TUy
 IsjEVpalHVKP4GpCif3oq1s6BXpw04iZvkKhR+I18L/dQ00/uZSbYrJci02T1rK3sCdl
 fFIg==
X-Gm-Message-State: AOJu0YxfMjb6lnbhfBHZF58Mkd4JS33dpSVO5odJrWXUz4D6UfO0YSKZ
 qEC7ytzLvj4NZlVzCHSHPMe9b2d2fWIF08dHFLYglRIrJc8IFDZbl0DeKowwXLGgDlUBfIvwgBh
 4NY8I593Md1D/ZiVJAPNVvk0A3XNTTckU7BPb4foq
X-Google-Smtp-Source: AGHT+IHahH0HBvbHjP9D4lF/AMGKxmJ7PIoIG4LJ+XCEHZ9MRIu8n8ePico7vclJ9Y2fRuU2xBKiA0ozg4jx
X-Received: by 2002:a05:6e02:4c2:b0:376:210a:80e5 with SMTP id
 e9e14a558f8ab-39b2017b28bmr10349405ab.7.1722546997828; 
 Thu, 01 Aug 2024 14:16:37 -0700 (PDT)
Received: from postal.iol.unh.edu (postal.iol.unh.edu. [132.177.123.84])
 by smtp-relay.gmail.com with ESMTPS id
 e9e14a558f8ab-39b20a96b0csm271225ab.33.2024.08.01.14.16.37
 (version=TLS1_2 cipher=ECDHE-ECDSA-AES128-GCM-SHA256 bits=128/128);
 Thu, 01 Aug 2024 14:16:37 -0700 (PDT)
X-Relaying-Domain: iol.unh.edu
Date: Thu, 01 Aug 2024 14:16:37 -0700 (PDT)
Message-ID: <66abfb35.050a0220.2b7dc7.1c7cSMTPIN_ADDED_MISSING@mx.google.com>
Received: from [172.21.0.8] (unknown [172.18.0.240])
 by postal.iol.unh.edu (Postfix) with ESMTP id 4255E605C351;
 Thu,  1 Aug 2024 17:16:37 -0400 (EDT)
Subject: |PENDING| pw142841-142847 [PATCH] [v11,7/7] drivers: remove use of t
From: dpdklab@iol.unh.edu
To: Test Report <test-report@dpdk.org>
Cc: dpdk-test-reports@iol.unh.edu
In-Reply-To: <20240801154821.150443-8-stephen@networkplumber.org>
References: <20240801154821.150443-8-stephen@networkplumber.org>
Content-Type: text/plain
X-BeenThere: test-report@dpdk.org
X-Mailman-Version: 2.1.29
Precedence: list
List-Id: automatic DPDK test reports <test-report.dpdk.org>
List-Unsubscribe: <https://mails.dpdk.org/options/test-report>,
 <mailto:test-report-request@dpdk.org?subject=unsubscribe>
List-Archive: <http://mails.dpdk.org/archives/test-report/>
List-Post: <mailto:test-report@dpdk.org>
List-Help: <mailto:test-report-request@dpdk.org?subject=help>
List-Subscribe: <https://mails.dpdk.org/listinfo/test-report>,
 <mailto:test-report-request@dpdk.org?subject=subscribe>
Errors-To: test-report-bounces@dpdk.org

Test-Label: iol-compile-amd64-testing
Test-Status: PENDING
http://dpdk.org/patch/142847

_Testing pending_

Submitter: Stephen Hemminger <stephen@networkplumber.org>
Date: Thursday, August 01 2024 15:46:40 
DPDK git baseline: Repo:dpdk
  Branch: master
  CommitID:b3485f4293997d35b6daecc3437bb0c183a51fb3

142841-142847 --> testing pending

Upstream job id: Generic-VM-DPDK-Compile-Meson#28447

Test environment and result as below:

+---------------------+--------------------+------------------+-------------------+----------------------+-------------------+
|     Environment     | dpdk_meson_compile | dpdk_compile_ovs | dpdk_compile_spdk | dpdk_mingw64_compile | dpdk_msvc_compile |
+=====================+====================+==================+===================+======================+===================+
| Debian Bullseye     | PEND               | PEND             | PEND              | SKIPPED              | SKIPPED           |
+---------------------+--------------------+------------------+-------------------+----------------------+-------------------+
| CentOS Stream 9     | PEND               | PEND             | PEND              | SKIPPED              | SKIPPED           |
+---------------------+--------------------+------------------+-------------------+----------------------+-------------------+
| Debian 12           | PEND               | PEND             | PEND              | SKIPPED              | SKIPPED           |
+---------------------+--------------------+------------------+-------------------+----------------------+-------------------+
| Fedora 39 (Clang)   | PEND               | PEND             | PEND              | SKIPPED              | SKIPPED           |
+---------------------+--------------------+------------------+-------------------+----------------------+-------------------+
| Fedora 37           | PEND               | PEND             | PEND              | SKIPPED              | SKIPPED           |
+---------------------+--------------------+------------------+-------------------+----------------------+-------------------+
| Fedora 38 (Clang)   | PEND               | PEND             | PEND              | SKIPPED              | SKIPPED           |
+---------------------+--------------------+------------------+-------------------+----------------------+-------------------+
| Fedora 38           | PEND               | PEND             | PEND              | SKIPPED              | SKIPPED           |
+---------------------+--------------------+------------------+-------------------+----------------------+-------------------+
| Fedora 39           | PEND               | PEND             | PEND              | SKIPPED              | SKIPPED           |
+---------------------+--------------------+------------------+-------------------+----------------------+-------------------+
| Fedora 40 (Clang)   | PEND               | PEND             | PEND              | SKIPPED              | SKIPPED           |
+---------------------+--------------------+------------------+-------------------+----------------------+-------------------+
| Fedora 40           | PEND               | PEND             | PEND              | SKIPPED              | SKIPPED           |
+---------------------+--------------------+------------------+-------------------+----------------------+-------------------+
| openSUSE Leap 15    | PEND               | PEND             | SKIPPED           | SKIPPED              | SKIPPED           |
+---------------------+--------------------+------------------+-------------------+----------------------+-------------------+
| RHEL8               | PEND               | PEND             | SKIPPED           | SKIPPED              | SKIPPED           |
+---------------------+--------------------+------------------+-------------------+----------------------+-------------------+
| RHEL9               | PEND               | PEND             | SKIPPED           | SKIPPED              | SKIPPED           |
+---------------------+--------------------+------------------+-------------------+----------------------+-------------------+
| Ubuntu 20.04        | PEND               | PEND             | SKIPPED           | SKIPPED              | SKIPPED           |
+---------------------+--------------------+------------------+-------------------+----------------------+-------------------+
| Ubuntu 22.04        | PEND               | PEND             | PEND              | SKIPPED              | SKIPPED           |
+---------------------+--------------------+------------------+-------------------+----------------------+-------------------+
| Ubuntu 24.04        | PEND               | PEND             | PEND              | SKIPPED              | SKIPPED           |
+---------------------+--------------------+------------------+-------------------+----------------------+-------------------+
| Windows Server 2019 | PASS               | SKIPPED          | SKIPPED           | PASS                 | SKIPPED           |
+---------------------+--------------------+------------------+-------------------+----------------------+-------------------+
| Windows Server 2022 | PASS               | SKIPPED          | SKIPPED           | PEND                 | PEND              |
+---------------------+--------------------+------------------+-------------------+----------------------+-------------------+
| Alpine              | PEND               | PEND             | SKIPPED           | SKIPPED              | SKIPPED           |
+---------------------+--------------------+------------------+-------------------+----------------------+-------------------+
| FreeBSD 13.3        | PASS               | SKIPPED          | SKIPPED           | SKIPPED              | SKIPPED           |
+---------------------+--------------------+------------------+-------------------+----------------------+-------------------+
| FreeBSD 14.1        | PASS               | SKIPPED          | SKIPPED           | SKIPPED              | SKIPPED           |
+---------------------+--------------------+------------------+-------------------+----------------------+-------------------+


Debian Bullseye
	Kernel: 5.4.0-167-generic
	Compiler: gcc 10.2.1-6

CentOS Stream 9
	Kernel: 5.4.0-167-generic
	Compiler: gcc 11.4.1 20230605

Debian 12
	Kernel: Container Host Kernel
	Compiler: gcc 12.2.0

Fedora 39 (Clang)
	Kernel: Depends on container host
	Compiler: clang 17.0.6

Fedora 37
	Kernel: Depends on container host system
	Compiler: gcc 12.3.1

Fedora 38 (Clang)
	Kernel: Depends on container host
	Compiler: clang 16.0.6

Fedora 38
	Kernel: Depends on container host
	Compiler: gcc 13.2.1

Fedora 39
	Kernel: Depends on container host
	Compiler: gcc 13.2.1

Fedora 40 (Clang)
	Kernel: Depends on container host
	Compiler: clang 18.1.6

Fedora 40
	Kernel: Depends on container host
	Compiler: gcc 14.1.1

openSUSE Leap 15
	Kernel: 5.4.0-167-generic
	Compiler: gcc 7.5.0

RHEL8
	Kernel: 5.4.0-167-generic
	Compiler: gcc 8.5.0 20210514 (Red Hat 8.5.0-20)

RHEL9
	Kernel: Depends on container host
	Compiler: gcc 11.4.1

Ubuntu 20.04
	Kernel: 5.4.0-167-generic
	Compiler: gcc 9.4.0-1ubuntu1~20.04.1

Ubuntu 22.04
	Kernel: 5.4.0-167-generic
	Compiler: gcc 11.4.0

Ubuntu 24.04
	Kernel: 5.4.0-167-generic
	Compiler: gcc 13.2.0

Windows Server 2019
	Kernel: 10.0.17763
	Compiler: clang 14.0 and gcc 8.1.0 (MinGW)

Windows Server 2022
	Kernel: 10.0.20348.2031
	Compiler: clang 15.0.7, gcc 8.1.0 (MinGW), and MSVC VS 17.9

Alpine
	Kernel: 5.4.0-167-generic
	Compiler: gcc (Alpine 13.2.1_git20231014) 13.2.1 20231014

FreeBSD 13.3
	Kernel: 13.3-RELEASE-p1
	Compiler: clang 17.0.6

FreeBSD 14.1
	Kernel: 14.1
	Compiler: clang 18.1.5

To view detailed results, visit:
https://lab.dpdk.org/results/dashboard/patchsets/30700/

UNH-IOL DPDK Community Lab

To manage your email subscriptions, visit: 
https://lab.dpdk.org/results/dashboard/preferences/subscriptions/