From mboxrd@z Thu Jan  1 00:00:00 1970
Return-Path: <test-report-bounces@dpdk.org>
Received: from mails.dpdk.org (mails.dpdk.org [217.70.189.124])
	by inbox.dpdk.org (Postfix) with ESMTP id 878BA45717
	for <public@inbox.dpdk.org>; Thu,  1 Aug 2024 23:31:37 +0200 (CEST)
Received: from mails.dpdk.org (localhost [127.0.0.1])
	by mails.dpdk.org (Postfix) with ESMTP id 84EA04067B;
	Thu,  1 Aug 2024 23:31:37 +0200 (CEST)
Received: from mail-io1-f99.google.com (mail-io1-f99.google.com
 [209.85.166.99]) by mails.dpdk.org (Postfix) with ESMTP id E46A34066F
 for <test-report@dpdk.org>; Thu,  1 Aug 2024 23:31:35 +0200 (CEST)
Received: by mail-io1-f99.google.com with SMTP id
 ca18e2360f4ac-81f9339e534so263936939f.3
 for <test-report@dpdk.org>; Thu, 01 Aug 2024 14:31:35 -0700 (PDT)
DKIM-Signature: v=1; a=rsa-sha256; c=relaxed/relaxed;
 d=iol.unh.edu; s=unh-iol; t=1722547895; x=1723152695; darn=dpdk.org;
 h=references:in-reply-to:cc:to:from:subject:message-id:date:from:to
 :cc:subject:date:message-id:reply-to;
 bh=xMo2bISBC8nHMyn0MQ94Bm9e18FdDmHGWXNu9DMIbmA=;
 b=QoqbkcFB80pGw/xVQwgRJc9fiGUPOn1cjYjpR4R5Ec5/dy1czcb9qJUcvA0mnLJHEQ
 ymZZim0fwRY3Myd5nx3CA0e+MU4IziZ2k84E752guFBxyGyMg8mlfL5+tmWT7KV+uIjZ
 PFVmKhB51d+BAwN3Te7jbPhr+SCPq5I2O4ppc=
X-Google-DKIM-Signature: v=1; a=rsa-sha256; c=relaxed/relaxed;
 d=1e100.net; s=20230601; t=1722547895; x=1723152695;
 h=references:in-reply-to:cc:to:from:subject:message-id:date
 :x-gm-message-state:from:to:cc:subject:date:message-id:reply-to;
 bh=xMo2bISBC8nHMyn0MQ94Bm9e18FdDmHGWXNu9DMIbmA=;
 b=b4A2Ly1PSi0YUOS44I/PSZar6Zxw6QwtJOMC4PTXwSld5pPGkBBgDQJLN217W0ZP5C
 khrhLgSTPkuRCyxxC/II65IEJzOKbYV0zVeKSdqikltqfv3VkkiPyyLeIK1L/7owI3c7
 0wOC3f0lT2tz1cZ3YA0lpdF52cXC3XDJhfMfWZAIHFYIKhMGGyla3GuZtFjgn/MWH8Kk
 U4E1mEal8dyVHyUkrWCH15pQ0M41nq4JhKwi0pAuKXoGx7DqobQySyNb9sqAT+G8hcyH
 og8fWvhT77mG2UzudxhRp6vU3Vh9p9WSRjaUg+SHV+srSwccjPi7U3zojla8i10YfynL
 pj1w==
X-Gm-Message-State: AOJu0YzJnCG/fYWvuJl84S+D94ZXUu29bEAQar5ze5OunnGvkg5Tqm5D
 fTVNeNSfmlcppssPdJcbWm9wOmILVSLvD119MeEOGK0qNPa+kYvF5WgMxhskwXhm200MGXYzcTq
 Im4K0GRF/EohDliPPEcGfokCelj6W5RvvuUUCWroZ
X-Google-Smtp-Source: AGHT+IGzEUmcr3uZp1ztLA78z84EZEjHeO5HGQCGyeA35WovjOLmdc+eVlc+2q7ZnGebttpQ5IUs7Cvh4wsU
X-Received: by 2002:a05:6602:341a:b0:807:aebc:3bdd with SMTP id
 ca18e2360f4ac-81fd43600e7mr219856939f.5.1722547895133; 
 Thu, 01 Aug 2024 14:31:35 -0700 (PDT)
Received: from postal.iol.unh.edu (postal.iol.unh.edu. [132.177.123.84])
 by smtp-relay.gmail.com with ESMTPS id
 8926c6da1cb9f-4c8d6a5fc0asm15217173.69.2024.08.01.14.31.35
 (version=TLS1_2 cipher=ECDHE-ECDSA-AES128-GCM-SHA256 bits=128/128);
 Thu, 01 Aug 2024 14:31:35 -0700 (PDT)
X-Relaying-Domain: iol.unh.edu
Date: Thu, 01 Aug 2024 14:31:35 -0700 (PDT)
Message-ID: <66abfeb7.050a0220.2bea38.0fc7SMTPIN_ADDED_MISSING@mx.google.com>
Received: from [172.21.0.7] (unknown [172.18.0.240])
 by postal.iol.unh.edu (Postfix) with ESMTP id A0962605C351;
 Thu,  1 Aug 2024 17:31:34 -0400 (EDT)
Subject: |PENDING| pw142807 [PATCH] [v1] net/i40e: updated 24.07 recommended 
From: dpdklab@iol.unh.edu
To: Test Report <test-report@dpdk.org>
Cc: dpdk-test-reports@iol.unh.edu
In-Reply-To: <20240801081902.750080-1-hailinx.xu@intel.com>
References: <20240801081902.750080-1-hailinx.xu@intel.com>
Content-Type: text/plain
X-BeenThere: test-report@dpdk.org
X-Mailman-Version: 2.1.29
Precedence: list
List-Id: automatic DPDK test reports <test-report.dpdk.org>
List-Unsubscribe: <https://mails.dpdk.org/options/test-report>,
 <mailto:test-report-request@dpdk.org?subject=unsubscribe>
List-Archive: <http://mails.dpdk.org/archives/test-report/>
List-Post: <mailto:test-report@dpdk.org>
List-Help: <mailto:test-report-request@dpdk.org?subject=help>
List-Subscribe: <https://mails.dpdk.org/listinfo/test-report>,
 <mailto:test-report-request@dpdk.org?subject=subscribe>
Errors-To: test-report-bounces@dpdk.org

Test-Label: iol-compile-amd64-testing
Test-Status: PENDING
http://dpdk.org/patch/142807

_Testing pending_

Submitter: hailinx <hailinx.xu@intel.com>
Date: Thursday, August 01 2024 08:19:02 
DPDK git baseline: Repo:dpdk
  Branch: master
  CommitID:3b017bdc4c25e2cd6733a9363e9c566b95834cc4

142807 --> testing pending

Upstream job id: Generic-DPDK-Compile-Meson#283231

Test environment and result as below:

+---------------------+--------------------+-------------------+----------------------+------------------+-------------------+
|     Environment     | dpdk_meson_compile | dpdk_msvc_compile | dpdk_mingw64_compile | dpdk_compile_ovs | dpdk_compile_spdk |
+=====================+====================+===================+======================+==================+===================+
| FreeBSD 13.3        | PASS               | SKIPPED           | SKIPPED              | SKIPPED          | SKIPPED           |
+---------------------+--------------------+-------------------+----------------------+------------------+-------------------+
| FreeBSD 14.1        | PASS               | SKIPPED           | SKIPPED              | SKIPPED          | SKIPPED           |
+---------------------+--------------------+-------------------+----------------------+------------------+-------------------+
| Windows Server 2022 | PASS               | PASS              | PASS                 | SKIPPED          | SKIPPED           |
+---------------------+--------------------+-------------------+----------------------+------------------+-------------------+
| Windows Server 2019 | PASS               | SKIPPED           | PASS                 | SKIPPED          | SKIPPED           |
+---------------------+--------------------+-------------------+----------------------+------------------+-------------------+
| CentOS Stream 9     | PEND               | SKIPPED           | SKIPPED              | PEND             | PEND              |
+---------------------+--------------------+-------------------+----------------------+------------------+-------------------+
| Debian Bullseye     | PASS               | SKIPPED           | SKIPPED              | PASS             | PASS              |
+---------------------+--------------------+-------------------+----------------------+------------------+-------------------+
| Debian 12           | PEND               | SKIPPED           | SKIPPED              | PEND             | PEND              |
+---------------------+--------------------+-------------------+----------------------+------------------+-------------------+
| Fedora 37           | PASS               | SKIPPED           | SKIPPED              | PASS             | PASS              |
+---------------------+--------------------+-------------------+----------------------+------------------+-------------------+
| Fedora 38 (Clang)   | PEND               | SKIPPED           | SKIPPED              | PEND             | PEND              |
+---------------------+--------------------+-------------------+----------------------+------------------+-------------------+
| Fedora 38           | PASS               | SKIPPED           | SKIPPED              | PASS             | PASS              |
+---------------------+--------------------+-------------------+----------------------+------------------+-------------------+
| Fedora 39 (Clang)   | PEND               | SKIPPED           | SKIPPED              | PEND             | PEND              |
+---------------------+--------------------+-------------------+----------------------+------------------+-------------------+
| Fedora 39           | PASS               | SKIPPED           | SKIPPED              | PASS             | PASS              |
+---------------------+--------------------+-------------------+----------------------+------------------+-------------------+
| Fedora 40 (Clang)   | PEND               | SKIPPED           | SKIPPED              | PEND             | PEND              |
+---------------------+--------------------+-------------------+----------------------+------------------+-------------------+
| Fedora 40           | PASS               | SKIPPED           | SKIPPED              | PASS             | PASS              |
+---------------------+--------------------+-------------------+----------------------+------------------+-------------------+
| openSUSE Leap 15    | PASS               | SKIPPED           | SKIPPED              | PASS             | SKIPPED           |
+---------------------+--------------------+-------------------+----------------------+------------------+-------------------+
| RHEL8               | PEND               | SKIPPED           | SKIPPED              | PEND             | SKIPPED           |
+---------------------+--------------------+-------------------+----------------------+------------------+-------------------+
| RHEL9               | PASS               | SKIPPED           | SKIPPED              | PEND             | SKIPPED           |
+---------------------+--------------------+-------------------+----------------------+------------------+-------------------+
| Ubuntu 20.04        | PEND               | SKIPPED           | SKIPPED              | PEND             | SKIPPED           |
+---------------------+--------------------+-------------------+----------------------+------------------+-------------------+
| Ubuntu 22.04        | PEND               | SKIPPED           | SKIPPED              | PEND             | PEND              |
+---------------------+--------------------+-------------------+----------------------+------------------+-------------------+
| Alpine              | PEND               | SKIPPED           | SKIPPED              | PEND             | SKIPPED           |
+---------------------+--------------------+-------------------+----------------------+------------------+-------------------+
| Ubuntu 24.04        | PEND               | SKIPPED           | SKIPPED              | PEND             | PEND              |
+---------------------+--------------------+-------------------+----------------------+------------------+-------------------+


FreeBSD 13.3
	Kernel: 13.3-RELEASE-p1
	Compiler: clang 17.0.6

FreeBSD 14.1
	Kernel: 14.1
	Compiler: clang 18.1.5

Windows Server 2022
	Kernel: 10.0.20348.2031
	Compiler: clang 15.0.7, gcc 8.1.0 (MinGW), and MSVC VS 17.9

Windows Server 2019
	Kernel: 10.0.17763
	Compiler: clang 14.0 and gcc 8.1.0 (MinGW)

CentOS Stream 9
	Kernel: 5.4.0-167-generic
	Compiler: gcc 11.4.1 20230605

Debian Bullseye
	Kernel: 5.4.0-167-generic
	Compiler: gcc 10.2.1-6

Debian 12
	Kernel: Container Host Kernel
	Compiler: gcc 12.2.0

Fedora 37
	Kernel: Depends on container host system
	Compiler: gcc 12.3.1

Fedora 38 (Clang)
	Kernel: Depends on container host
	Compiler: clang 16.0.6

Fedora 38
	Kernel: Depends on container host
	Compiler: gcc 13.2.1

Fedora 39 (Clang)
	Kernel: Depends on container host
	Compiler: clang 17.0.6

Fedora 39
	Kernel: Depends on container host
	Compiler: gcc 13.2.1

Fedora 40 (Clang)
	Kernel: Depends on container host
	Compiler: clang 18.1.6

Fedora 40
	Kernel: Depends on container host
	Compiler: gcc 14.1.1

openSUSE Leap 15
	Kernel: 5.4.0-167-generic
	Compiler: gcc 7.5.0

RHEL8
	Kernel: 5.4.0-167-generic
	Compiler: gcc 8.5.0 20210514 (Red Hat 8.5.0-20)

RHEL9
	Kernel: Depends on container host
	Compiler: gcc 11.4.1

Ubuntu 20.04
	Kernel: 5.4.0-167-generic
	Compiler: gcc 9.4.0-1ubuntu1~20.04.1

Ubuntu 22.04
	Kernel: 5.4.0-167-generic
	Compiler: gcc 11.4.0

Alpine
	Kernel: 5.4.0-167-generic
	Compiler: gcc (Alpine 13.2.1_git20231014) 13.2.1 20231014

Ubuntu 24.04
	Kernel: 5.4.0-167-generic
	Compiler: gcc 13.2.0

To view detailed results, visit:
https://lab.dpdk.org/results/dashboard/patchsets/30690/

UNH-IOL DPDK Community Lab

To manage your email subscriptions, visit: 
https://lab.dpdk.org/results/dashboard/preferences/subscriptions/