From mboxrd@z Thu Jan  1 00:00:00 1970
Return-Path: <test-report-bounces@dpdk.org>
Received: from mails.dpdk.org (mails.dpdk.org [217.70.189.124])
	by inbox.dpdk.org (Postfix) with ESMTP id 027A445717
	for <public@inbox.dpdk.org>; Thu,  1 Aug 2024 23:58:05 +0200 (CEST)
Received: from mails.dpdk.org (localhost [127.0.0.1])
	by mails.dpdk.org (Postfix) with ESMTP id CDF894067B;
	Thu,  1 Aug 2024 23:58:05 +0200 (CEST)
Received: from mail-ot1-f98.google.com (mail-ot1-f98.google.com
 [209.85.210.98]) by mails.dpdk.org (Postfix) with ESMTP id 108E94066F
 for <test-report@dpdk.org>; Thu,  1 Aug 2024 23:58:05 +0200 (CEST)
Received: by mail-ot1-f98.google.com with SMTP id
 46e09a7af769-7093efbade6so5093054a34.2
 for <test-report@dpdk.org>; Thu, 01 Aug 2024 14:58:04 -0700 (PDT)
DKIM-Signature: v=1; a=rsa-sha256; c=relaxed/relaxed;
 d=iol.unh.edu; s=unh-iol; t=1722549484; x=1723154284; darn=dpdk.org;
 h=references:in-reply-to:cc:to:from:subject:message-id:date:from:to
 :cc:subject:date:message-id:reply-to;
 bh=uU0DdZa3GzPzyB8yeeTH6SzRunbGokU4jFF0C4fx/vU=;
 b=Rw4+fg3NLU749K1TMcdMwYjhZJZS5WY0Bc9HU910GBb6YArBKdIs/tk8SS8WrRezDG
 ukM82nxG1ZUBUK1Z8dUmacOiHo6RaWsWac+VSf+4wtuUW4dE1Gq+UWfFSRrp3xFYxtZp
 /5dvoZioVMwurIFX2nslLwa966FVhJlvBy4FU=
X-Google-DKIM-Signature: v=1; a=rsa-sha256; c=relaxed/relaxed;
 d=1e100.net; s=20230601; t=1722549484; x=1723154284;
 h=references:in-reply-to:cc:to:from:subject:message-id:date
 :x-gm-message-state:from:to:cc:subject:date:message-id:reply-to;
 bh=uU0DdZa3GzPzyB8yeeTH6SzRunbGokU4jFF0C4fx/vU=;
 b=OX0cYNiO3ip0HLZR9ZmBVcTOoDxozMR21TfAz2iEmlPQJiR0/28Zuk4Jey0v6HRNYO
 7IMmkG+2z+v9ndCKygjv9rZXJiw4OeoezxLwafRXgbaKR+8UcQDqSelSr4kiy+BVwA4F
 8BlzO0NzwI074TgB7VubQjCUNS/OLEQCNPc/GCnkt192DN59ymlxUPdowTfwPLXoH2JK
 2N6+qUJCtfXhx8t4q+jsduQsM/56mXK4Ciix58e2euoWv2AyI2j+i7QXsjaXsnRmusVc
 YWHLCUKykYnRzCDGEDOZBU3+Vo+/4tVN04hONf5LNbhfFuR1h25L7eQMKI/YUy9PI/4A
 sGTw==
X-Gm-Message-State: AOJu0YzrEEAn96GvCuSwujSz2ETfDRMScMcOBeeAd2YHSa2XIWQeiGd1
 xZPxcizruoTCdWpge5navCL+pSN/YxcCLGlWJL3+mSQwsRGaqSXuKZuFD2F8rFy89d/gYII4H1k
 CbQuOBAI5LECtjTWiGVHIR4QXcg4hRA1mxzg367Fy
X-Google-Smtp-Source: AGHT+IEU03ig+2xZWXELTelN2Qktc3xU5jXE0k07WLLBk+iHts6nuxyofj7nrLxz6HNtIGZ1Ykx+0Ke83OAo
X-Received: by 2002:a05:6830:4905:b0:703:68c2:8356 with SMTP id
 46e09a7af769-709b323d1b0mr1628416a34.17.1722549484165; 
 Thu, 01 Aug 2024 14:58:04 -0700 (PDT)
Received: from postal.iol.unh.edu (postal.iol.unh.edu. [132.177.123.84])
 by smtp-relay.gmail.com with ESMTPS id
 d75a77b69052e-4518a6c472esm192221cf.3.2024.08.01.14.58.04
 (version=TLS1_2 cipher=ECDHE-ECDSA-AES128-GCM-SHA256 bits=128/128);
 Thu, 01 Aug 2024 14:58:04 -0700 (PDT)
X-Relaying-Domain: iol.unh.edu
Date: Thu, 01 Aug 2024 14:58:04 -0700 (PDT)
Message-ID: <66ac04ec.c80a0220.218ffd.13a6SMTPIN_ADDED_MISSING@mx.google.com>
Received: from [172.21.0.6] (unknown [172.18.0.240])
 by postal.iol.unh.edu (Postfix) with ESMTP id B1792605C351;
 Thu,  1 Aug 2024 17:58:03 -0400 (EDT)
Subject: |PENDING| pw142807 [PATCH] [v1] net/i40e: updated 24.07 recommended 
From: dpdklab@iol.unh.edu
To: Test Report <test-report@dpdk.org>
Cc: dpdk-test-reports@iol.unh.edu
In-Reply-To: <20240801081902.750080-1-hailinx.xu@intel.com>
References: <20240801081902.750080-1-hailinx.xu@intel.com>
Content-Type: text/plain
X-BeenThere: test-report@dpdk.org
X-Mailman-Version: 2.1.29
Precedence: list
List-Id: automatic DPDK test reports <test-report.dpdk.org>
List-Unsubscribe: <https://mails.dpdk.org/options/test-report>,
 <mailto:test-report-request@dpdk.org?subject=unsubscribe>
List-Archive: <http://mails.dpdk.org/archives/test-report/>
List-Post: <mailto:test-report@dpdk.org>
List-Help: <mailto:test-report-request@dpdk.org?subject=help>
List-Subscribe: <https://mails.dpdk.org/listinfo/test-report>,
 <mailto:test-report-request@dpdk.org?subject=subscribe>
Errors-To: test-report-bounces@dpdk.org

Test-Label: iol-compile-arm64-testing
Test-Status: PENDING
http://dpdk.org/patch/142807

_Testing pending_

Submitter: hailinx <hailinx.xu@intel.com>
Date: Thursday, August 01 2024 08:19:02 
DPDK git baseline: Repo:dpdk
  Branch: master
  CommitID:3b017bdc4c25e2cd6733a9363e9c566b95834cc4

142807 --> testing pending

Upstream job id: Generic-DPDK-Compile-Meson#283251

Test environment and result as below:

+----------------------------------------+--------------------+
|              Environment               | dpdk_meson_compile |
+========================================+====================+
| RHEL9 (ARM)                            | PASS               |
+----------------------------------------+--------------------+
| Ubuntu 20.04 ARM GCC Cross Compile     | PEND               |
+----------------------------------------+--------------------+
| Ubuntu 20.04 ARM SVE                   | PASS               |
+----------------------------------------+--------------------+
| Debian 12 with MUSDK                   | PASS               |
+----------------------------------------+--------------------+
| Fedora 37 (ARM)                        | PASS               |
+----------------------------------------+--------------------+
| Fedora 38 (ARM)                        | PASS               |
+----------------------------------------+--------------------+
| Fedora 38 (ARM Clang)                  | PASS               |
+----------------------------------------+--------------------+
| Fedora 39 (ARM)                        | PASS               |
+----------------------------------------+--------------------+
| Fedora 39 (ARM Clang)                  | PASS               |
+----------------------------------------+--------------------+
| Fedora 40 (ARM)                        | PASS               |
+----------------------------------------+--------------------+
| Fedora 40 (ARM Clang)                  | PASS               |
+----------------------------------------+--------------------+
| Ubuntu 20.04 (ARM)                     | PASS               |
+----------------------------------------+--------------------+
| Ubuntu 22.04 (ARM)                     | PASS               |
+----------------------------------------+--------------------+
| Ubuntu 24.04 (ARM)                     | PASS               |
+----------------------------------------+--------------------+
| CentOS Stream 9 (ARM)                  | PASS               |
+----------------------------------------+--------------------+
| Debian 11 (Buster) (ARM)               | PASS               |
+----------------------------------------+--------------------+
| Debian 12 (arm)                        | PASS               |
+----------------------------------------+--------------------+
| Ubuntu 20.04 ARM Clang Cross Compile   | PEND               |
+----------------------------------------+--------------------+
| Ubuntu 20.04 aarch32 GCC Cross Compile | PASS               |
+----------------------------------------+--------------------+


RHEL9 (ARM)
	Kernel: Depends on container host
	Compiler: gcc 11.4.1

Ubuntu 20.04 ARM GCC Cross Compile
	Kernel: 5.4.0-167-generic
	Compiler: aarch64-linux-gnu-gcc (Ubuntu 9.4.0-1ubuntu1~20.04.2) 9.4.0

Ubuntu 20.04 ARM SVE
	Kernel: 5.4.0-167-generic
	Compiler: gcc (Ubuntu 10.5.0-1ubuntu1~20.04) 10.5.0

Debian 12 with MUSDK
	Kernel: Container Host Kernel
	Compiler: gcc 12.2.0

Fedora 37 (ARM)
	Kernel: Depends on container host
	Compiler: gcc 12.3.1

Fedora 38 (ARM)
	Kernel: Depends on container host
	Compiler: gcc 13.2.1

Fedora 38 (ARM Clang)
	Kernel: Depends on container host
	Compiler: clang 16.0.6

Fedora 39 (ARM)
	Kernel: Depends on container host
	Compiler: gcc 13.2.1

Fedora 39 (ARM Clang)
	Kernel: Depends on container host
	Compiler: clang 17.0.6

Fedora 40 (ARM)
	Kernel: Depends on container host
	Compiler: gcc 14.1.1

Fedora 40 (ARM Clang)
	Kernel: Depends on container host
	Compiler: clang 18.1.6

Ubuntu 20.04 (ARM)
	Kernel: Container Host Kernel
	Compiler: gcc 9.4.0

Ubuntu 22.04 (ARM)
	Kernel: Container Host Kernel
	Compiler: gcc 11.4.0

Ubuntu 24.04 (ARM)
	Kernel: 5.4.0-167-generic
	Compiler: gcc 13.2.0

CentOS Stream 9 (ARM)
	Kernel: Container Host Kernel
	Compiler: gcc 11.4.1

Debian 11 (Buster) (ARM)
	Kernel: Container Host Kernel
	Compiler: gcc 10.2.1

Debian 12 (arm)
	Kernel: Container Host Kernel
	Compiler: gcc 12.2.0

Ubuntu 20.04 ARM Clang Cross Compile
	Kernel: 5.4.0-72-generic
	Compiler: clang 10.0.0-4ubuntu1

Ubuntu 20.04 aarch32 GCC Cross Compile
	Kernel: 5.4.0-167-generic
	Compiler: gcc 9.4.0

To view detailed results, visit:
https://lab.dpdk.org/results/dashboard/patchsets/30690/

UNH-IOL DPDK Community Lab

To manage your email subscriptions, visit: 
https://lab.dpdk.org/results/dashboard/preferences/subscriptions/