From mboxrd@z Thu Jan  1 00:00:00 1970
Return-Path: <test-report-bounces@dpdk.org>
Received: from mails.dpdk.org (mails.dpdk.org [217.70.189.124])
	by inbox.dpdk.org (Postfix) with ESMTP id 2029E45713
	for <public@inbox.dpdk.org>; Fri,  2 Aug 2024 00:35:36 +0200 (CEST)
Received: from mails.dpdk.org (localhost [127.0.0.1])
	by mails.dpdk.org (Postfix) with ESMTP id 185C44029A;
	Fri,  2 Aug 2024 00:35:36 +0200 (CEST)
Received: from mail-qt1-f228.google.com (mail-qt1-f228.google.com
 [209.85.160.228])
 by mails.dpdk.org (Postfix) with ESMTP id E19AE400D6
 for <test-report@dpdk.org>; Fri,  2 Aug 2024 00:35:34 +0200 (CEST)
Received: by mail-qt1-f228.google.com with SMTP id
 d75a77b69052e-4503ccbc218so22911031cf.1
 for <test-report@dpdk.org>; Thu, 01 Aug 2024 15:35:34 -0700 (PDT)
DKIM-Signature: v=1; a=rsa-sha256; c=relaxed/relaxed;
 d=iol.unh.edu; s=unh-iol; t=1722551734; x=1723156534; darn=dpdk.org;
 h=references:in-reply-to:cc:to:from:subject:message-id:date:from:to
 :cc:subject:date:message-id:reply-to;
 bh=JGCmYt5liq/MN7HpiAQVsZ/i9C4pL7o0h3LwdLeJl2k=;
 b=WZrde7GffEu7tYVuXQ9DUH/CxsyR5vwnfHMCPRFU8ocVRWZl4llZ6kHllQYZtWaKzF
 bWjeTc9HzoK15yTI+9E8UXrXH2fF8jv6r+JZFk3ex1EN6eGvYDyIqUrNuyEfeSLmXFwn
 PpLK5nk9mN76Jqvoa9Faxh5FYup2CK9DHxUqo=
X-Google-DKIM-Signature: v=1; a=rsa-sha256; c=relaxed/relaxed;
 d=1e100.net; s=20230601; t=1722551734; x=1723156534;
 h=references:in-reply-to:cc:to:from:subject:message-id:date
 :x-gm-message-state:from:to:cc:subject:date:message-id:reply-to;
 bh=JGCmYt5liq/MN7HpiAQVsZ/i9C4pL7o0h3LwdLeJl2k=;
 b=TSQX5JOZeh8xRtV+oqjOf+qnMxAbGry+RDrUNg/+5aNsU9mt5M0vbrZ0rJlPTDIekt
 oP0yoSUMGtYN9Jmnq3+JkhvkGfCDZVEHorFZciSAQJw7+7tEmPAmEc5c1vMZ40dJ3mqt
 1wcyWr+iIhVDy/3J6GOx+NRZZz0c1AOcga7pvaSfbdtONGqYwrbNIqqck6gtQCHRr2rR
 U7bBZpSzBZMZ7+2umIdXZ7Zf596qtUoQ13OYDnV7NVAs74cfFv404g9VTsrqdQ61xvgU
 AkF23879kBBHTE9FAzpQMk6VDoPSM3FlcazYRGK6svwMOWpUoEsnKVBBmvGNeQ6vwDcy
 2t3w==
X-Gm-Message-State: AOJu0YzelgI6Xbf30XrziXGKVPbTqW9ZoaeYtFQnQsWxK2ZqlXkX3jBr
 7jtFvyHGZ/SW3rzvDW+TjQYO7vEtO0a/8p5bIKFTXIPvZqcM/J6Ae38uWtT6skXBNdJ0gVqTwqP
 iEm6W0o77Bgg2rCEQR2DMddCUSAtqmbxp6ajQGswH
X-Google-Smtp-Source: AGHT+IFaHL9mGPFjvG4Ufm0eVqSkuvXe/q/jVa6udeCOaL+z+msziXZTuGZmwfcxM35wOKURnIWrl2qNbD43
X-Received: by 2002:ac8:7d41:0:b0:446:5b56:989 with SMTP id
 d75a77b69052e-45189393decmr28566201cf.6.1722551733997; 
 Thu, 01 Aug 2024 15:35:33 -0700 (PDT)
Received: from postal.iol.unh.edu (postal.iol.unh.edu. [132.177.123.84])
 by smtp-relay.gmail.com with ESMTPS id
 d75a77b69052e-4518a6eab4bsm194361cf.8.2024.08.01.15.35.33
 (version=TLS1_2 cipher=ECDHE-ECDSA-AES128-GCM-SHA256 bits=128/128);
 Thu, 01 Aug 2024 15:35:33 -0700 (PDT)
X-Relaying-Domain: iol.unh.edu
Date: Thu, 01 Aug 2024 15:35:33 -0700 (PDT)
Message-ID: <66ac0db5.050a0220.29a926.1423SMTPIN_ADDED_MISSING@mx.google.com>
Received: from [172.21.0.6] (unknown [172.18.0.240])
 by postal.iol.unh.edu (Postfix) with ESMTP id B003A605C351;
 Thu,  1 Aug 2024 18:35:33 -0400 (EDT)
Subject: |PENDING| pw142841-142847 [PATCH] [v11,7/7] drivers: remove use of t
From: dpdklab@iol.unh.edu
To: Test Report <test-report@dpdk.org>
Cc: dpdk-test-reports@iol.unh.edu
In-Reply-To: <20240801154821.150443-8-stephen@networkplumber.org>
References: <20240801154821.150443-8-stephen@networkplumber.org>
Content-Type: text/plain
X-BeenThere: test-report@dpdk.org
X-Mailman-Version: 2.1.29
Precedence: list
List-Id: automatic DPDK test reports <test-report.dpdk.org>
List-Unsubscribe: <https://mails.dpdk.org/options/test-report>,
 <mailto:test-report-request@dpdk.org?subject=unsubscribe>
List-Archive: <http://mails.dpdk.org/archives/test-report/>
List-Post: <mailto:test-report@dpdk.org>
List-Help: <mailto:test-report-request@dpdk.org?subject=help>
List-Subscribe: <https://mails.dpdk.org/listinfo/test-report>,
 <mailto:test-report-request@dpdk.org?subject=subscribe>
Errors-To: test-report-bounces@dpdk.org

Test-Label: iol-unit-amd64-testing
Test-Status: PENDING
http://dpdk.org/patch/142847

_Testing pending_

Submitter: Stephen Hemminger <stephen@networkplumber.org>
Date: Thursday, August 01 2024 15:46:40 
DPDK git baseline: Repo:dpdk
  Branch: master
  CommitID:b3485f4293997d35b6daecc3437bb0c183a51fb3

142841-142847 --> testing pending

Upstream job id: Generic-Unit-Test-DPDK#247791

Test environment and result as below:

+---------------------+----------------+
|     Environment     | dpdk_unit_test |
+=====================+================+
| Windows Server 2019 | PASS           |
+---------------------+----------------+
| Windows Server 2022 | PASS           |
+---------------------+----------------+
| CentOS Stream 9     | PASS           |
+---------------------+----------------+
| Debian Bullseye     | PEND           |
+---------------------+----------------+
| Debian 12           | PASS           |
+---------------------+----------------+
| Fedora 37           | PASS           |
+---------------------+----------------+
| Fedora 38           | PEND           |
+---------------------+----------------+
| Fedora 39           | PEND           |
+---------------------+----------------+
| Fedora 39 (Clang)   | PEND           |
+---------------------+----------------+
| Fedora 40           | PEND           |
+---------------------+----------------+
| RHEL8               | PEND           |
+---------------------+----------------+
| Fedora 40 (Clang)   | PEND           |
+---------------------+----------------+
| openSUSE Leap 15    | PEND           |
+---------------------+----------------+
| RHEL9               | PEND           |
+---------------------+----------------+
| Ubuntu 20.04        | PEND           |
+---------------------+----------------+
| Ubuntu 22.04        | PEND           |
+---------------------+----------------+
| Ubuntu 24.04        | PEND           |
+---------------------+----------------+
| Fedora 38 (Clang)   | PEND           |
+---------------------+----------------+


Windows Server 2019
	Kernel: 10.0.17763
	Compiler: clang 14.0 and gcc 8.1.0 (MinGW)

Windows Server 2022
	Kernel: 10.0.20348.2031
	Compiler: clang 15.0.7, gcc 8.1.0 (MinGW), and MSVC VS 17.9

CentOS Stream 9
	Kernel: 5.4.0-167-generic
	Compiler: gcc 11.4.1 20230605

Debian Bullseye
	Kernel: 5.4.0-167-generic
	Compiler: gcc 10.2.1-6

Debian 12
	Kernel: Container Host Kernel
	Compiler: gcc 12.2.0

Fedora 37
	Kernel: Depends on container host system
	Compiler: gcc 12.3.1

Fedora 38
	Kernel: Depends on container host
	Compiler: gcc 13.2.1

Fedora 39
	Kernel: Depends on container host
	Compiler: gcc 13.2.1

Fedora 39 (Clang)
	Kernel: Depends on container host
	Compiler: clang 17.0.6

Fedora 40
	Kernel: Depends on container host
	Compiler: gcc 14.1.1

RHEL8
	Kernel: 5.4.0-167-generic
	Compiler: gcc 8.5.0 20210514 (Red Hat 8.5.0-20)

Fedora 40 (Clang)
	Kernel: Depends on container host
	Compiler: clang 18.1.6

openSUSE Leap 15
	Kernel: 5.4.0-167-generic
	Compiler: gcc 7.5.0

RHEL9
	Kernel: Depends on container host
	Compiler: gcc 11.4.1

Ubuntu 20.04
	Kernel: 5.4.0-167-generic
	Compiler: gcc 9.4.0-1ubuntu1~20.04.1

Ubuntu 22.04
	Kernel: 5.4.0-167-generic
	Compiler: gcc 11.4.0

Ubuntu 24.04
	Kernel: 5.4.0-167-generic
	Compiler: gcc 13.2.0

Fedora 38 (Clang)
	Kernel: Depends on container host
	Compiler: clang 16.0.6

To view detailed results, visit:
https://lab.dpdk.org/results/dashboard/patchsets/30700/

UNH-IOL DPDK Community Lab

To manage your email subscriptions, visit: 
https://lab.dpdk.org/results/dashboard/preferences/subscriptions/