From mboxrd@z Thu Jan  1 00:00:00 1970
Return-Path: <test-report-bounces@dpdk.org>
Received: from mails.dpdk.org (mails.dpdk.org [217.70.189.124])
	by inbox.dpdk.org (Postfix) with ESMTP id 0FBF145713
	for <public@inbox.dpdk.org>; Fri,  2 Aug 2024 01:05:44 +0200 (CEST)
Received: from mails.dpdk.org (localhost [127.0.0.1])
	by mails.dpdk.org (Postfix) with ESMTP id 0A1994029A;
	Fri,  2 Aug 2024 01:05:44 +0200 (CEST)
Received: from mail-oo1-f97.google.com (mail-oo1-f97.google.com
 [209.85.161.97]) by mails.dpdk.org (Postfix) with ESMTP id 8BEE2400D6
 for <test-report@dpdk.org>; Fri,  2 Aug 2024 01:05:42 +0200 (CEST)
Received: by mail-oo1-f97.google.com with SMTP id
 006d021491bc7-5d5ed6f51cfso3045465eaf.0
 for <test-report@dpdk.org>; Thu, 01 Aug 2024 16:05:42 -0700 (PDT)
DKIM-Signature: v=1; a=rsa-sha256; c=relaxed/relaxed;
 d=iol.unh.edu; s=unh-iol; t=1722553542; x=1723158342; darn=dpdk.org;
 h=references:in-reply-to:cc:to:from:subject:message-id:date:from:to
 :cc:subject:date:message-id:reply-to;
 bh=dY2Kt0U463vo67x1lPLs/lOWJdb7QIARsLOz4K+FiB0=;
 b=FdzGRskoaErEqvNdqv1yulzqS0s6Gb1/0mqJrsOQ1PYOXWJZ+NbI654Ew9A6rSCajW
 ng94OCTFtAIdr6Un02AE1cWi5qSrWplHiq//OWbg9ONQVQL6EHY9SvcywJgsTEPTk/1A
 fEwq4I4Cr3SGyMdep4x+rTPTJzWgbV8V1nnDk=
X-Google-DKIM-Signature: v=1; a=rsa-sha256; c=relaxed/relaxed;
 d=1e100.net; s=20230601; t=1722553542; x=1723158342;
 h=references:in-reply-to:cc:to:from:subject:message-id:date
 :x-gm-message-state:from:to:cc:subject:date:message-id:reply-to;
 bh=dY2Kt0U463vo67x1lPLs/lOWJdb7QIARsLOz4K+FiB0=;
 b=tJUg6nj7ZOLe5dJinLSlBRpaz0PeLTY+aj44bC0pKPTi+gJYI8AZQte7fVJ83KK1Nz
 DcD/LtDrIQ0txJzCWqEN90Z2fGdQhIvt8yTM+KcBgjecS6eypvb3Vylps8HI1TylEHjH
 BHvtC6Xt/NKedBx2XwpLd2C3njU7zKYEHgxGGj+8A0DNOMfbUo1yzUu+OSUIxyzKcWgB
 5b4KuxhUSEEd1J1FruMFWCYwHDmGaHaF+bg8LRPT6qhgEMCB6yMrN9biI5TF7xATmThv
 gmJhZcl/0C3s+hkRQQlI0GjptVq4F99uT38GoDsHspJa6p5A+opkUxieQm9fm1NQQFRg
 X7tg==
X-Gm-Message-State: AOJu0YwyVrxu1MXAuxbzAnjdnhBfAqc4clt5oWh9mM1VR6h4+ATlyyhb
 H4YJmMZk1Qc2aaZbxvGrQe/yYLDTzYCE2VDbaihhKdELmgvv95CWdYWEULn10TsWYo8uHu2oKe0
 YOCPTkEEMY7THkZxEVWLACTe8voFzNc15w0x+voJWkXbChTY67FTgJkXf
X-Google-Smtp-Source: AGHT+IGdhpbdk3/JvCNSbi3eJ/JAWAryRDocwInlktgwMPgr8UPqJ8YG1N3WWribC5rB+E2xS6drlQlV03HB
X-Received: by 2002:a05:6820:1b8b:b0:5c4:57b6:ffbf with SMTP id
 006d021491bc7-5d645617fb4mr2482191eaf.0.1722553541839; 
 Thu, 01 Aug 2024 16:05:41 -0700 (PDT)
Received: from postal.iol.unh.edu (postal.iol.unh.edu.
 [2606:4100:3880:1234::84]) by smtp-relay.gmail.com with ESMTPS id
 006d021491bc7-5d75718b035sm28208eaf.6.2024.08.01.16.05.41
 (version=TLS1_2 cipher=ECDHE-ECDSA-AES128-GCM-SHA256 bits=128/128);
 Thu, 01 Aug 2024 16:05:41 -0700 (PDT)
X-Relaying-Domain: iol.unh.edu
Date: Thu, 01 Aug 2024 16:05:41 -0700 (PDT)
Message-ID: <66ac14c5.4a0a0220.671a9.1d86SMTPIN_ADDED_MISSING@mx.google.com>
Received: from [172.21.0.7] (unknown [172.18.0.240])
 by postal.iol.unh.edu (Postfix) with ESMTP id 7055D605C351;
 Thu,  1 Aug 2024 19:05:41 -0400 (EDT)
Subject: |PENDING| pw142841-142847 [PATCH] [v11,7/7] drivers: remove use of t
From: dpdklab@iol.unh.edu
To: Test Report <test-report@dpdk.org>
Cc: dpdk-test-reports@iol.unh.edu
In-Reply-To: <20240801154821.150443-8-stephen@networkplumber.org>
References: <20240801154821.150443-8-stephen@networkplumber.org>
Content-Type: text/plain
X-BeenThere: test-report@dpdk.org
X-Mailman-Version: 2.1.29
Precedence: list
List-Id: automatic DPDK test reports <test-report.dpdk.org>
List-Unsubscribe: <https://mails.dpdk.org/options/test-report>,
 <mailto:test-report-request@dpdk.org?subject=unsubscribe>
List-Archive: <http://mails.dpdk.org/archives/test-report/>
List-Post: <mailto:test-report@dpdk.org>
List-Help: <mailto:test-report-request@dpdk.org?subject=help>
List-Subscribe: <https://mails.dpdk.org/listinfo/test-report>,
 <mailto:test-report-request@dpdk.org?subject=subscribe>
Errors-To: test-report-bounces@dpdk.org

Test-Label: iol-unit-amd64-testing
Test-Status: PENDING
http://dpdk.org/patch/142847

_Testing pending_

Submitter: Stephen Hemminger <stephen@networkplumber.org>
Date: Thursday, August 01 2024 15:46:40 
DPDK git baseline: Repo:dpdk
  Branch: master
  CommitID:b3485f4293997d35b6daecc3437bb0c183a51fb3

142841-142847 --> testing pending

Upstream job id: Generic-Unit-Test-DPDK#247801

Test environment and result as below:

+---------------------+----------------+
|     Environment     | dpdk_unit_test |
+=====================+================+
| Windows Server 2019 | PASS           |
+---------------------+----------------+
| Windows Server 2022 | PASS           |
+---------------------+----------------+
| CentOS Stream 9     | PASS           |
+---------------------+----------------+
| Debian Bullseye     | PASS           |
+---------------------+----------------+
| Debian 12           | PASS           |
+---------------------+----------------+
| Fedora 37           | PASS           |
+---------------------+----------------+
| Fedora 38           | PASS           |
+---------------------+----------------+
| Fedora 39           | PASS           |
+---------------------+----------------+
| Fedora 39 (Clang)   | PASS           |
+---------------------+----------------+
| Fedora 40           | PASS           |
+---------------------+----------------+
| RHEL8               | PASS           |
+---------------------+----------------+
| Fedora 40 (Clang)   | PASS           |
+---------------------+----------------+
| openSUSE Leap 15    | PASS           |
+---------------------+----------------+
| RHEL9               | PEND           |
+---------------------+----------------+
| Ubuntu 20.04        | PEND           |
+---------------------+----------------+
| Ubuntu 22.04        | PEND           |
+---------------------+----------------+
| Ubuntu 24.04        | PEND           |
+---------------------+----------------+
| Fedora 38 (Clang)   | PEND           |
+---------------------+----------------+


Windows Server 2019
	Kernel: 10.0.17763
	Compiler: clang 14.0 and gcc 8.1.0 (MinGW)

Windows Server 2022
	Kernel: 10.0.20348.2031
	Compiler: clang 15.0.7, gcc 8.1.0 (MinGW), and MSVC VS 17.9

CentOS Stream 9
	Kernel: 5.4.0-167-generic
	Compiler: gcc 11.4.1 20230605

Debian Bullseye
	Kernel: 5.4.0-167-generic
	Compiler: gcc 10.2.1-6

Debian 12
	Kernel: Container Host Kernel
	Compiler: gcc 12.2.0

Fedora 37
	Kernel: Depends on container host system
	Compiler: gcc 12.3.1

Fedora 38
	Kernel: Depends on container host
	Compiler: gcc 13.2.1

Fedora 39
	Kernel: Depends on container host
	Compiler: gcc 13.2.1

Fedora 39 (Clang)
	Kernel: Depends on container host
	Compiler: clang 17.0.6

Fedora 40
	Kernel: Depends on container host
	Compiler: gcc 14.1.1

RHEL8
	Kernel: 5.4.0-167-generic
	Compiler: gcc 8.5.0 20210514 (Red Hat 8.5.0-20)

Fedora 40 (Clang)
	Kernel: Depends on container host
	Compiler: clang 18.1.6

openSUSE Leap 15
	Kernel: 5.4.0-167-generic
	Compiler: gcc 7.5.0

RHEL9
	Kernel: Depends on container host
	Compiler: gcc 11.4.1

Ubuntu 20.04
	Kernel: 5.4.0-167-generic
	Compiler: gcc 9.4.0-1ubuntu1~20.04.1

Ubuntu 22.04
	Kernel: 5.4.0-167-generic
	Compiler: gcc 11.4.0

Ubuntu 24.04
	Kernel: 5.4.0-167-generic
	Compiler: gcc 13.2.0

Fedora 38 (Clang)
	Kernel: Depends on container host
	Compiler: clang 16.0.6

To view detailed results, visit:
https://lab.dpdk.org/results/dashboard/patchsets/30700/

UNH-IOL DPDK Community Lab

To manage your email subscriptions, visit: 
https://lab.dpdk.org/results/dashboard/preferences/subscriptions/