From mboxrd@z Thu Jan  1 00:00:00 1970
Return-Path: <test-report-bounces@dpdk.org>
Received: from mails.dpdk.org (mails.dpdk.org [217.70.189.124])
	by inbox.dpdk.org (Postfix) with ESMTP id 472DE45713
	for <public@inbox.dpdk.org>; Fri,  2 Aug 2024 01:20:05 +0200 (CEST)
Received: from mails.dpdk.org (localhost [127.0.0.1])
	by mails.dpdk.org (Postfix) with ESMTP id 402514029A;
	Fri,  2 Aug 2024 01:20:05 +0200 (CEST)
Received: from mail-qt1-f227.google.com (mail-qt1-f227.google.com
 [209.85.160.227])
 by mails.dpdk.org (Postfix) with ESMTP id EFB0D400D6
 for <test-report@dpdk.org>; Fri,  2 Aug 2024 01:20:03 +0200 (CEST)
Received: by mail-qt1-f227.google.com with SMTP id
 d75a77b69052e-44ff50affc5so42531381cf.1
 for <test-report@dpdk.org>; Thu, 01 Aug 2024 16:20:03 -0700 (PDT)
DKIM-Signature: v=1; a=rsa-sha256; c=relaxed/relaxed;
 d=iol.unh.edu; s=unh-iol; t=1722554403; x=1723159203; darn=dpdk.org;
 h=references:in-reply-to:cc:to:from:subject:message-id:date:from:to
 :cc:subject:date:message-id:reply-to;
 bh=X9tplCeM37hfU5ggnbTVjdf2pr2MjDangdAiXie9sak=;
 b=Rt6+HdN6AeYOqC/tFshAPDpwczWFZGx0vdAZHuZa27Eh+yFS/pi/G2QA9GYAJ/CPd8
 mzM1YqNhC4k6t6nXMXUb1YzHt3IWoVRhEQNfdCCXUbooSo8zezq2FCcGJkuJfvcrJSrm
 rp9YA9SLgvX7DHEOVbezd5e68gfoyDwL8swBI=
X-Google-DKIM-Signature: v=1; a=rsa-sha256; c=relaxed/relaxed;
 d=1e100.net; s=20230601; t=1722554403; x=1723159203;
 h=references:in-reply-to:cc:to:from:subject:message-id:date
 :x-gm-message-state:from:to:cc:subject:date:message-id:reply-to;
 bh=X9tplCeM37hfU5ggnbTVjdf2pr2MjDangdAiXie9sak=;
 b=A4wm0rDXHwibV8PB2O4z5lfs6EyRAhCsWftu5JQ0QkR1HuE/9z4UTEdXNgwVKNfcvC
 MI63Rg5T7U6Y16kgSpDl+uMeUSRIU13Fo5tyc+1AxaqS0Ctla5ehaPINIeMOmZqLbMQi
 kWB6CRm1OHS8wOp10d/L4QZJ0RZ6vD1ukVW0tT4IANcP/FnFWAa5gxKbBo7XB5JO3TeL
 Jnsxx07fNIfzhV7wJdr8uQV+0lhMIpOCI8BPVoM2Kq6VxeRLetqpflFjkCF1m33EF8HR
 DsfDTC8iXn7FEeA7bK6BZAbbFwz9J8E0aSzl1979ob7bzoKB2QaYNZYekCVmTQHP1Xsj
 B66w==
X-Gm-Message-State: AOJu0YxY8bxog2WNDA0zvtwuYEwUrWGb48NxbnJHZx4P4shJABbKWRmM
 ul3OiU/2l+jk3Rr8sN5vU71KzKtbdD5MFDHYo9ZmTC91Au/gvHPWWPMrIjihA8EeHyoynttRPMd
 43t2eS21D207al6qFK7jizHRVaXoKj+Nm63xJgv1UIuAkClff39KRx3kS
X-Google-Smtp-Source: AGHT+IHGbFfwXNzpOA32NlwUj4mtx7fD14PSyP4YRDnTi6VWCUaLyrpyDUXs8IpmLhSkXnqqCEP7dcbgv9N0
X-Received: by 2002:ac8:5742:0:b0:44f:ee55:4dd7 with SMTP id
 d75a77b69052e-45189327596mr15818101cf.55.1722554403277; 
 Thu, 01 Aug 2024 16:20:03 -0700 (PDT)
Received: from postal.iol.unh.edu (postal.iol.unh.edu.
 [2606:4100:3880:1234::84]) by smtp-relay.gmail.com with ESMTPS id
 d75a77b69052e-4518a6e8ffcsm230521cf.12.2024.08.01.16.20.03
 (version=TLS1_2 cipher=ECDHE-ECDSA-AES128-GCM-SHA256 bits=128/128);
 Thu, 01 Aug 2024 16:20:03 -0700 (PDT)
X-Relaying-Domain: iol.unh.edu
Date: Thu, 01 Aug 2024 16:20:03 -0700 (PDT)
Message-ID: <66ac1823.c80a0220.31ff7b.18ceSMTPIN_ADDED_MISSING@mx.google.com>
Received: from [172.21.0.8] (unknown [172.18.0.240])
 by postal.iol.unh.edu (Postfix) with ESMTP id 03E2F605C351;
 Thu,  1 Aug 2024 19:20:03 -0400 (EDT)
Subject: |PENDING| pw142841-142847 [PATCH] [v11,7/7] drivers: remove use of t
From: dpdklab@iol.unh.edu
To: Test Report <test-report@dpdk.org>
Cc: dpdk-test-reports@iol.unh.edu
In-Reply-To: <20240801154821.150443-8-stephen@networkplumber.org>
References: <20240801154821.150443-8-stephen@networkplumber.org>
Content-Type: text/plain
X-BeenThere: test-report@dpdk.org
X-Mailman-Version: 2.1.29
Precedence: list
List-Id: automatic DPDK test reports <test-report.dpdk.org>
List-Unsubscribe: <https://mails.dpdk.org/options/test-report>,
 <mailto:test-report-request@dpdk.org?subject=unsubscribe>
List-Archive: <http://mails.dpdk.org/archives/test-report/>
List-Post: <mailto:test-report@dpdk.org>
List-Help: <mailto:test-report-request@dpdk.org?subject=help>
List-Subscribe: <https://mails.dpdk.org/listinfo/test-report>,
 <mailto:test-report-request@dpdk.org?subject=subscribe>
Errors-To: test-report-bounces@dpdk.org

Test-Label: iol-unit-amd64-testing
Test-Status: PENDING
http://dpdk.org/patch/142847

_Testing pending_

Submitter: Stephen Hemminger <stephen@networkplumber.org>
Date: Thursday, August 01 2024 15:46:40 
DPDK git baseline: Repo:dpdk
  Branch: master
  CommitID:b3485f4293997d35b6daecc3437bb0c183a51fb3

142841-142847 --> testing pending

Upstream job id: Generic-Unit-Test-DPDK#247813

Test environment and result as below:

+---------------------+----------------+
|     Environment     | dpdk_unit_test |
+=====================+================+
| Windows Server 2019 | PASS           |
+---------------------+----------------+
| Windows Server 2022 | PASS           |
+---------------------+----------------+
| CentOS Stream 9     | PASS           |
+---------------------+----------------+
| Debian Bullseye     | PASS           |
+---------------------+----------------+
| Debian 12           | PASS           |
+---------------------+----------------+
| Fedora 37           | PASS           |
+---------------------+----------------+
| Fedora 38           | PASS           |
+---------------------+----------------+
| Fedora 39           | PASS           |
+---------------------+----------------+
| Fedora 39 (Clang)   | PASS           |
+---------------------+----------------+
| Fedora 40           | PASS           |
+---------------------+----------------+
| RHEL8               | PASS           |
+---------------------+----------------+
| Fedora 40 (Clang)   | PASS           |
+---------------------+----------------+
| openSUSE Leap 15    | PASS           |
+---------------------+----------------+
| RHEL9               | PASS           |
+---------------------+----------------+
| Ubuntu 20.04        | PASS           |
+---------------------+----------------+
| Ubuntu 22.04        | PASS           |
+---------------------+----------------+
| Ubuntu 24.04        | PASS           |
+---------------------+----------------+
| Fedora 38 (Clang)   | PEND           |
+---------------------+----------------+


Windows Server 2019
	Kernel: 10.0.17763
	Compiler: clang 14.0 and gcc 8.1.0 (MinGW)

Windows Server 2022
	Kernel: 10.0.20348.2031
	Compiler: clang 15.0.7, gcc 8.1.0 (MinGW), and MSVC VS 17.9

CentOS Stream 9
	Kernel: 5.4.0-167-generic
	Compiler: gcc 11.4.1 20230605

Debian Bullseye
	Kernel: 5.4.0-167-generic
	Compiler: gcc 10.2.1-6

Debian 12
	Kernel: Container Host Kernel
	Compiler: gcc 12.2.0

Fedora 37
	Kernel: Depends on container host system
	Compiler: gcc 12.3.1

Fedora 38
	Kernel: Depends on container host
	Compiler: gcc 13.2.1

Fedora 39
	Kernel: Depends on container host
	Compiler: gcc 13.2.1

Fedora 39 (Clang)
	Kernel: Depends on container host
	Compiler: clang 17.0.6

Fedora 40
	Kernel: Depends on container host
	Compiler: gcc 14.1.1

RHEL8
	Kernel: 5.4.0-167-generic
	Compiler: gcc 8.5.0 20210514 (Red Hat 8.5.0-20)

Fedora 40 (Clang)
	Kernel: Depends on container host
	Compiler: clang 18.1.6

openSUSE Leap 15
	Kernel: 5.4.0-167-generic
	Compiler: gcc 7.5.0

RHEL9
	Kernel: Depends on container host
	Compiler: gcc 11.4.1

Ubuntu 20.04
	Kernel: 5.4.0-167-generic
	Compiler: gcc 9.4.0-1ubuntu1~20.04.1

Ubuntu 22.04
	Kernel: 5.4.0-167-generic
	Compiler: gcc 11.4.0

Ubuntu 24.04
	Kernel: 5.4.0-167-generic
	Compiler: gcc 13.2.0

Fedora 38 (Clang)
	Kernel: Depends on container host
	Compiler: clang 16.0.6

To view detailed results, visit:
https://lab.dpdk.org/results/dashboard/patchsets/30700/

UNH-IOL DPDK Community Lab

To manage your email subscriptions, visit: 
https://lab.dpdk.org/results/dashboard/preferences/subscriptions/