From mboxrd@z Thu Jan  1 00:00:00 1970
Return-Path: <test-report-bounces@dpdk.org>
Received: from mails.dpdk.org (mails.dpdk.org [217.70.189.124])
	by inbox.dpdk.org (Postfix) with ESMTP id 2E94A45714
	for <public@inbox.dpdk.org>; Fri,  2 Aug 2024 03:09:18 +0200 (CEST)
Received: from mails.dpdk.org (localhost [127.0.0.1])
	by mails.dpdk.org (Postfix) with ESMTP id 27AE44029A;
	Fri,  2 Aug 2024 03:09:18 +0200 (CEST)
Received: from mail-oi1-f226.google.com (mail-oi1-f226.google.com
 [209.85.167.226])
 by mails.dpdk.org (Postfix) with ESMTP id 989B1400D6
 for <test-report@dpdk.org>; Fri,  2 Aug 2024 03:09:17 +0200 (CEST)
Received: by mail-oi1-f226.google.com with SMTP id
 5614622812f47-3db23a60850so4045064b6e.0
 for <test-report@dpdk.org>; Thu, 01 Aug 2024 18:09:17 -0700 (PDT)
DKIM-Signature: v=1; a=rsa-sha256; c=relaxed/relaxed;
 d=iol.unh.edu; s=unh-iol; t=1722560956; x=1723165756; darn=dpdk.org;
 h=references:in-reply-to:cc:to:from:subject:message-id:date:from:to
 :cc:subject:date:message-id:reply-to;
 bh=6OhqTVfoHuIPYwZFP4fqq0K8pPwLze91Moh6LwJgZ/o=;
 b=dfoSoJKeKzOHNSpYpDAuquyaVvKn9CAtOyawQSpbrGDoGT8auGfat6wjxnNXvoeRnd
 WFcZn8FRgMkH2CR6z4HG7Nm32yaQuh2p5EnoACzgYRY5O1wz9qR1dUDICP2J2qvhxsaJ
 jPvp4pi30PBWt3V3vmALc9AzHCQyVIdNnJYdU=
X-Google-DKIM-Signature: v=1; a=rsa-sha256; c=relaxed/relaxed;
 d=1e100.net; s=20230601; t=1722560956; x=1723165756;
 h=references:in-reply-to:cc:to:from:subject:message-id:date
 :x-gm-message-state:from:to:cc:subject:date:message-id:reply-to;
 bh=6OhqTVfoHuIPYwZFP4fqq0K8pPwLze91Moh6LwJgZ/o=;
 b=F6cP6GZ3/R28pGUodCsJ0wkIRi971k1jL7i7nVL7BroCs5Nc2CFCoKdeqQXbWWuEn7
 OG50oWxS4yqaIZdt1fBC78h6EfnSrluRqJFRYUDgyJjBQEyg3gljBM7XKOc65+U1tzwO
 Fjpc8Pt5ebOPFD4DkXcHB0s2yqmpkn/wh/SY/sEcf7L4iPmAyFDxb6FluBbGa3U1HgF7
 L/dLak/TsNYGKGtB/op/qmAXFRhh27iRL/qPjs2hF9kfD5weYe/CfdXsbVgJ0xB0C25E
 bfoM0wWSsQf1GiogWrxsHyWVhTsucOsCBXc747KXm+S9rrBFbNt1KJhyUYoRoHyipORZ
 S8NA==
X-Gm-Message-State: AOJu0YxOfLf7Xg1HJ08YN5d79EE8e8yzgMGpDgJAQFn+mXjoJQXvJff0
 /HhhTf3+trwnpykoQ4oQh+UA3JpbUQSenATu6Q5LyfbMemGiSdVU2fkKlQtdxeCWvaPc4+UqV3R
 z/BLO/6N0alfJfVv3ql/U8ZEtY3kSHRfYWzPhbbfv2ZSic4pycNNq373M
X-Google-Smtp-Source: AGHT+IGPto8TyruOaTC2p38IPINfprdu9tyaa7ImL2CMSXR4gUFEBZnNfDO+YVPcB5GeXYstZmfpgMcrC2Vl
X-Received: by 2002:a05:6871:5d4:b0:261:bca:4abc with SMTP id
 586e51a60fabf-26891f26c8dmr2486758fac.48.1722560956615; 
 Thu, 01 Aug 2024 18:09:16 -0700 (PDT)
Received: from postal.iol.unh.edu (postal.iol.unh.edu.
 [2606:4100:3880:1234::84]) by smtp-relay.gmail.com with ESMTPS id
 586e51a60fabf-2689a63b6b2sm17253fac.47.2024.08.01.18.09.16
 (version=TLS1_2 cipher=ECDHE-ECDSA-AES128-GCM-SHA256 bits=128/128);
 Thu, 01 Aug 2024 18:09:16 -0700 (PDT)
X-Relaying-Domain: iol.unh.edu
Date: Thu, 01 Aug 2024 18:09:16 -0700 (PDT)
Message-ID: <66ac31bc.050a0220.1d009b.139dSMTPIN_ADDED_MISSING@mx.google.com>
Received: from [172.21.0.6] (unknown [172.18.0.240])
 by postal.iol.unh.edu (Postfix) with ESMTP id 1F63F605C351;
 Thu,  1 Aug 2024 21:09:16 -0400 (EDT)
Subject: |PENDING| pw142838 [PATCH] examples/eventdev: fix segment fault with
From: dpdklab@iol.unh.edu
To: Test Report <test-report@dpdk.org>
Cc: dpdk-test-reports@iol.unh.edu
In-Reply-To: <20240801111120.5380-1-fengchengwen@huawei.com>
References: <20240801111120.5380-1-fengchengwen@huawei.com>
Content-Type: text/plain
X-BeenThere: test-report@dpdk.org
X-Mailman-Version: 2.1.29
Precedence: list
List-Id: automatic DPDK test reports <test-report.dpdk.org>
List-Unsubscribe: <https://mails.dpdk.org/options/test-report>,
 <mailto:test-report-request@dpdk.org?subject=unsubscribe>
List-Archive: <http://mails.dpdk.org/archives/test-report/>
List-Post: <mailto:test-report@dpdk.org>
List-Help: <mailto:test-report-request@dpdk.org?subject=help>
List-Subscribe: <https://mails.dpdk.org/listinfo/test-report>,
 <mailto:test-report-request@dpdk.org?subject=subscribe>
Errors-To: test-report-bounces@dpdk.org

Test-Label: iol-compile-arm64-testing
Test-Status: PENDING
http://dpdk.org/patch/142838

_Testing pending_

Submitter: Chengwen Feng <fengchengwen@huawei.com>
Date: Thursday, August 01 2024 11:11:20 
DPDK git baseline: Repo:dpdk
  Branch: master
  CommitID:fa8d2f7f28524a6c8defa3dcd94f5aa131aae084

142838 --> testing pending

Upstream job id: Generic-DPDK-Compile-Meson#283399

Test environment and result as below:

+----------------------------------------+--------------------+
|              Environment               | dpdk_meson_compile |
+========================================+====================+
| RHEL9 (ARM)                            | PASS               |
+----------------------------------------+--------------------+
| Ubuntu 20.04 ARM GCC Cross Compile     | PEND               |
+----------------------------------------+--------------------+
| Ubuntu 20.04 ARM SVE                   | PASS               |
+----------------------------------------+--------------------+
| Debian 12 with MUSDK                   | PASS               |
+----------------------------------------+--------------------+
| Fedora 37 (ARM)                        | PASS               |
+----------------------------------------+--------------------+
| Fedora 38 (ARM)                        | PASS               |
+----------------------------------------+--------------------+
| Fedora 38 (ARM Clang)                  | PEND               |
+----------------------------------------+--------------------+
| Fedora 39 (ARM)                        | PASS               |
+----------------------------------------+--------------------+
| Fedora 39 (ARM Clang)                  | PEND               |
+----------------------------------------+--------------------+
| Fedora 40 (ARM)                        | PASS               |
+----------------------------------------+--------------------+
| Fedora 40 (ARM Clang)                  | PEND               |
+----------------------------------------+--------------------+
| Ubuntu 20.04 (ARM)                     | PEND               |
+----------------------------------------+--------------------+
| Ubuntu 22.04 (ARM)                     | PASS               |
+----------------------------------------+--------------------+
| Ubuntu 24.04 (ARM)                     | PASS               |
+----------------------------------------+--------------------+
| CentOS Stream 9 (ARM)                  | PEND               |
+----------------------------------------+--------------------+
| Debian 11 (Buster) (ARM)               | PEND               |
+----------------------------------------+--------------------+
| Debian 12 (arm)                        | PEND               |
+----------------------------------------+--------------------+
| Ubuntu 20.04 ARM Clang Cross Compile   | PEND               |
+----------------------------------------+--------------------+
| Ubuntu 20.04 aarch32 GCC Cross Compile | PEND               |
+----------------------------------------+--------------------+


RHEL9 (ARM)
	Kernel: Depends on container host
	Compiler: gcc 11.4.1

Ubuntu 20.04 ARM GCC Cross Compile
	Kernel: 5.4.0-167-generic
	Compiler: aarch64-linux-gnu-gcc (Ubuntu 9.4.0-1ubuntu1~20.04.2) 9.4.0

Ubuntu 20.04 ARM SVE
	Kernel: 5.4.0-167-generic
	Compiler: gcc (Ubuntu 10.5.0-1ubuntu1~20.04) 10.5.0

Debian 12 with MUSDK
	Kernel: Container Host Kernel
	Compiler: gcc 12.2.0

Fedora 37 (ARM)
	Kernel: Depends on container host
	Compiler: gcc 12.3.1

Fedora 38 (ARM)
	Kernel: Depends on container host
	Compiler: gcc 13.2.1

Fedora 38 (ARM Clang)
	Kernel: Depends on container host
	Compiler: clang 16.0.6

Fedora 39 (ARM)
	Kernel: Depends on container host
	Compiler: gcc 13.2.1

Fedora 39 (ARM Clang)
	Kernel: Depends on container host
	Compiler: clang 17.0.6

Fedora 40 (ARM)
	Kernel: Depends on container host
	Compiler: gcc 14.1.1

Fedora 40 (ARM Clang)
	Kernel: Depends on container host
	Compiler: clang 18.1.6

Ubuntu 20.04 (ARM)
	Kernel: Container Host Kernel
	Compiler: gcc 9.4.0

Ubuntu 22.04 (ARM)
	Kernel: Container Host Kernel
	Compiler: gcc 11.4.0

Ubuntu 24.04 (ARM)
	Kernel: 5.4.0-167-generic
	Compiler: gcc 13.2.0

CentOS Stream 9 (ARM)
	Kernel: Container Host Kernel
	Compiler: gcc 11.4.1

Debian 11 (Buster) (ARM)
	Kernel: Container Host Kernel
	Compiler: gcc 10.2.1

Debian 12 (arm)
	Kernel: Container Host Kernel
	Compiler: gcc 12.2.0

Ubuntu 20.04 ARM Clang Cross Compile
	Kernel: 5.4.0-72-generic
	Compiler: clang 10.0.0-4ubuntu1

Ubuntu 20.04 aarch32 GCC Cross Compile
	Kernel: 5.4.0-167-generic
	Compiler: gcc 9.4.0

To view detailed results, visit:
https://lab.dpdk.org/results/dashboard/patchsets/30697/

UNH-IOL DPDK Community Lab

To manage your email subscriptions, visit: 
https://lab.dpdk.org/results/dashboard/preferences/subscriptions/