From mboxrd@z Thu Jan  1 00:00:00 1970
Return-Path: <test-report-bounces@dpdk.org>
Received: from mails.dpdk.org (mails.dpdk.org [217.70.189.124])
	by inbox.dpdk.org (Postfix) with ESMTP id BBC1F45705
	for <public@inbox.dpdk.org>; Fri,  2 Aug 2024 04:17:36 +0200 (CEST)
Received: from mails.dpdk.org (localhost [127.0.0.1])
	by mails.dpdk.org (Postfix) with ESMTP id B55754029A;
	Fri,  2 Aug 2024 04:17:36 +0200 (CEST)
Received: from mail-yw1-f225.google.com (mail-yw1-f225.google.com
 [209.85.128.225])
 by mails.dpdk.org (Postfix) with ESMTP id CACB1400D6
 for <test-report@dpdk.org>; Fri,  2 Aug 2024 04:17:35 +0200 (CEST)
Received: by mail-yw1-f225.google.com with SMTP id
 00721157ae682-6694b50a937so74624657b3.0
 for <test-report@dpdk.org>; Thu, 01 Aug 2024 19:17:35 -0700 (PDT)
DKIM-Signature: v=1; a=rsa-sha256; c=relaxed/relaxed;
 d=iol.unh.edu; s=unh-iol; t=1722565055; x=1723169855; darn=dpdk.org;
 h=references:in-reply-to:cc:to:from:subject:message-id:date:from:to
 :cc:subject:date:message-id:reply-to;
 bh=x2pNNfs1EbbOUIl4Ux2r+r9D4oDX2bYLhv7azMPlslQ=;
 b=KPCFp4OEMjH6eyW5N7808tH/zgT0PhEiJWAdgfn3ZGHX5tDE78CpbMamppRvd0LMd0
 nQ/wLlg/QSjinU+rb8h5bd6wg/V8XNhDqyQUNSrGXXpYE9tIGJRBPzBxqD6gh1U5lber
 zoupV1aNu5hqOxqbPbXqyT8e/zfpdsDHUGFHA=
X-Google-DKIM-Signature: v=1; a=rsa-sha256; c=relaxed/relaxed;
 d=1e100.net; s=20230601; t=1722565055; x=1723169855;
 h=references:in-reply-to:cc:to:from:subject:message-id:date
 :x-gm-message-state:from:to:cc:subject:date:message-id:reply-to;
 bh=x2pNNfs1EbbOUIl4Ux2r+r9D4oDX2bYLhv7azMPlslQ=;
 b=mO0bJVC3nkAKVt8BsxbEeah0lseKjAH+bSJHc2bu8q4RqhjwrlJFzi1ETH3yYArLGw
 irov8hFajl8nCEEnwArao3oGU07I58zDqKGROJYI3HTNW6nIiiiXEMQ1zomyzUbvLFaR
 HoYDHYh7s6wlJJVWHRr3HACCV+J3UgTXdPok+AWreYTTRia2FtHAexUHKB5ywpqXjS8w
 ZySqOrKoysuXg/ZRRRKQOAWeolsdk6O7IHHDR6CndwPITETSy9JKTsZILgByW/jEF1D4
 oPYqNoQ7Jmr00K7j8L/xH537FpU/iWbVh1raIRmw8vjpvpCv5C88xNi0/wosFW4EB2Kp
 kuxA==
X-Gm-Message-State: AOJu0Yymeascqrdn9pqHt98b3JpxCJxk0oFavRd2hIn5hbEB7PBq0fJI
 bIMdGD37fT3urUqnSg9omyptsplH9FsTOtdSkTLWbW3UUtxYsRjJjp1K9rqr6n8eQF49Vx/aI0K
 97ssw6C+v8EKlwYp6FS/C0pL3hziijyG+gAUiQA32
X-Google-Smtp-Source: AGHT+IFhVs01g1Fok10bj2dpwd083JxejqDtIkTSvHx6CerIuxkvo9Z9wS2ZWtmc9009XKHx2BNYypYQrCDC
X-Received: by 2002:a0d:ff81:0:b0:62f:aaaa:187a with SMTP id
 00721157ae682-689601ac034mr22991617b3.14.1722565055147; 
 Thu, 01 Aug 2024 19:17:35 -0700 (PDT)
Received: from postal.iol.unh.edu (postal.iol.unh.edu. [132.177.123.84])
 by smtp-relay.gmail.com with ESMTPS id
 00721157ae682-68a15c54834sm118517b3.62.2024.08.01.19.17.35
 (version=TLS1_2 cipher=ECDHE-ECDSA-AES128-GCM-SHA256 bits=128/128);
 Thu, 01 Aug 2024 19:17:35 -0700 (PDT)
X-Relaying-Domain: iol.unh.edu
Date: Thu, 01 Aug 2024 19:17:35 -0700 (PDT)
Message-ID: <66ac41bf.810a0220.d3643.0f61SMTPIN_ADDED_MISSING@mx.google.com>
Received: from [172.21.0.8] (unknown [172.18.0.240])
 by postal.iol.unh.edu (Postfix) with ESMTP id D74F9605C351;
 Thu,  1 Aug 2024 22:17:34 -0400 (EDT)
Subject: |PENDING| pw142821-142837 [PATCH] [17/17] net/dpaa: improve dpaa err
From: dpdklab@iol.unh.edu
To: Test Report <test-report@dpdk.org>
Cc: dpdk-test-reports@iol.unh.edu
In-Reply-To: <20240801105313.630280-18-hemant.agrawal@nxp.com>
References: <20240801105313.630280-18-hemant.agrawal@nxp.com>
Content-Type: text/plain
X-BeenThere: test-report@dpdk.org
X-Mailman-Version: 2.1.29
Precedence: list
List-Id: automatic DPDK test reports <test-report.dpdk.org>
List-Unsubscribe: <https://mails.dpdk.org/options/test-report>,
 <mailto:test-report-request@dpdk.org?subject=unsubscribe>
List-Archive: <http://mails.dpdk.org/archives/test-report/>
List-Post: <mailto:test-report@dpdk.org>
List-Help: <mailto:test-report-request@dpdk.org?subject=help>
List-Subscribe: <https://mails.dpdk.org/listinfo/test-report>,
 <mailto:test-report-request@dpdk.org?subject=subscribe>
Errors-To: test-report-bounces@dpdk.org

Test-Label: iol-unit-amd64-testing
Test-Status: PENDING
http://dpdk.org/patch/142837

_Testing pending_

Submitter: Hemant Agrawal <hemant.agrawal@nxp.com>
Date: Thursday, August 01 2024 10:53:13 
DPDK git baseline: Repo:dpdk
  Branch: master
  CommitID:37ce4c84c0f23c3989bc7ae19e03a4593cec94e5

142821-142837 --> testing pending

Upstream job id: Generic-Unit-Test-DPDK#247903

Test environment and result as below:

+---------------------+----------------+
|     Environment     | dpdk_unit_test |
+=====================+================+
| Windows Server 2019 | PASS           |
+---------------------+----------------+
| Windows Server 2022 | PASS           |
+---------------------+----------------+
| CentOS Stream 9     | PASS           |
+---------------------+----------------+
| Debian Bullseye     | PASS           |
+---------------------+----------------+
| Debian 12           | PASS           |
+---------------------+----------------+
| Fedora 37           | PASS           |
+---------------------+----------------+
| Fedora 38           | PASS           |
+---------------------+----------------+
| Fedora 38 (Clang)   | PASS           |
+---------------------+----------------+
| Fedora 39           | PASS           |
+---------------------+----------------+
| Fedora 39 (Clang)   | PASS           |
+---------------------+----------------+
| Fedora 40           | PASS           |
+---------------------+----------------+
| Fedora 40 (Clang)   | PASS           |
+---------------------+----------------+
| openSUSE Leap 15    | PASS           |
+---------------------+----------------+
| RHEL8               | PEND           |
+---------------------+----------------+
| RHEL9               | PASS           |
+---------------------+----------------+
| Ubuntu 20.04        | PEND           |
+---------------------+----------------+
| Ubuntu 22.04        | PEND           |
+---------------------+----------------+
| Ubuntu 24.04        | PEND           |
+---------------------+----------------+


Windows Server 2019
	Kernel: 10.0.17763
	Compiler: clang 14.0 and gcc 8.1.0 (MinGW)

Windows Server 2022
	Kernel: 10.0.20348.2031
	Compiler: clang 15.0.7, gcc 8.1.0 (MinGW), and MSVC VS 17.9

CentOS Stream 9
	Kernel: 5.4.0-167-generic
	Compiler: gcc 11.4.1 20230605

Debian Bullseye
	Kernel: 5.4.0-167-generic
	Compiler: gcc 10.2.1-6

Debian 12
	Kernel: Container Host Kernel
	Compiler: gcc 12.2.0

Fedora 37
	Kernel: Depends on container host system
	Compiler: gcc 12.3.1

Fedora 38
	Kernel: Depends on container host
	Compiler: gcc 13.2.1

Fedora 38 (Clang)
	Kernel: Depends on container host
	Compiler: clang 16.0.6

Fedora 39
	Kernel: Depends on container host
	Compiler: gcc 13.2.1

Fedora 39 (Clang)
	Kernel: Depends on container host
	Compiler: clang 17.0.6

Fedora 40
	Kernel: Depends on container host
	Compiler: gcc 14.1.1

Fedora 40 (Clang)
	Kernel: Depends on container host
	Compiler: clang 18.1.6

openSUSE Leap 15
	Kernel: 5.4.0-167-generic
	Compiler: gcc 7.5.0

RHEL8
	Kernel: 5.4.0-167-generic
	Compiler: gcc 8.5.0 20210514 (Red Hat 8.5.0-20)

RHEL9
	Kernel: Depends on container host
	Compiler: gcc 11.4.1

Ubuntu 20.04
	Kernel: 5.4.0-167-generic
	Compiler: gcc 9.4.0-1ubuntu1~20.04.1

Ubuntu 22.04
	Kernel: 5.4.0-167-generic
	Compiler: gcc 11.4.0

Ubuntu 24.04
	Kernel: 5.4.0-167-generic
	Compiler: gcc 13.2.0

To view detailed results, visit:
https://lab.dpdk.org/results/dashboard/patchsets/30696/

UNH-IOL DPDK Community Lab

To manage your email subscriptions, visit: 
https://lab.dpdk.org/results/dashboard/preferences/subscriptions/