From mboxrd@z Thu Jan  1 00:00:00 1970
Return-Path: <test-report-bounces@dpdk.org>
Received: from mails.dpdk.org (mails.dpdk.org [217.70.189.124])
	by inbox.dpdk.org (Postfix) with ESMTP id 2BB7945705
	for <public@inbox.dpdk.org>; Fri,  2 Aug 2024 04:38:34 +0200 (CEST)
Received: from mails.dpdk.org (localhost [127.0.0.1])
	by mails.dpdk.org (Postfix) with ESMTP id 272FC4029A;
	Fri,  2 Aug 2024 04:38:34 +0200 (CEST)
Received: from mail-ot1-f100.google.com (mail-ot1-f100.google.com
 [209.85.210.100])
 by mails.dpdk.org (Postfix) with ESMTP id 9D9C0400D6
 for <test-report@dpdk.org>; Fri,  2 Aug 2024 04:38:33 +0200 (CEST)
Received: by mail-ot1-f100.google.com with SMTP id
 46e09a7af769-7093ba310b0so3022033a34.2
 for <test-report@dpdk.org>; Thu, 01 Aug 2024 19:38:33 -0700 (PDT)
DKIM-Signature: v=1; a=rsa-sha256; c=relaxed/relaxed;
 d=iol.unh.edu; s=unh-iol; t=1722566313; x=1723171113; darn=dpdk.org;
 h=references:in-reply-to:cc:to:from:subject:message-id:date:from:to
 :cc:subject:date:message-id:reply-to;
 bh=87rRUiTjIXgcm4aPJwjqdkE90tCxMk1cJIblHdvltOY=;
 b=fmWNhTFBKvJWijpjzvunyvXpMXRq/3RZEts5C/82zHcGKDyepGWvC0+QylZjDVTn9k
 wDbTnOBHhdyyEA34f7c1BnYHepIiQoBl5tZLd+W8NynQKV8H0wzBRrcKAgLp3D9yLH3v
 MX6WPjBmUZ1y/oTHk/0HNz1AO9Ujkbr5j4vPg=
X-Google-DKIM-Signature: v=1; a=rsa-sha256; c=relaxed/relaxed;
 d=1e100.net; s=20230601; t=1722566313; x=1723171113;
 h=references:in-reply-to:cc:to:from:subject:message-id:date
 :x-gm-message-state:from:to:cc:subject:date:message-id:reply-to;
 bh=87rRUiTjIXgcm4aPJwjqdkE90tCxMk1cJIblHdvltOY=;
 b=utSnwJWXs7R4LGzwXlMrZ3C2ue1UCNemcNznrY8aIEXb6YnZF4WJdCCS83/OBY8k80
 6+yJswnfgaVOFjwLQPvY+jBRLb2Wry216z5DqURrXcuWMSMfwf+FGDpQa2vVKaqolBbw
 QZ5EFDwWvIR7cAIq/uR11K2s1mTVW3/KOj6XVKMaCq7IpodAbJMd96bRNFRxuI1+WWpl
 3oDnteyAwozv6AfrWUoUIeeozh0BzLdrIdNFy3bmKJHKX9rGepnQsEFQlti41EDZ78vP
 CT6UY6CmNU5NHOXVXSfbkEHRD3WwM6keq+a3h78yndndO7ZB5eGzCedeXapaVLqw2/ey
 u0dg==
X-Gm-Message-State: AOJu0YzhY5XxEYj2E34fLJ5Vn2ny6assZ0q5Dgwxm3CiXygQzGX2kr1m
 tUpY4B3nvuXFwpzu8ZsIa6bz4cFSNr86xV/TsZnUN6cvp8HgdHnGDC3L0l2Zr02780YbFSBNTqP
 AQgkDFax850oos0Bljd3bweqq67hl/R2L8z3aNXrQ
X-Google-Smtp-Source: AGHT+IGYeTsdsy9FSMoDJFyMgPBDrjZr/3Zd/oXM1Fe1rLfgVT0aoOiz+6kqGhH5+RxdO45tEXC51JSOWNQo
X-Received: by 2002:a05:6830:6f44:b0:703:5c2d:56a7 with SMTP id
 46e09a7af769-709b996e80bmr2341257a34.24.1722566312803; 
 Thu, 01 Aug 2024 19:38:32 -0700 (PDT)
Received: from postal.iol.unh.edu (postal.iol.unh.edu. [132.177.123.84])
 by smtp-relay.gmail.com with ESMTPS id
 46e09a7af769-70a1e43e309sm28241a34.0.2024.08.01.19.38.32
 (version=TLS1_2 cipher=ECDHE-ECDSA-AES128-GCM-SHA256 bits=128/128);
 Thu, 01 Aug 2024 19:38:32 -0700 (PDT)
X-Relaying-Domain: iol.unh.edu
Date: Thu, 01 Aug 2024 19:38:32 -0700 (PDT)
Message-ID: <66ac46a8.050a0220.55bd4.1d02SMTPIN_ADDED_MISSING@mx.google.com>
Received: from [172.21.0.7] (unknown [172.18.0.240])
 by postal.iol.unh.edu (Postfix) with ESMTP id 44F9D605C351;
 Thu,  1 Aug 2024 22:38:32 -0400 (EDT)
Subject: |SUCCESS| pw142821-142837 [PATCH] [17/17] net/dpaa: improve dpaa err
From: dpdklab@iol.unh.edu
To: Test Report <test-report@dpdk.org>
Cc: dpdk-test-reports@iol.unh.edu
In-Reply-To: <20240801105313.630280-18-hemant.agrawal@nxp.com>
References: <20240801105313.630280-18-hemant.agrawal@nxp.com>
Content-Type: text/plain
X-BeenThere: test-report@dpdk.org
X-Mailman-Version: 2.1.29
Precedence: list
List-Id: automatic DPDK test reports <test-report.dpdk.org>
List-Unsubscribe: <https://mails.dpdk.org/options/test-report>,
 <mailto:test-report-request@dpdk.org?subject=unsubscribe>
List-Archive: <http://mails.dpdk.org/archives/test-report/>
List-Post: <mailto:test-report@dpdk.org>
List-Help: <mailto:test-report-request@dpdk.org?subject=help>
List-Subscribe: <https://mails.dpdk.org/listinfo/test-report>,
 <mailto:test-report-request@dpdk.org?subject=subscribe>
Errors-To: test-report-bounces@dpdk.org

Test-Label: iol-unit-amd64-testing
Test-Status: SUCCESS
http://dpdk.org/patch/142837

_Testing PASS_

Submitter: Hemant Agrawal <hemant.agrawal@nxp.com>
Date: Thursday, August 01 2024 10:53:13 
DPDK git baseline: Repo:dpdk
  Branch: master
  CommitID:37ce4c84c0f23c3989bc7ae19e03a4593cec94e5

142821-142837 --> testing pass

Upstream job id: Generic-Unit-Test-DPDK#247909

Test environment and result as below:

+---------------------+----------------+
|     Environment     | dpdk_unit_test |
+=====================+================+
| Windows Server 2019 | PASS           |
+---------------------+----------------+
| Windows Server 2022 | PASS           |
+---------------------+----------------+
| CentOS Stream 9     | PASS           |
+---------------------+----------------+
| Debian Bullseye     | PASS           |
+---------------------+----------------+
| Debian 12           | PASS           |
+---------------------+----------------+
| Fedora 37           | PASS           |
+---------------------+----------------+
| Fedora 38           | PASS           |
+---------------------+----------------+
| Fedora 38 (Clang)   | PASS           |
+---------------------+----------------+
| Fedora 39           | PASS           |
+---------------------+----------------+
| Fedora 39 (Clang)   | PASS           |
+---------------------+----------------+
| Fedora 40           | PASS           |
+---------------------+----------------+
| Fedora 40 (Clang)   | PASS           |
+---------------------+----------------+
| openSUSE Leap 15    | PASS           |
+---------------------+----------------+
| RHEL8               | PASS           |
+---------------------+----------------+
| RHEL9               | PASS           |
+---------------------+----------------+
| Ubuntu 20.04        | PASS           |
+---------------------+----------------+
| Ubuntu 22.04        | PASS           |
+---------------------+----------------+
| Ubuntu 24.04        | PASS           |
+---------------------+----------------+


Windows Server 2019
	Kernel: 10.0.17763
	Compiler: clang 14.0 and gcc 8.1.0 (MinGW)

Windows Server 2022
	Kernel: 10.0.20348.2031
	Compiler: clang 15.0.7, gcc 8.1.0 (MinGW), and MSVC VS 17.9

CentOS Stream 9
	Kernel: 5.4.0-167-generic
	Compiler: gcc 11.4.1 20230605

Debian Bullseye
	Kernel: 5.4.0-167-generic
	Compiler: gcc 10.2.1-6

Debian 12
	Kernel: Container Host Kernel
	Compiler: gcc 12.2.0

Fedora 37
	Kernel: Depends on container host system
	Compiler: gcc 12.3.1

Fedora 38
	Kernel: Depends on container host
	Compiler: gcc 13.2.1

Fedora 38 (Clang)
	Kernel: Depends on container host
	Compiler: clang 16.0.6

Fedora 39
	Kernel: Depends on container host
	Compiler: gcc 13.2.1

Fedora 39 (Clang)
	Kernel: Depends on container host
	Compiler: clang 17.0.6

Fedora 40
	Kernel: Depends on container host
	Compiler: gcc 14.1.1

Fedora 40 (Clang)
	Kernel: Depends on container host
	Compiler: clang 18.1.6

openSUSE Leap 15
	Kernel: 5.4.0-167-generic
	Compiler: gcc 7.5.0

RHEL8
	Kernel: 5.4.0-167-generic
	Compiler: gcc 8.5.0 20210514 (Red Hat 8.5.0-20)

RHEL9
	Kernel: Depends on container host
	Compiler: gcc 11.4.1

Ubuntu 20.04
	Kernel: 5.4.0-167-generic
	Compiler: gcc 9.4.0-1ubuntu1~20.04.1

Ubuntu 22.04
	Kernel: 5.4.0-167-generic
	Compiler: gcc 11.4.0

Ubuntu 24.04
	Kernel: 5.4.0-167-generic
	Compiler: gcc 13.2.0

To view detailed results, visit:
https://lab.dpdk.org/results/dashboard/patchsets/30696/

UNH-IOL DPDK Community Lab

To manage your email subscriptions, visit: 
https://lab.dpdk.org/results/dashboard/preferences/subscriptions/