From mboxrd@z Thu Jan  1 00:00:00 1970
Return-Path: <test-report-bounces@dpdk.org>
Received: from mails.dpdk.org (mails.dpdk.org [217.70.189.124])
	by inbox.dpdk.org (Postfix) with ESMTP id EB62A45717
	for <public@inbox.dpdk.org>; Fri,  2 Aug 2024 04:59:11 +0200 (CEST)
Received: from mails.dpdk.org (localhost [127.0.0.1])
	by mails.dpdk.org (Postfix) with ESMTP id 8A9E04029A;
	Fri,  2 Aug 2024 04:59:11 +0200 (CEST)
Received: from mail-pl1-f228.google.com (mail-pl1-f228.google.com
 [209.85.214.228])
 by mails.dpdk.org (Postfix) with ESMTP id 700BB400D6
 for <test-report@dpdk.org>; Fri,  2 Aug 2024 04:59:09 +0200 (CEST)
Received: by mail-pl1-f228.google.com with SMTP id
 d9443c01a7336-1fb3b7d0d56so43568005ad.1
 for <test-report@dpdk.org>; Thu, 01 Aug 2024 19:59:09 -0700 (PDT)
DKIM-Signature: v=1; a=rsa-sha256; c=relaxed/relaxed;
 d=iol.unh.edu; s=unh-iol; t=1722567548; x=1723172348; darn=dpdk.org;
 h=references:in-reply-to:cc:to:from:subject:message-id:date:from:to
 :cc:subject:date:message-id:reply-to;
 bh=LAcybnKCiqY0Gu9PASUQAFOLe8PTtSCeVqbuaxcScQI=;
 b=WQ1WwW+ZOeitsRwh6Cg3LNsyFB0tS8We7ONlPgQdoLOYFoskbNe+WHxfAa1E6t5pwv
 wagyf5pDAX2HZHRqpNuE9+rqUu7kMSvwsHn2M6WgQdjXOceq7MR6pNByiHk2s+xmw7Ph
 TsC4LvOVFEzi83/tdFkSMbMHjqJPnTU2JxtD0=
X-Google-DKIM-Signature: v=1; a=rsa-sha256; c=relaxed/relaxed;
 d=1e100.net; s=20230601; t=1722567548; x=1723172348;
 h=references:in-reply-to:cc:to:from:subject:message-id:date
 :x-gm-message-state:from:to:cc:subject:date:message-id:reply-to;
 bh=LAcybnKCiqY0Gu9PASUQAFOLe8PTtSCeVqbuaxcScQI=;
 b=wjuW4hgaFgE0Pd5IQYKyaack7zoAdX1L98E9UNiuyTQIv8w4c9eD3Yh/P86KljE8ja
 ozock4FpnoqiohkJ/FP+RV5pulWhfMJYz0JAjtKrE7zfvzHdM1UB6SwMUllYD0plf2Fi
 ky8SEWZNe7W33ufZBXGUK5WS/h5l6gqvcYGSlNTPERVnI8WJOuGMT/v60ooBQiI7O2Di
 iM190r6Oac8sZNyVTKj9xTS5lsyEy2VarqNky32tov7Ahblh37Sxq4JO4YE0VOzkovxX
 tmVsLOIBq0SajHWCEo8PgcR5WGrmGASk6zzTsrY2lKCYA2WtcX+pGHVqrpI2UGAajrVo
 QBpw==
X-Gm-Message-State: AOJu0YzJUsEm+7KiNnuKVsBM33h9Mzp7BjXyFiMZixS1NJSuiQ24YPBb
 /bKR3MRAUktWnYwue0k791par1kS0EAdwFPZ+zmg8saJYjxCEe1r2Q0sjciX96kKp8iTD0yc7PL
 FDwaQcs5Lt57jBx/E4v0uoenubQeuFiBzyn47Q7xU
X-Google-Smtp-Source: AGHT+IFgdnpu3LrztqJfjwDfpZguGsPpaTb/0FuymTgHj7sNAGNWs1W2MH8oohNWIxVZVeC2uI+5ta2clXlW
X-Received: by 2002:a17:902:e9c4:b0:1fd:aa8d:acc2 with SMTP id
 d9443c01a7336-1ff573b4cd6mr22519615ad.37.1722567548581; 
 Thu, 01 Aug 2024 19:59:08 -0700 (PDT)
Received: from postal.iol.unh.edu (postal.iol.unh.edu. [132.177.123.84])
 by smtp-relay.gmail.com with ESMTPS id
 d9443c01a7336-1ff58f37740sm377685ad.5.2024.08.01.19.59.08
 (version=TLS1_2 cipher=ECDHE-ECDSA-AES128-GCM-SHA256 bits=128/128);
 Thu, 01 Aug 2024 19:59:08 -0700 (PDT)
X-Relaying-Domain: iol.unh.edu
Date: Thu, 01 Aug 2024 19:59:08 -0700 (PDT)
Message-ID: <66ac4b7c.170a0220.2b503.2ad6SMTPIN_ADDED_MISSING@mx.google.com>
Received: from [172.21.0.8] (unknown [172.18.0.240])
 by postal.iol.unh.edu (Postfix) with ESMTP id ADA88605C351;
 Thu,  1 Aug 2024 22:59:07 -0400 (EDT)
Subject: |PENDING| pw142821-142837 [PATCH] [17/17] net/dpaa: improve dpaa err
From: dpdklab@iol.unh.edu
To: Test Report <test-report@dpdk.org>
Cc: dpdk-test-reports@iol.unh.edu
In-Reply-To: <20240801105313.630280-18-hemant.agrawal@nxp.com>
References: <20240801105313.630280-18-hemant.agrawal@nxp.com>
Content-Type: text/plain
X-BeenThere: test-report@dpdk.org
X-Mailman-Version: 2.1.29
Precedence: list
List-Id: automatic DPDK test reports <test-report.dpdk.org>
List-Unsubscribe: <https://mails.dpdk.org/options/test-report>,
 <mailto:test-report-request@dpdk.org?subject=unsubscribe>
List-Archive: <http://mails.dpdk.org/archives/test-report/>
List-Post: <mailto:test-report@dpdk.org>
List-Help: <mailto:test-report-request@dpdk.org?subject=help>
List-Subscribe: <https://mails.dpdk.org/listinfo/test-report>,
 <mailto:test-report-request@dpdk.org?subject=subscribe>
Errors-To: test-report-bounces@dpdk.org

Test-Label: iol-compile-arm64-testing
Test-Status: PENDING
http://dpdk.org/patch/142837

_Testing pending_

Submitter: Hemant Agrawal <hemant.agrawal@nxp.com>
Date: Thursday, August 01 2024 10:53:13 
DPDK git baseline: Repo:dpdk
  Branch: master
  CommitID:37ce4c84c0f23c3989bc7ae19e03a4593cec94e5

142821-142837 --> testing pending

Upstream job id: Generic-DPDK-Compile-Meson#283431

Test environment and result as below:

+----------------------------------------+--------------------+
|              Environment               | dpdk_meson_compile |
+========================================+====================+
| RHEL9 (ARM)                            | PASS               |
+----------------------------------------+--------------------+
| Ubuntu 20.04 ARM GCC Cross Compile     | PEND               |
+----------------------------------------+--------------------+
| Ubuntu 20.04 ARM SVE                   | PASS               |
+----------------------------------------+--------------------+
| Debian 12 with MUSDK                   | PASS               |
+----------------------------------------+--------------------+
| Fedora 37 (ARM)                        | PASS               |
+----------------------------------------+--------------------+
| Fedora 38 (ARM)                        | PASS               |
+----------------------------------------+--------------------+
| Fedora 38 (ARM Clang)                  | PASS               |
+----------------------------------------+--------------------+
| Fedora 39 (ARM)                        | PASS               |
+----------------------------------------+--------------------+
| Fedora 39 (ARM Clang)                  | PASS               |
+----------------------------------------+--------------------+
| Fedora 40 (ARM)                        | PASS               |
+----------------------------------------+--------------------+
| Fedora 40 (ARM Clang)                  | PASS               |
+----------------------------------------+--------------------+
| Ubuntu 20.04 (ARM)                     | PASS               |
+----------------------------------------+--------------------+
| Ubuntu 22.04 (ARM)                     | PASS               |
+----------------------------------------+--------------------+
| Ubuntu 24.04 (ARM)                     | PASS               |
+----------------------------------------+--------------------+
| CentOS Stream 9 (ARM)                  | PASS               |
+----------------------------------------+--------------------+
| Debian 11 (Buster) (ARM)               | PASS               |
+----------------------------------------+--------------------+
| Debian 12 (arm)                        | PASS               |
+----------------------------------------+--------------------+
| Ubuntu 20.04 ARM Clang Cross Compile   | PEND               |
+----------------------------------------+--------------------+
| Ubuntu 20.04 aarch32 GCC Cross Compile | PEND               |
+----------------------------------------+--------------------+


RHEL9 (ARM)
	Kernel: Depends on container host
	Compiler: gcc 11.4.1

Ubuntu 20.04 ARM GCC Cross Compile
	Kernel: 5.4.0-167-generic
	Compiler: aarch64-linux-gnu-gcc (Ubuntu 9.4.0-1ubuntu1~20.04.2) 9.4.0

Ubuntu 20.04 ARM SVE
	Kernel: 5.4.0-167-generic
	Compiler: gcc (Ubuntu 10.5.0-1ubuntu1~20.04) 10.5.0

Debian 12 with MUSDK
	Kernel: Container Host Kernel
	Compiler: gcc 12.2.0

Fedora 37 (ARM)
	Kernel: Depends on container host
	Compiler: gcc 12.3.1

Fedora 38 (ARM)
	Kernel: Depends on container host
	Compiler: gcc 13.2.1

Fedora 38 (ARM Clang)
	Kernel: Depends on container host
	Compiler: clang 16.0.6

Fedora 39 (ARM)
	Kernel: Depends on container host
	Compiler: gcc 13.2.1

Fedora 39 (ARM Clang)
	Kernel: Depends on container host
	Compiler: clang 17.0.6

Fedora 40 (ARM)
	Kernel: Depends on container host
	Compiler: gcc 14.1.1

Fedora 40 (ARM Clang)
	Kernel: Depends on container host
	Compiler: clang 18.1.6

Ubuntu 20.04 (ARM)
	Kernel: Container Host Kernel
	Compiler: gcc 9.4.0

Ubuntu 22.04 (ARM)
	Kernel: Container Host Kernel
	Compiler: gcc 11.4.0

Ubuntu 24.04 (ARM)
	Kernel: 5.4.0-167-generic
	Compiler: gcc 13.2.0

CentOS Stream 9 (ARM)
	Kernel: Container Host Kernel
	Compiler: gcc 11.4.1

Debian 11 (Buster) (ARM)
	Kernel: Container Host Kernel
	Compiler: gcc 10.2.1

Debian 12 (arm)
	Kernel: Container Host Kernel
	Compiler: gcc 12.2.0

Ubuntu 20.04 ARM Clang Cross Compile
	Kernel: 5.4.0-72-generic
	Compiler: clang 10.0.0-4ubuntu1

Ubuntu 20.04 aarch32 GCC Cross Compile
	Kernel: 5.4.0-167-generic
	Compiler: gcc 9.4.0

To view detailed results, visit:
https://lab.dpdk.org/results/dashboard/patchsets/30696/

UNH-IOL DPDK Community Lab

To manage your email subscriptions, visit: 
https://lab.dpdk.org/results/dashboard/preferences/subscriptions/