From mboxrd@z Thu Jan  1 00:00:00 1970
Return-Path: <test-report-bounces@dpdk.org>
Received: from mails.dpdk.org (mails.dpdk.org [217.70.189.124])
	by inbox.dpdk.org (Postfix) with ESMTP id 9241945717
	for <public@inbox.dpdk.org>; Fri,  2 Aug 2024 05:24:19 +0200 (CEST)
Received: from mails.dpdk.org (localhost [127.0.0.1])
	by mails.dpdk.org (Postfix) with ESMTP id 8AABD4029A;
	Fri,  2 Aug 2024 05:24:19 +0200 (CEST)
Received: from mail-yw1-f226.google.com (mail-yw1-f226.google.com
 [209.85.128.226])
 by mails.dpdk.org (Postfix) with ESMTP id 782FF400D6
 for <test-report@dpdk.org>; Fri,  2 Aug 2024 05:24:18 +0200 (CEST)
Received: by mail-yw1-f226.google.com with SMTP id
 00721157ae682-654cf0a069eso60364047b3.1
 for <test-report@dpdk.org>; Thu, 01 Aug 2024 20:24:18 -0700 (PDT)
DKIM-Signature: v=1; a=rsa-sha256; c=relaxed/relaxed;
 d=iol.unh.edu; s=unh-iol; t=1722569058; x=1723173858; darn=dpdk.org;
 h=references:in-reply-to:cc:to:from:subject:message-id:date:from:to
 :cc:subject:date:message-id:reply-to;
 bh=p+x2X/Ncq24ZckebO/BX/mFjDyEdZ3nq5MV9kfiZnEY=;
 b=iYOj0tIP1bIGxhAstuBp9jJn3u4MEl+JZpEAcp/rcF0GckymKuTLDCEluV25YsnSbl
 yWdjtw/8n2iqow0DTu+Q1GhblTVKwoCG5hOonJqhqefYo9biWpYKy4Jp42pJdq5B52EK
 XNvTRc+hdwpUTblz0lgN+YFw6KkeZ7xjdBvac=
X-Google-DKIM-Signature: v=1; a=rsa-sha256; c=relaxed/relaxed;
 d=1e100.net; s=20230601; t=1722569058; x=1723173858;
 h=references:in-reply-to:cc:to:from:subject:message-id:date
 :x-gm-message-state:from:to:cc:subject:date:message-id:reply-to;
 bh=p+x2X/Ncq24ZckebO/BX/mFjDyEdZ3nq5MV9kfiZnEY=;
 b=xL0da7Em/S/4x3cjcFOaY/7HN73hNevnGcvcq5O1oKcOnV8tz1XrT5eJaUBz43XkCJ
 ffoDhzS09rqj+M8QWmAoYPNwufDZDj91Ug7cIHDL/CGDtIVaoYTRHPDXlNU/GoVls2dC
 BxMzu5WvTLb086FaS75Fa43heQvR5MAmrbUL/WsBkWXkAVwA+H+SmPjikA4V35uI/d3y
 8RoIngQIwsswtd0IY9EXdXQA+QVlGpiEy1FzfEjh2FcyQqhMj/nFeVyBSxkYKUyHPRx2
 4B84TuROldT6cOMz0KiU0pld3zmEkN2WPpTgwgzMyg/h+LKkQ/TNI0jorlPNwGvy/8CK
 l02A==
X-Gm-Message-State: AOJu0YwjXJuhvk6iMitLq4w1E9LRy2R2jvCN+PEtJazq7YXobthUWpm4
 phRfMOs0JSJPqqt2aHMOOym1o1jjdpjRW1xVG+HL2f9I1LUn1eN36xnLQW2pkDRnahicrkhvTC5
 iC97ch0+dzIu2UWn68QkSPLC2OEVq8R7zi9EQbIay
X-Google-Smtp-Source: AGHT+IGU4f/WD4uEnKmOPRmsicNx06fXzG0mRAJdoCH1abL6MEw9qcVpEHAW1/X9nlcDcjH0x/9c8J4v3/BG
X-Received: by 2002:a0d:e987:0:b0:650:672e:9c64 with SMTP id
 00721157ae682-689629826ffmr26333887b3.33.1722569057899; 
 Thu, 01 Aug 2024 20:24:17 -0700 (PDT)
Received: from postal.iol.unh.edu (postal.iol.unh.edu. [132.177.123.84])
 by smtp-relay.gmail.com with ESMTPS id
 00721157ae682-68a137b40a9sm346807b3.36.2024.08.01.20.24.17
 (version=TLS1_2 cipher=ECDHE-ECDSA-AES128-GCM-SHA256 bits=128/128);
 Thu, 01 Aug 2024 20:24:17 -0700 (PDT)
X-Relaying-Domain: iol.unh.edu
Date: Thu, 01 Aug 2024 20:24:17 -0700 (PDT)
Message-ID: <66ac5161.0d0a0220.154b1e.2b6dSMTPIN_ADDED_MISSING@mx.google.com>
Received: from [172.21.0.6] (unknown [172.18.0.240])
 by postal.iol.unh.edu (Postfix) with ESMTP id 83AF2605C351;
 Thu,  1 Aug 2024 23:24:17 -0400 (EDT)
Subject: |PENDING| pw142854-142857 [PATCH] [v5,4/4] test-pmd: add more packet
From: dpdklab@iol.unh.edu
To: Test Report <test-report@dpdk.org>
Cc: dpdk-test-reports@iol.unh.edu
In-Reply-To: <20240801190617.201574-5-stephen@networkplumber.org>
References: <20240801190617.201574-5-stephen@networkplumber.org>
Content-Type: text/plain
X-BeenThere: test-report@dpdk.org
X-Mailman-Version: 2.1.29
Precedence: list
List-Id: automatic DPDK test reports <test-report.dpdk.org>
List-Unsubscribe: <https://mails.dpdk.org/options/test-report>,
 <mailto:test-report-request@dpdk.org?subject=unsubscribe>
List-Archive: <http://mails.dpdk.org/archives/test-report/>
List-Post: <mailto:test-report@dpdk.org>
List-Help: <mailto:test-report-request@dpdk.org?subject=help>
List-Subscribe: <https://mails.dpdk.org/listinfo/test-report>,
 <mailto:test-report-request@dpdk.org?subject=subscribe>
Errors-To: test-report-bounces@dpdk.org

Test-Label: iol-unit-amd64-testing
Test-Status: PENDING
http://dpdk.org/patch/142857

_Testing pending_

Submitter: Stephen Hemminger <stephen@networkplumber.org>
Date: Thursday, August 01 2024 19:04:43 
DPDK git baseline: Repo:dpdk
  Branch: master
  CommitID:37ce4c84c0f23c3989bc7ae19e03a4593cec94e5

142854-142857 --> testing pending

Upstream job id: Generic-Unit-Test-DPDK#247955

Test environment and result as below:

+---------------------+----------------+
|     Environment     | dpdk_unit_test |
+=====================+================+
| Windows Server 2022 | PASS           |
+---------------------+----------------+
| Windows Server 2019 | PASS           |
+---------------------+----------------+
| CentOS Stream 9     | PASS           |
+---------------------+----------------+
| Debian Bullseye     | PASS           |
+---------------------+----------------+
| Debian 12           | PASS           |
+---------------------+----------------+
| Fedora 37           | PASS           |
+---------------------+----------------+
| Fedora 39 (Clang)   | PASS           |
+---------------------+----------------+
| Fedora 38 (Clang)   | PEND           |
+---------------------+----------------+
| Fedora 38           | PASS           |
+---------------------+----------------+
| Fedora 39           | PASS           |
+---------------------+----------------+
| Fedora 40           | PEND           |
+---------------------+----------------+
| RHEL9               | PEND           |
+---------------------+----------------+
| Fedora 40 (Clang)   | PEND           |
+---------------------+----------------+
| openSUSE Leap 15    | PEND           |
+---------------------+----------------+
| RHEL8               | PEND           |
+---------------------+----------------+
| Ubuntu 20.04        | PEND           |
+---------------------+----------------+
| Ubuntu 24.04        | PEND           |
+---------------------+----------------+
| Ubuntu 22.04        | PEND           |
+---------------------+----------------+


Windows Server 2022
	Kernel: 10.0.20348.2031
	Compiler: clang 15.0.7, gcc 8.1.0 (MinGW), and MSVC VS 17.9

Windows Server 2019
	Kernel: 10.0.17763
	Compiler: clang 14.0 and gcc 8.1.0 (MinGW)

CentOS Stream 9
	Kernel: 5.4.0-167-generic
	Compiler: gcc 11.4.1 20230605

Debian Bullseye
	Kernel: 5.4.0-167-generic
	Compiler: gcc 10.2.1-6

Debian 12
	Kernel: Container Host Kernel
	Compiler: gcc 12.2.0

Fedora 37
	Kernel: Depends on container host system
	Compiler: gcc 12.3.1

Fedora 39 (Clang)
	Kernel: Depends on container host
	Compiler: clang 17.0.6

Fedora 38 (Clang)
	Kernel: Depends on container host
	Compiler: clang 16.0.6

Fedora 38
	Kernel: Depends on container host
	Compiler: gcc 13.2.1

Fedora 39
	Kernel: Depends on container host
	Compiler: gcc 13.2.1

Fedora 40
	Kernel: Depends on container host
	Compiler: gcc 14.1.1

RHEL9
	Kernel: Depends on container host
	Compiler: gcc 11.4.1

Fedora 40 (Clang)
	Kernel: Depends on container host
	Compiler: clang 18.1.6

openSUSE Leap 15
	Kernel: 5.4.0-167-generic
	Compiler: gcc 7.5.0

RHEL8
	Kernel: 5.4.0-167-generic
	Compiler: gcc 8.5.0 20210514 (Red Hat 8.5.0-20)

Ubuntu 20.04
	Kernel: 5.4.0-167-generic
	Compiler: gcc 9.4.0-1ubuntu1~20.04.1

Ubuntu 24.04
	Kernel: 5.4.0-167-generic
	Compiler: gcc 13.2.0

Ubuntu 22.04
	Kernel: 5.4.0-167-generic
	Compiler: gcc 11.4.0

To view detailed results, visit:
https://lab.dpdk.org/results/dashboard/patchsets/30705/

UNH-IOL DPDK Community Lab

To manage your email subscriptions, visit: 
https://lab.dpdk.org/results/dashboard/preferences/subscriptions/