From mboxrd@z Thu Jan  1 00:00:00 1970
Return-Path: <test-report-bounces@dpdk.org>
Received: from mails.dpdk.org (mails.dpdk.org [217.70.189.124])
	by inbox.dpdk.org (Postfix) with ESMTP id 21A3145717
	for <public@inbox.dpdk.org>; Fri,  2 Aug 2024 05:42:04 +0200 (CEST)
Received: from mails.dpdk.org (localhost [127.0.0.1])
	by mails.dpdk.org (Postfix) with ESMTP id 1748B4029A;
	Fri,  2 Aug 2024 05:42:04 +0200 (CEST)
Received: from mail-pl1-f228.google.com (mail-pl1-f228.google.com
 [209.85.214.228])
 by mails.dpdk.org (Postfix) with ESMTP id 73569400D6
 for <test-report@dpdk.org>; Fri,  2 Aug 2024 05:42:02 +0200 (CEST)
Received: by mail-pl1-f228.google.com with SMTP id
 d9443c01a7336-1fc4fcbb131so67620595ad.3
 for <test-report@dpdk.org>; Thu, 01 Aug 2024 20:42:02 -0700 (PDT)
DKIM-Signature: v=1; a=rsa-sha256; c=relaxed/relaxed;
 d=iol.unh.edu; s=unh-iol; t=1722570121; x=1723174921; darn=dpdk.org;
 h=references:in-reply-to:cc:to:from:subject:message-id:date:from:to
 :cc:subject:date:message-id:reply-to;
 bh=d5by5biHoLbQ9KDv2pjVLDFpAa/NtS74xJJrntAkHRs=;
 b=LXoX3KmDoaNC/v3Gm5LrIOTnCoUWONJjGMLTDz8ztpiLFAFhZ899a8XpCsWszb74QT
 GHwwBtgfvxnC1ElxamBVcLXZ4La0WraEVIEDBaNH8rQ2msaQq0scrakFaLNEsj1Jd2oA
 em2oDI81IKGkzqI+uMXJGd4CgflOA6Y+yYPrE=
X-Google-DKIM-Signature: v=1; a=rsa-sha256; c=relaxed/relaxed;
 d=1e100.net; s=20230601; t=1722570121; x=1723174921;
 h=references:in-reply-to:cc:to:from:subject:message-id:date
 :x-gm-message-state:from:to:cc:subject:date:message-id:reply-to;
 bh=d5by5biHoLbQ9KDv2pjVLDFpAa/NtS74xJJrntAkHRs=;
 b=WtizGg64K0K7SJQB1ebYNjXbtLkTJUMXMi90Facnh7vZjERnKfZ8FCkAuLBVxzlk0l
 Rz/BvnFu0ntvn1R8/dy/0uQ9mXKnhT68pzJ7oTp5gLiGu0bHmQ32L2UDgeccT4u5oWNk
 Yv2YGzx7BvD7BG1u68O6F6k3MMfvi+Mw7WhHd+cjzZaPj8wdrDpqyDqkofGT8DXou6Px
 LDaZ9c8jjv/Dkj0zTqMf8/dQHef+iFC89pG/Bl/HdFX2YEnfBkCY31kvxo1qi93AyEfo
 ttAXwKwHO6tTP2asc8Hf787QlYPs2NMQDJ/Xmm3MQX8aPyMSq4wMChOEwmOn8pjeQ8gj
 OXAA==
X-Gm-Message-State: AOJu0Yy8op+fK+qosS8AJfX70LHnbZLrk7vZ5zLKdSP7itJx84t6AQAr
 Z6T2OTCLRzKBSbhdTb5ts67rfa8fA0rZihvdnRgYZJzM1Ps+pYhL5NYNzqWljtuVEmRuLPuqjJQ
 F2tMJwHKmsmwwL9/FkhbH1TTXK844nNQQ/9UqJbLtLQr3R4PPZPVKfG3v
X-Google-Smtp-Source: AGHT+IFkR8A/d0gmw2q9aMieRMQCBpqX5K3l5U3Bun4ibAfUC/JsYWGf1/TrS0Ynu6lbG2P2A07NzySbcmwV
X-Received: by 2002:a17:902:ec89:b0:1fa:ab25:f625 with SMTP id
 d9443c01a7336-1ff572d3be8mr27943745ad.38.1722570121602; 
 Thu, 01 Aug 2024 20:42:01 -0700 (PDT)
Received: from postal.iol.unh.edu (postal.iol.unh.edu.
 [2606:4100:3880:1234::84]) by smtp-relay.gmail.com with ESMTPS id
 d9443c01a7336-1ff5929406fsm395685ad.138.2024.08.01.20.42.01
 (version=TLS1_2 cipher=ECDHE-ECDSA-AES128-GCM-SHA256 bits=128/128);
 Thu, 01 Aug 2024 20:42:01 -0700 (PDT)
X-Relaying-Domain: iol.unh.edu
Date: Thu, 01 Aug 2024 20:42:01 -0700 (PDT)
Message-ID: <66ac5589.170a0220.1310ed.2ec3SMTPIN_ADDED_MISSING@mx.google.com>
Received: from [172.21.0.10] (unknown [172.18.0.240])
 by postal.iol.unh.edu (Postfix) with ESMTP id B3D61605C351;
 Thu,  1 Aug 2024 23:42:00 -0400 (EDT)
Subject: |PENDING| pw142854-142857 [PATCH] [v5,4/4] test-pmd: add more packet
From: dpdklab@iol.unh.edu
To: Test Report <test-report@dpdk.org>
Cc: dpdk-test-reports@iol.unh.edu
In-Reply-To: <20240801190617.201574-5-stephen@networkplumber.org>
References: <20240801190617.201574-5-stephen@networkplumber.org>
Content-Type: text/plain
X-BeenThere: test-report@dpdk.org
X-Mailman-Version: 2.1.29
Precedence: list
List-Id: automatic DPDK test reports <test-report.dpdk.org>
List-Unsubscribe: <https://mails.dpdk.org/options/test-report>,
 <mailto:test-report-request@dpdk.org?subject=unsubscribe>
List-Archive: <http://mails.dpdk.org/archives/test-report/>
List-Post: <mailto:test-report@dpdk.org>
List-Help: <mailto:test-report-request@dpdk.org?subject=help>
List-Subscribe: <https://mails.dpdk.org/listinfo/test-report>,
 <mailto:test-report-request@dpdk.org?subject=subscribe>
Errors-To: test-report-bounces@dpdk.org

Test-Label: iol-unit-amd64-testing
Test-Status: PENDING
http://dpdk.org/patch/142857

_Testing pending_

Submitter: Stephen Hemminger <stephen@networkplumber.org>
Date: Thursday, August 01 2024 19:04:43 
DPDK git baseline: Repo:dpdk
  Branch: master
  CommitID:37ce4c84c0f23c3989bc7ae19e03a4593cec94e5

142854-142857 --> testing pending

Upstream job id: Generic-Unit-Test-DPDK#247967

Test environment and result as below:

+---------------------+----------------+
|     Environment     | dpdk_unit_test |
+=====================+================+
| Windows Server 2022 | PASS           |
+---------------------+----------------+
| Windows Server 2019 | PASS           |
+---------------------+----------------+
| CentOS Stream 9     | PASS           |
+---------------------+----------------+
| Debian Bullseye     | PASS           |
+---------------------+----------------+
| Debian 12           | PASS           |
+---------------------+----------------+
| Fedora 37           | PASS           |
+---------------------+----------------+
| Fedora 39 (Clang)   | PASS           |
+---------------------+----------------+
| Fedora 38 (Clang)   | PASS           |
+---------------------+----------------+
| Fedora 38           | PASS           |
+---------------------+----------------+
| Fedora 39           | PASS           |
+---------------------+----------------+
| Fedora 40           | PASS           |
+---------------------+----------------+
| RHEL9               | PASS           |
+---------------------+----------------+
| Fedora 40 (Clang)   | PASS           |
+---------------------+----------------+
| openSUSE Leap 15    | PASS           |
+---------------------+----------------+
| RHEL8               | PASS           |
+---------------------+----------------+
| Ubuntu 20.04        | PASS           |
+---------------------+----------------+
| Ubuntu 24.04        | PASS           |
+---------------------+----------------+
| Ubuntu 22.04        | PEND           |
+---------------------+----------------+


Windows Server 2022
	Kernel: 10.0.20348.2031
	Compiler: clang 15.0.7, gcc 8.1.0 (MinGW), and MSVC VS 17.9

Windows Server 2019
	Kernel: 10.0.17763
	Compiler: clang 14.0 and gcc 8.1.0 (MinGW)

CentOS Stream 9
	Kernel: 5.4.0-167-generic
	Compiler: gcc 11.4.1 20230605

Debian Bullseye
	Kernel: 5.4.0-167-generic
	Compiler: gcc 10.2.1-6

Debian 12
	Kernel: Container Host Kernel
	Compiler: gcc 12.2.0

Fedora 37
	Kernel: Depends on container host system
	Compiler: gcc 12.3.1

Fedora 39 (Clang)
	Kernel: Depends on container host
	Compiler: clang 17.0.6

Fedora 38 (Clang)
	Kernel: Depends on container host
	Compiler: clang 16.0.6

Fedora 38
	Kernel: Depends on container host
	Compiler: gcc 13.2.1

Fedora 39
	Kernel: Depends on container host
	Compiler: gcc 13.2.1

Fedora 40
	Kernel: Depends on container host
	Compiler: gcc 14.1.1

RHEL9
	Kernel: Depends on container host
	Compiler: gcc 11.4.1

Fedora 40 (Clang)
	Kernel: Depends on container host
	Compiler: clang 18.1.6

openSUSE Leap 15
	Kernel: 5.4.0-167-generic
	Compiler: gcc 7.5.0

RHEL8
	Kernel: 5.4.0-167-generic
	Compiler: gcc 8.5.0 20210514 (Red Hat 8.5.0-20)

Ubuntu 20.04
	Kernel: 5.4.0-167-generic
	Compiler: gcc 9.4.0-1ubuntu1~20.04.1

Ubuntu 24.04
	Kernel: 5.4.0-167-generic
	Compiler: gcc 13.2.0

Ubuntu 22.04
	Kernel: 5.4.0-167-generic
	Compiler: gcc 11.4.0

To view detailed results, visit:
https://lab.dpdk.org/results/dashboard/patchsets/30705/

UNH-IOL DPDK Community Lab

To manage your email subscriptions, visit: 
https://lab.dpdk.org/results/dashboard/preferences/subscriptions/