From mboxrd@z Thu Jan  1 00:00:00 1970
Return-Path: <test-report-bounces@dpdk.org>
Received: from mails.dpdk.org (mails.dpdk.org [217.70.189.124])
	by inbox.dpdk.org (Postfix) with ESMTP id DB09A45718
	for <public@inbox.dpdk.org>; Fri,  2 Aug 2024 06:01:09 +0200 (CEST)
Received: from mails.dpdk.org (localhost [127.0.0.1])
	by mails.dpdk.org (Postfix) with ESMTP id D06404029A;
	Fri,  2 Aug 2024 06:01:09 +0200 (CEST)
Received: from mail-yw1-f225.google.com (mail-yw1-f225.google.com
 [209.85.128.225])
 by mails.dpdk.org (Postfix) with ESMTP id 27E74400D6
 for <test-report@dpdk.org>; Fri,  2 Aug 2024 06:01:08 +0200 (CEST)
Received: by mail-yw1-f225.google.com with SMTP id
 00721157ae682-664b4589b1aso23030607b3.1
 for <test-report@dpdk.org>; Thu, 01 Aug 2024 21:01:08 -0700 (PDT)
DKIM-Signature: v=1; a=rsa-sha256; c=relaxed/relaxed;
 d=iol.unh.edu; s=unh-iol; t=1722571267; x=1723176067; darn=dpdk.org;
 h=references:in-reply-to:cc:to:from:subject:message-id:date:from:to
 :cc:subject:date:message-id:reply-to;
 bh=GfbsIW+s0gnhCy394HkI5gxrIIQYXArM1tWm6BEkpPk=;
 b=GioftQkhqRmmN+WUOf07qpYEhMgdC7PPJbzzam3XrCCP1yqmx9Z9Sn1LRGgz43+nIa
 Q0nrt8G64ka1bNvuf6R5RxHm9BAx6yiCG/HIykZkgzf3/SBbj3eS/oZ2x1+M8Sl//5Sq
 3486TTq4bq+rGiCkXlJK8ZV1dKhc1KKeV3L6E=
X-Google-DKIM-Signature: v=1; a=rsa-sha256; c=relaxed/relaxed;
 d=1e100.net; s=20230601; t=1722571267; x=1723176067;
 h=references:in-reply-to:cc:to:from:subject:message-id:date
 :x-gm-message-state:from:to:cc:subject:date:message-id:reply-to;
 bh=GfbsIW+s0gnhCy394HkI5gxrIIQYXArM1tWm6BEkpPk=;
 b=HD6/bSfbc/ccpwgzMbaYnylOuWPQiycIn0f382PB4ZS6IJHC/JDvj3P56dvx1nQXs7
 stB2pe3Zx/Ax3kVcvpE/FDEKnq1RaY8r5NR1OQxDrhZTm4orddOaa10IYtGXGgpHgDQb
 FkpYdlLF9CUafh2SUu2rkhJrzfzbZcbOOxdtDZLNgsAATBjr4U7c8aZgwKujP2FVgqdr
 rmCzl5ILliuxrsm2WKF2NYeu2vV0D3lWcQYmMy0nD4hIo5tfdHtZHdpUbVty653hK7SC
 HPk1XRE/rIBfzSM0xcLdbryfwJZQlefxeOqB6WNAEW4EPi6W919/0XwnXQpj6iPqrki1
 uv5w==
X-Gm-Message-State: AOJu0YwFqI5uqmeFgRqdkIB16uLT695GIsh21Fh/wteHXOvZ6vttRgGX
 MoDuf6iHMUY705tBReeVwm3mr4MhwF/U1QGy2fLKilX6/sj5X4nwwGE87ccZw9ZmB2UWwlBHYmJ
 Iaqwal15X8X1IZVsc6Si/fXNL0w7bPUPFLjXDnHKlqV+QYWBf7hruBBsK
X-Google-Smtp-Source: AGHT+IHSLND++nipgzPt4cw1S5N9g85h3i+7j0GnozI2wPXkIELEZhHzN/Ojm/PyFdsToR3ozQOwSoOy40ae
X-Received: by 2002:a81:5b42:0:b0:664:a47e:8a5 with SMTP id
 00721157ae682-688555d4fccmr28945357b3.23.1722571267499; 
 Thu, 01 Aug 2024 21:01:07 -0700 (PDT)
Received: from postal.iol.unh.edu (postal.iol.unh.edu.
 [2606:4100:3880:1234::84]) by smtp-relay.gmail.com with ESMTPS id
 00721157ae682-68a166e6f58sm392837b3.67.2024.08.01.21.01.07
 (version=TLS1_2 cipher=ECDHE-ECDSA-AES128-GCM-SHA256 bits=128/128);
 Thu, 01 Aug 2024 21:01:07 -0700 (PDT)
X-Relaying-Domain: iol.unh.edu
Date: Thu, 01 Aug 2024 21:01:07 -0700 (PDT)
Message-ID: <66ac5a03.0d0a0220.1e468a.2f75SMTPIN_ADDED_MISSING@mx.google.com>
Received: from [172.21.0.8] (unknown [172.18.0.240])
 by postal.iol.unh.edu (Postfix) with ESMTP id 2C808605C351;
 Fri,  2 Aug 2024 00:01:07 -0400 (EDT)
Subject: |PENDING| pw142854-142857 [PATCH] [v5,4/4] test-pmd: add more packet
From: dpdklab@iol.unh.edu
To: Test Report <test-report@dpdk.org>
Cc: dpdk-test-reports@iol.unh.edu
In-Reply-To: <20240801190617.201574-5-stephen@networkplumber.org>
References: <20240801190617.201574-5-stephen@networkplumber.org>
Content-Type: text/plain
X-BeenThere: test-report@dpdk.org
X-Mailman-Version: 2.1.29
Precedence: list
List-Id: automatic DPDK test reports <test-report.dpdk.org>
List-Unsubscribe: <https://mails.dpdk.org/options/test-report>,
 <mailto:test-report-request@dpdk.org?subject=unsubscribe>
List-Archive: <http://mails.dpdk.org/archives/test-report/>
List-Post: <mailto:test-report@dpdk.org>
List-Help: <mailto:test-report-request@dpdk.org?subject=help>
List-Subscribe: <https://mails.dpdk.org/listinfo/test-report>,
 <mailto:test-report-request@dpdk.org?subject=subscribe>
Errors-To: test-report-bounces@dpdk.org

Test-Label: iol-compile-arm64-testing
Test-Status: PENDING
http://dpdk.org/patch/142857

_Testing pending_

Submitter: Stephen Hemminger <stephen@networkplumber.org>
Date: Thursday, August 01 2024 19:04:43 
DPDK git baseline: Repo:dpdk
  Branch: master
  CommitID:37ce4c84c0f23c3989bc7ae19e03a4593cec94e5

142854-142857 --> testing pending

Upstream job id: Generic-DPDK-Compile-Meson#283505

Test environment and result as below:

+----------------------------------------+--------------------+
|              Environment               | dpdk_meson_compile |
+========================================+====================+
| RHEL9 (ARM)                            | PASS               |
+----------------------------------------+--------------------+
| Ubuntu 20.04 ARM GCC Cross Compile     | PEND               |
+----------------------------------------+--------------------+
| Ubuntu 20.04 ARM SVE                   | PASS               |
+----------------------------------------+--------------------+
| Debian 12 with MUSDK                   | PASS               |
+----------------------------------------+--------------------+
| Fedora 37 (ARM)                        | PASS               |
+----------------------------------------+--------------------+
| Fedora 38 (ARM)                        | PASS               |
+----------------------------------------+--------------------+
| Fedora 38 (ARM Clang)                  | PEND               |
+----------------------------------------+--------------------+
| Fedora 39 (ARM)                        | PASS               |
+----------------------------------------+--------------------+
| Fedora 39 (ARM Clang)                  | PEND               |
+----------------------------------------+--------------------+
| Fedora 40 (ARM)                        | PASS               |
+----------------------------------------+--------------------+
| Fedora 40 (ARM Clang)                  | PASS               |
+----------------------------------------+--------------------+
| Ubuntu 20.04 (ARM)                     | PASS               |
+----------------------------------------+--------------------+
| Ubuntu 22.04 (ARM)                     | PASS               |
+----------------------------------------+--------------------+
| Ubuntu 24.04 (ARM)                     | PASS               |
+----------------------------------------+--------------------+
| CentOS Stream 9 (ARM)                  | PASS               |
+----------------------------------------+--------------------+
| Debian 11 (Buster) (ARM)               | PASS               |
+----------------------------------------+--------------------+
| Debian 12 (arm)                        | PASS               |
+----------------------------------------+--------------------+
| Ubuntu 20.04 ARM Clang Cross Compile   | PEND               |
+----------------------------------------+--------------------+
| Ubuntu 20.04 aarch32 GCC Cross Compile | PEND               |
+----------------------------------------+--------------------+


RHEL9 (ARM)
	Kernel: Depends on container host
	Compiler: gcc 11.4.1

Ubuntu 20.04 ARM GCC Cross Compile
	Kernel: 5.4.0-167-generic
	Compiler: aarch64-linux-gnu-gcc (Ubuntu 9.4.0-1ubuntu1~20.04.2) 9.4.0

Ubuntu 20.04 ARM SVE
	Kernel: 5.4.0-167-generic
	Compiler: gcc (Ubuntu 10.5.0-1ubuntu1~20.04) 10.5.0

Debian 12 with MUSDK
	Kernel: Container Host Kernel
	Compiler: gcc 12.2.0

Fedora 37 (ARM)
	Kernel: Depends on container host
	Compiler: gcc 12.3.1

Fedora 38 (ARM)
	Kernel: Depends on container host
	Compiler: gcc 13.2.1

Fedora 38 (ARM Clang)
	Kernel: Depends on container host
	Compiler: clang 16.0.6

Fedora 39 (ARM)
	Kernel: Depends on container host
	Compiler: gcc 13.2.1

Fedora 39 (ARM Clang)
	Kernel: Depends on container host
	Compiler: clang 17.0.6

Fedora 40 (ARM)
	Kernel: Depends on container host
	Compiler: gcc 14.1.1

Fedora 40 (ARM Clang)
	Kernel: Depends on container host
	Compiler: clang 18.1.6

Ubuntu 20.04 (ARM)
	Kernel: Container Host Kernel
	Compiler: gcc 9.4.0

Ubuntu 22.04 (ARM)
	Kernel: Container Host Kernel
	Compiler: gcc 11.4.0

Ubuntu 24.04 (ARM)
	Kernel: 5.4.0-167-generic
	Compiler: gcc 13.2.0

CentOS Stream 9 (ARM)
	Kernel: Container Host Kernel
	Compiler: gcc 11.4.1

Debian 11 (Buster) (ARM)
	Kernel: Container Host Kernel
	Compiler: gcc 10.2.1

Debian 12 (arm)
	Kernel: Container Host Kernel
	Compiler: gcc 12.2.0

Ubuntu 20.04 ARM Clang Cross Compile
	Kernel: 5.4.0-72-generic
	Compiler: clang 10.0.0-4ubuntu1

Ubuntu 20.04 aarch32 GCC Cross Compile
	Kernel: 5.4.0-167-generic
	Compiler: gcc 9.4.0

To view detailed results, visit:
https://lab.dpdk.org/results/dashboard/patchsets/30705/

UNH-IOL DPDK Community Lab

To manage your email subscriptions, visit: 
https://lab.dpdk.org/results/dashboard/preferences/subscriptions/