From mboxrd@z Thu Jan  1 00:00:00 1970
Return-Path: <test-report-bounces@dpdk.org>
Received: from mails.dpdk.org (mails.dpdk.org [217.70.189.124])
	by inbox.dpdk.org (Postfix) with ESMTP id 5ADBA45718
	for <public@inbox.dpdk.org>; Fri,  2 Aug 2024 06:48:14 +0200 (CEST)
Received: from mails.dpdk.org (localhost [127.0.0.1])
	by mails.dpdk.org (Postfix) with ESMTP id 52F1840431;
	Fri,  2 Aug 2024 06:48:14 +0200 (CEST)
Received: from mail-il1-f225.google.com (mail-il1-f225.google.com
 [209.85.166.225])
 by mails.dpdk.org (Postfix) with ESMTP id 9CFDF40272
 for <test-report@dpdk.org>; Fri,  2 Aug 2024 06:48:13 +0200 (CEST)
Received: by mail-il1-f225.google.com with SMTP id
 e9e14a558f8ab-39b06af1974so15067115ab.2
 for <test-report@dpdk.org>; Thu, 01 Aug 2024 21:48:13 -0700 (PDT)
DKIM-Signature: v=1; a=rsa-sha256; c=relaxed/relaxed;
 d=iol.unh.edu; s=unh-iol; t=1722574093; x=1723178893; darn=dpdk.org;
 h=references:in-reply-to:cc:to:from:subject:message-id:date:from:to
 :cc:subject:date:message-id:reply-to;
 bh=dS29oNE/u5xZSZTZDsrqQXczRGq/gXx0/wWbOmmwqXY=;
 b=CUf6VboAUuCGC2E77oflTHKwE3Gpia+BlH1kb7L5Ufg9+qDY5yBMN3i8aVDZbd+T8H
 vaIKDeujxosYqe3F2wJM1E5QFZd+sWZbvZDAuXtGRrohZRbW4e8nyWjgCHVNyzH+/x88
 PVn6LxciuqcyuLCzEs36+9u2gpq6YQnf+H9hw=
X-Google-DKIM-Signature: v=1; a=rsa-sha256; c=relaxed/relaxed;
 d=1e100.net; s=20230601; t=1722574093; x=1723178893;
 h=references:in-reply-to:cc:to:from:subject:message-id:date
 :x-gm-message-state:from:to:cc:subject:date:message-id:reply-to;
 bh=dS29oNE/u5xZSZTZDsrqQXczRGq/gXx0/wWbOmmwqXY=;
 b=BVlqK2PfnZGcYtKhQvH99y5nG2nfZmeX9GHT9eCwFbAkVsH7A8VlJBttkhNLwEFyt7
 oUBxY797JmSrUqbJyCTy9k8JDUNAFHfpdHyrDWkie3obfcExCF0P4pwlLymNXUNug9I8
 qqi2v/tHDYGOxiq8RgzT7WRCL4VCWc00S1tfuzWBjs4q1S4xtUWmSSQL0siEtZipcgiX
 dU+4FNJYaGperN4t56Zgj+ebvlb3DuSAvEL49oCsJ5eN0cBYoOvBm2u6l5HZuNGHufYJ
 eh0xndcaTOefpSyg4ZIhlYgkdgHLidY5rWtLJ7uhgl/nXdljbuC8zU9I9r3aT7om8Nen
 +CVw==
X-Gm-Message-State: AOJu0Yw7JyqqXVIR87q0SRKnTyBEbFt2Iv3kcwdXYQnL1uSbpgrEMUOu
 1+8kX5jp8+ov1tMd0f5iTPytwgbrDjj/3rErg/tUjE+TOVPCrnW5wJ90oLgaD6z2NdWMe3GgNXH
 2zDyGov7Wj8jhzcc5OquE8VcqCIAvbpdJjMQN78Fl
X-Google-Smtp-Source: AGHT+IERWablLX0khigJLa3jLuE1NHSo0p6wlorD9HyTnTGwwCeKnOfJiZloiOlbnrVtozZpRKszYy8glEDu
X-Received: by 2002:a92:ce4e:0:b0:37a:601c:9147 with SMTP id
 e9e14a558f8ab-39b1fb86e0emr29082585ab.10.1722574092861; 
 Thu, 01 Aug 2024 21:48:12 -0700 (PDT)
Received: from postal.iol.unh.edu (postal.iol.unh.edu. [132.177.123.84])
 by smtp-relay.gmail.com with ESMTPS id
 e9e14a558f8ab-39b20a773d9sm586475ab.8.2024.08.01.21.48.12
 (version=TLS1_2 cipher=ECDHE-ECDSA-AES128-GCM-SHA256 bits=128/128);
 Thu, 01 Aug 2024 21:48:12 -0700 (PDT)
X-Relaying-Domain: iol.unh.edu
Date: Thu, 01 Aug 2024 21:48:12 -0700 (PDT)
Message-ID: <66ac650c.050a0220.3ad3cb.49d8SMTPIN_ADDED_MISSING@mx.google.com>
Received: from [172.21.0.6] (unknown [172.18.0.240])
 by postal.iol.unh.edu (Postfix) with ESMTP id 68664605C351;
 Fri,  2 Aug 2024 00:48:12 -0400 (EDT)
Subject: |SUCCESS| pw142850-142852 [PATCH] [v4,3/3] test: restore cfgfile tes
From: dpdklab@iol.unh.edu
To: Test Report <test-report@dpdk.org>
Cc: dpdk-test-reports@iol.unh.edu
In-Reply-To: <20240801173029.65710-4-stephen@networkplumber.org>
References: <20240801173029.65710-4-stephen@networkplumber.org>
Content-Type: text/plain
X-BeenThere: test-report@dpdk.org
X-Mailman-Version: 2.1.29
Precedence: list
List-Id: automatic DPDK test reports <test-report.dpdk.org>
List-Unsubscribe: <https://mails.dpdk.org/options/test-report>,
 <mailto:test-report-request@dpdk.org?subject=unsubscribe>
List-Archive: <http://mails.dpdk.org/archives/test-report/>
List-Post: <mailto:test-report@dpdk.org>
List-Help: <mailto:test-report-request@dpdk.org?subject=help>
List-Subscribe: <https://mails.dpdk.org/listinfo/test-report>,
 <mailto:test-report-request@dpdk.org?subject=subscribe>
Errors-To: test-report-bounces@dpdk.org

Test-Label: iol-compile-amd64-testing
Test-Status: SUCCESS
http://dpdk.org/patch/142852

_Testing PASS_

Submitter: Stephen Hemminger <stephen@networkplumber.org>
Date: Thursday, August 01 2024 17:29:10 
DPDK git baseline: Repo:dpdk
  Branch: master
  CommitID:b3485f4293997d35b6daecc3437bb0c183a51fb3

142850-142852 --> testing pass

Upstream job id: Windows-Compile-DPDK-VS#2709

Test environment and result as below:

+---------------------+--------------------+----------------------+-------------------+
|     Environment     | dpdk_meson_compile | dpdk_mingw64_compile | dpdk_msvc_compile |
+=====================+====================+======================+===================+
| Windows Server 2019 | PASS               | PASS                 | SKIPPED           |
+---------------------+--------------------+----------------------+-------------------+
| Windows Server 2022 | PASS               | PASS                 | PASS              |
+---------------------+--------------------+----------------------+-------------------+
| FreeBSD 13.3        | PASS               | SKIPPED              | SKIPPED           |
+---------------------+--------------------+----------------------+-------------------+
| FreeBSD 14.1        | PASS               | SKIPPED              | SKIPPED           |
+---------------------+--------------------+----------------------+-------------------+


Windows Server 2019
	Kernel: 10.0.17763
	Compiler: clang 14.0 and gcc 8.1.0 (MinGW)

Windows Server 2022
	Kernel: 10.0.20348.2031
	Compiler: clang 15.0.7, gcc 8.1.0 (MinGW), and MSVC VS 17.9

FreeBSD 13.3
	Kernel: 13.3-RELEASE-p1
	Compiler: clang 17.0.6

FreeBSD 14.1
	Kernel: 14.1
	Compiler: clang 18.1.5

To view detailed results, visit:
https://lab.dpdk.org/results/dashboard/patchsets/30703/

UNH-IOL DPDK Community Lab

To manage your email subscriptions, visit: 
https://lab.dpdk.org/results/dashboard/preferences/subscriptions/