From mboxrd@z Thu Jan  1 00:00:00 1970
Return-Path: <test-report-bounces@dpdk.org>
Received: from mails.dpdk.org (mails.dpdk.org [217.70.189.124])
	by inbox.dpdk.org (Postfix) with ESMTP id 776394571A
	for <public@inbox.dpdk.org>; Fri,  2 Aug 2024 08:54:40 +0200 (CEST)
Received: from mails.dpdk.org (localhost [127.0.0.1])
	by mails.dpdk.org (Postfix) with ESMTP id 73E7440E0A;
	Fri,  2 Aug 2024 08:54:40 +0200 (CEST)
Received: from mail-qv1-f99.google.com (mail-qv1-f99.google.com
 [209.85.219.99]) by mails.dpdk.org (Postfix) with ESMTP id 5BF1F40431
 for <test-report@dpdk.org>; Fri,  2 Aug 2024 08:54:39 +0200 (CEST)
Received: by mail-qv1-f99.google.com with SMTP id
 6a1803df08f44-6b797234b09so26752966d6.0
 for <test-report@dpdk.org>; Thu, 01 Aug 2024 23:54:39 -0700 (PDT)
DKIM-Signature: v=1; a=rsa-sha256; c=relaxed/relaxed;
 d=iol.unh.edu; s=unh-iol; t=1722581679; x=1723186479; darn=dpdk.org;
 h=references:in-reply-to:cc:to:from:subject:message-id:date:from:to
 :cc:subject:date:message-id:reply-to;
 bh=RcAtZH2Xh/jVYjaDL5c0E+0dr5l7e8bSrFOvc3J9QKA=;
 b=Xy9NdyJLQPVJh/doUVqgHp2yr1MIJS10CZUmVSj8m7AlUOQ4LDHKmWb/HAGu1zsfPY
 0Nxh8HwJR8wD1VBoi2TbCb1LA03ffAgt2qUvehEbV17DJws84ST0M3FBPyVSvzOqrsMk
 v7jXsz6yyHeL2p+7vabHBpdAdIZr9ODtfng6M=
X-Google-DKIM-Signature: v=1; a=rsa-sha256; c=relaxed/relaxed;
 d=1e100.net; s=20230601; t=1722581679; x=1723186479;
 h=references:in-reply-to:cc:to:from:subject:message-id:date
 :x-gm-message-state:from:to:cc:subject:date:message-id:reply-to;
 bh=RcAtZH2Xh/jVYjaDL5c0E+0dr5l7e8bSrFOvc3J9QKA=;
 b=h53pqcgWzjgnT/IXo4FTUxs5+9mGnWaB1laA/F/1ysps++lT8+xKpYd71AzgmknxM9
 JtIOUd35hbmz9E/HonweveSzamKsvbkLhck21mlLfWeOok04RdcD4zlvCafzML2+a7Gd
 S4qcDMtLbJrGk8/tcAplgXdimaKg07UWPzKRtEZTsA+JhTpWNzd6nej69JSKbvOWLanH
 C3oO4/lfou70ccKdzWvZEbAH9x6ML2+E0JBTB8v/RIb/KYSsHeCrGZYLHhk10sioT1pK
 G+znj+xo8MEpsRQyvgvVu6VWV41qSwV1+36TKx01FBss3BVXiiBNwgWEDI3TRg4IRVVR
 Zevw==
X-Gm-Message-State: AOJu0YxJyU3rgtyVfHHZYKsHc4Ut5iF5nstaFTCxuWEUbLD8gtCFLh1y
 /w5tE1e/5r9EBvDCn/V2HTMnHhfqDGyVYTaDcQSsa0EpXDRFhFrlul6noly3touluUcAIzh6JZx
 JeGy8/ncoe8+mZcQCjYqCLZV6on2uYyQTEz/ddz0RNSLd/wGVBiiy6KtX
X-Google-Smtp-Source: AGHT+IGv6cw1ZcUnxz2hOchf+wyWd2VZ9cYjD8s/Tdb4Am2X0IlfQfkKK6TnIm+IdwBfvjliAV3jq69jYWuq
X-Received: by 2002:a05:6214:498c:b0:6b5:d95c:692d with SMTP id
 6a1803df08f44-6bb986e9ea3mr48564726d6.13.1722581678735; 
 Thu, 01 Aug 2024 23:54:38 -0700 (PDT)
Received: from postal.iol.unh.edu (postal.iol.unh.edu.
 [2606:4100:3880:1234::84]) by smtp-relay.gmail.com with ESMTPS id
 6a1803df08f44-6bb9c76e639sm260726d6.2.2024.08.01.23.54.38
 (version=TLS1_2 cipher=ECDHE-ECDSA-AES128-GCM-SHA256 bits=128/128);
 Thu, 01 Aug 2024 23:54:38 -0700 (PDT)
X-Relaying-Domain: iol.unh.edu
Date: Thu, 01 Aug 2024 23:54:38 -0700 (PDT)
Message-ID: <66ac82ae.050a0220.ce961.216bSMTPIN_ADDED_MISSING@mx.google.com>
Received: from [172.21.0.8] (unknown [172.18.0.240])
 by postal.iol.unh.edu (Postfix) with ESMTP id 73A6C605C351;
 Fri,  2 Aug 2024 02:54:38 -0400 (EDT)
Subject: |PENDING| pw142819 [PATCH] buildtools/cmdline: fix meson error when 
From: dpdklab@iol.unh.edu
To: Test Report <test-report@dpdk.org>
Cc: dpdk-test-reports@iol.unh.edu
In-Reply-To: <20240801100153.41779-2-rjarry@redhat.com>
References: <20240801100153.41779-2-rjarry@redhat.com>
Content-Type: text/plain
X-BeenThere: test-report@dpdk.org
X-Mailman-Version: 2.1.29
Precedence: list
List-Id: automatic DPDK test reports <test-report.dpdk.org>
List-Unsubscribe: <https://mails.dpdk.org/options/test-report>,
 <mailto:test-report-request@dpdk.org?subject=unsubscribe>
List-Archive: <http://mails.dpdk.org/archives/test-report/>
List-Post: <mailto:test-report@dpdk.org>
List-Help: <mailto:test-report-request@dpdk.org?subject=help>
List-Subscribe: <https://mails.dpdk.org/listinfo/test-report>,
 <mailto:test-report-request@dpdk.org?subject=subscribe>
Errors-To: test-report-bounces@dpdk.org

Test-Label: iol-compile-amd64-testing
Test-Status: PENDING
http://dpdk.org/patch/142819

_Testing pending_

Submitter: Robin Jarry <rjarry@redhat.com>
Date: Thursday, August 01 2024 10:01:54 
DPDK git baseline: Repo:dpdk
  Branch: master
  CommitID:b3485f4293997d35b6daecc3437bb0c183a51fb3

142819 --> testing pending

Upstream job id: Windows-Compile-DPDK-Mingw64#21236

Test environment and result as below:

+---------------------+--------------------+----------------------+
|     Environment     | dpdk_meson_compile | dpdk_mingw64_compile |
+=====================+====================+======================+
| Windows Server 2019 | PASS               | PASS                 |
+---------------------+--------------------+----------------------+
| Windows Server 2022 | PEND               | PEND                 |
+---------------------+--------------------+----------------------+
| FreeBSD 13.3        | PASS               | SKIPPED              |
+---------------------+--------------------+----------------------+
| FreeBSD 14.1        | PEND               | SKIPPED              |
+---------------------+--------------------+----------------------+


Windows Server 2019
	Kernel: 10.0.17763
	Compiler: clang 14.0 and gcc 8.1.0 (MinGW)

Windows Server 2022
	Kernel: 10.0.20348.2031
	Compiler: clang 15.0.7, gcc 8.1.0 (MinGW), and MSVC VS 17.9

FreeBSD 13.3
	Kernel: 13.3-RELEASE-p1
	Compiler: clang 17.0.6

FreeBSD 14.1
	Kernel: 14.1
	Compiler: clang 18.1.5

To view detailed results, visit:
https://lab.dpdk.org/results/dashboard/patchsets/30694/

UNH-IOL DPDK Community Lab

To manage your email subscriptions, visit: 
https://lab.dpdk.org/results/dashboard/preferences/subscriptions/