From mboxrd@z Thu Jan  1 00:00:00 1970
Return-Path: <test-report-bounces@dpdk.org>
Received: from mails.dpdk.org (mails.dpdk.org [217.70.189.124])
	by inbox.dpdk.org (Postfix) with ESMTP id 487E3456BF
	for <public@inbox.dpdk.org>; Fri,  2 Aug 2024 09:37:20 +0200 (CEST)
Received: from mails.dpdk.org (localhost [127.0.0.1])
	by mails.dpdk.org (Postfix) with ESMTP id 4376A42E51;
	Fri,  2 Aug 2024 09:37:20 +0200 (CEST)
Received: from mail-ot1-f100.google.com (mail-ot1-f100.google.com
 [209.85.210.100])
 by mails.dpdk.org (Postfix) with ESMTP id 149C440431
 for <test-report@dpdk.org>; Fri,  2 Aug 2024 09:37:19 +0200 (CEST)
Received: by mail-ot1-f100.google.com with SMTP id
 46e09a7af769-7093ba310b0so3091614a34.2
 for <test-report@dpdk.org>; Fri, 02 Aug 2024 00:37:19 -0700 (PDT)
DKIM-Signature: v=1; a=rsa-sha256; c=relaxed/relaxed;
 d=iol.unh.edu; s=unh-iol; t=1722584238; x=1723189038; darn=dpdk.org;
 h=references:in-reply-to:cc:to:from:subject:message-id:date:from:to
 :cc:subject:date:message-id:reply-to;
 bh=oTzDgRbEoJVW2BHlRMRQCabzCPcEzsRl0tSTiYg5WQA=;
 b=fhwxt7h8eOlfbPcawjr7GpsNSfIoVw3a8gcjXTlb/blDObvDwOz7E+emaTg6DHOL5s
 b4FKvztu3yJ/NlKmUeGEi6k+S71k14Lyg3jTHGx1PVl7Sr94Yuz0LsRIzpPIyJvzxBAh
 svpz/QXNiB+q3a/3e1pqHrkPnW8+rhS3vIA4M=
X-Google-DKIM-Signature: v=1; a=rsa-sha256; c=relaxed/relaxed;
 d=1e100.net; s=20230601; t=1722584238; x=1723189038;
 h=references:in-reply-to:cc:to:from:subject:message-id:date
 :x-gm-message-state:from:to:cc:subject:date:message-id:reply-to;
 bh=oTzDgRbEoJVW2BHlRMRQCabzCPcEzsRl0tSTiYg5WQA=;
 b=nwvkL3epw6pqYwAtHeLgb+9lxbRJgluAyB1GewGYwCUl6z+jE08OuLhZsX+D8yZWOE
 DFYQltob2UvLp6vRHqetHdtF+JSrD1FSkCV9Z03BJRYpRLj1I7F1erKitTl+nsVXM8gv
 nK0lYrbgacKi8aARIrRXwn0PKWqOaZnbnFyE+bNP6nTmaXocQfDsyUzGN3FCkqbz6DY0
 JAEiWwC4YWYorm65q2qXnA78l6kZjyLHsRP8dHll8zKTq1aXXxCtT+MXqDAfzJF90yCE
 b8RAtzvspGPpJIesCtAqi4DeDskR0lSfjPtpLWXXZG+ohGxRzysqqp/06K5ljsk8T+ST
 FMVA==
X-Gm-Message-State: AOJu0YziWGCwEdoyxWfrlAVb3WqVnnbXHC412P7Tv3K3m//Teuj4Llrl
 a1qOqr+mQ7PAc6E+j8/3acgU/LTNCLi3zM0iAVTK4hgE3LicmrpFycqa0tR8ySRmxDIBeCfEf0U
 ru5zK553UH4dzgM4AIgi3gZs/Ocv+qJbJiTd1ktpiUfWl4KG32e9IIwuv
X-Google-Smtp-Source: AGHT+IFNCLIEWTXWIa4ez4qKHBu1GmRcnvUYyh6851UYKMl3n6rGgDwCduI9D6gkR3Ah+sGoEJTKvSg18MQq
X-Received: by 2002:a05:6218:260e:b0:1aa:bc07:a3da with SMTP id
 e5c5f4694b2df-1af3bac58a7mr328824855d.14.1722584238044; 
 Fri, 02 Aug 2024 00:37:18 -0700 (PDT)
Received: from postal.iol.unh.edu (postal.iol.unh.edu.
 [2606:4100:3880:1234::84]) by smtp-relay.gmail.com with ESMTPS id
 6a1803df08f44-6bb9c85b8easm253256d6.57.2024.08.02.00.37.17
 (version=TLS1_2 cipher=ECDHE-ECDSA-AES128-GCM-SHA256 bits=128/128);
 Fri, 02 Aug 2024 00:37:18 -0700 (PDT)
X-Relaying-Domain: iol.unh.edu
Date: Fri, 02 Aug 2024 00:37:18 -0700 (PDT)
Message-ID: <66ac8cae.050a0220.21adfb.2103SMTPIN_ADDED_MISSING@mx.google.com>
Received: from [172.21.0.6] (unknown [172.18.0.240])
 by postal.iol.unh.edu (Postfix) with ESMTP id BA36960524C8;
 Fri,  2 Aug 2024 03:37:17 -0400 (EDT)
Subject: |PENDING| pw142819 [PATCH] buildtools/cmdline: fix meson error when 
From: dpdklab@iol.unh.edu
To: Test Report <test-report@dpdk.org>
Cc: dpdk-test-reports@iol.unh.edu
In-Reply-To: <20240801100153.41779-2-rjarry@redhat.com>
References: <20240801100153.41779-2-rjarry@redhat.com>
Content-Type: text/plain
X-BeenThere: test-report@dpdk.org
X-Mailman-Version: 2.1.29
Precedence: list
List-Id: automatic DPDK test reports <test-report.dpdk.org>
List-Unsubscribe: <https://mails.dpdk.org/options/test-report>,
 <mailto:test-report-request@dpdk.org?subject=unsubscribe>
List-Archive: <http://mails.dpdk.org/archives/test-report/>
List-Post: <mailto:test-report@dpdk.org>
List-Help: <mailto:test-report-request@dpdk.org?subject=help>
List-Subscribe: <https://mails.dpdk.org/listinfo/test-report>,
 <mailto:test-report-request@dpdk.org?subject=subscribe>
Errors-To: test-report-bounces@dpdk.org

Test-Label: iol-unit-amd64-testing
Test-Status: PENDING
http://dpdk.org/patch/142819

_Testing pending_

Submitter: Robin Jarry <rjarry@redhat.com>
Date: Thursday, August 01 2024 10:01:54 
DPDK git baseline: Repo:dpdk
  Branch: master
  CommitID:b3485f4293997d35b6daecc3437bb0c183a51fb3

142819 --> testing pending

Upstream job id: Generic-Unit-Test-DPDK#248093

Test environment and result as below:

+---------------------+----------------+
|     Environment     | dpdk_unit_test |
+=====================+================+
| Windows Server 2019 | PASS           |
+---------------------+----------------+
| Windows Server 2022 | PASS           |
+---------------------+----------------+
| CentOS Stream 9     | PASS           |
+---------------------+----------------+
| Debian Bullseye     | PASS           |
+---------------------+----------------+
| Debian 12           | PASS           |
+---------------------+----------------+
| Fedora 38           | PASS           |
+---------------------+----------------+
| Fedora 37           | PASS           |
+---------------------+----------------+
| Fedora 38 (Clang)   | PASS           |
+---------------------+----------------+
| Fedora 39           | PASS           |
+---------------------+----------------+
| Fedora 39 (Clang)   | PEND           |
+---------------------+----------------+
| Fedora 40           | PASS           |
+---------------------+----------------+
| Fedora 40 (Clang)   | PEND           |
+---------------------+----------------+
| openSUSE Leap 15    | PASS           |
+---------------------+----------------+
| RHEL9               | PEND           |
+---------------------+----------------+
| RHEL8               | PEND           |
+---------------------+----------------+
| Ubuntu 20.04        | PEND           |
+---------------------+----------------+
| Ubuntu 22.04        | PEND           |
+---------------------+----------------+
| Ubuntu 24.04        | PEND           |
+---------------------+----------------+


Windows Server 2019
	Kernel: 10.0.17763
	Compiler: clang 14.0 and gcc 8.1.0 (MinGW)

Windows Server 2022
	Kernel: 10.0.20348.2031
	Compiler: clang 15.0.7, gcc 8.1.0 (MinGW), and MSVC VS 17.9

CentOS Stream 9
	Kernel: 5.4.0-167-generic
	Compiler: gcc 11.4.1 20230605

Debian Bullseye
	Kernel: 5.4.0-167-generic
	Compiler: gcc 10.2.1-6

Debian 12
	Kernel: Container Host Kernel
	Compiler: gcc 12.2.0

Fedora 38
	Kernel: Depends on container host
	Compiler: gcc 13.2.1

Fedora 37
	Kernel: Depends on container host system
	Compiler: gcc 12.3.1

Fedora 38 (Clang)
	Kernel: Depends on container host
	Compiler: clang 16.0.6

Fedora 39
	Kernel: Depends on container host
	Compiler: gcc 13.2.1

Fedora 39 (Clang)
	Kernel: Depends on container host
	Compiler: clang 17.0.6

Fedora 40
	Kernel: Depends on container host
	Compiler: gcc 14.1.1

Fedora 40 (Clang)
	Kernel: Depends on container host
	Compiler: clang 18.1.6

openSUSE Leap 15
	Kernel: 5.4.0-167-generic
	Compiler: gcc 7.5.0

RHEL9
	Kernel: Depends on container host
	Compiler: gcc 11.4.1

RHEL8
	Kernel: 5.4.0-167-generic
	Compiler: gcc 8.5.0 20210514 (Red Hat 8.5.0-20)

Ubuntu 20.04
	Kernel: 5.4.0-167-generic
	Compiler: gcc 9.4.0-1ubuntu1~20.04.1

Ubuntu 22.04
	Kernel: 5.4.0-167-generic
	Compiler: gcc 11.4.0

Ubuntu 24.04
	Kernel: 5.4.0-167-generic
	Compiler: gcc 13.2.0

To view detailed results, visit:
https://lab.dpdk.org/results/dashboard/patchsets/30694/

UNH-IOL DPDK Community Lab

To manage your email subscriptions, visit: 
https://lab.dpdk.org/results/dashboard/preferences/subscriptions/