From mboxrd@z Thu Jan  1 00:00:00 1970
Return-Path: <test-report-bounces@dpdk.org>
Received: from mails.dpdk.org (mails.dpdk.org [217.70.189.124])
	by inbox.dpdk.org (Postfix) with ESMTP id 0A12D456BF
	for <public@inbox.dpdk.org>; Fri,  2 Aug 2024 09:40:59 +0200 (CEST)
Received: from mails.dpdk.org (localhost [127.0.0.1])
	by mails.dpdk.org (Postfix) with ESMTP id 05CFE410EA;
	Fri,  2 Aug 2024 09:40:59 +0200 (CEST)
Received: from mail-pf1-f227.google.com (mail-pf1-f227.google.com
 [209.85.210.227])
 by mails.dpdk.org (Postfix) with ESMTP id F0BDB40431
 for <test-report@dpdk.org>; Fri,  2 Aug 2024 09:40:56 +0200 (CEST)
Received: by mail-pf1-f227.google.com with SMTP id
 d2e1a72fcca58-70eb0ae23e4so5769621b3a.0
 for <test-report@dpdk.org>; Fri, 02 Aug 2024 00:40:56 -0700 (PDT)
DKIM-Signature: v=1; a=rsa-sha256; c=relaxed/relaxed;
 d=iol.unh.edu; s=unh-iol; t=1722584456; x=1723189256; darn=dpdk.org;
 h=references:in-reply-to:cc:to:from:subject:message-id:date:from:to
 :cc:subject:date:message-id:reply-to;
 bh=t1TqF/x87Ts98YzJwy4GuafHe644mvRDTZBGcX9J7Kg=;
 b=Gp+ZDpARZ299FHpkE+2E3Gkq069h1qrhiOpz4/PgX+ZzBKHbNBJRKDZtzWWVdebfRq
 iOUuIcpKc+2XE675e6ZnBjlI09lGbazHnFPukvOKK+NtA0p0ZV9A3WqiWdwcKzRIUuJ2
 d89IbS4bFflhmq+gWFrVrZFA/ol8sy7z2oYRM=
X-Google-DKIM-Signature: v=1; a=rsa-sha256; c=relaxed/relaxed;
 d=1e100.net; s=20230601; t=1722584456; x=1723189256;
 h=references:in-reply-to:cc:to:from:subject:message-id:date
 :x-gm-message-state:from:to:cc:subject:date:message-id:reply-to;
 bh=t1TqF/x87Ts98YzJwy4GuafHe644mvRDTZBGcX9J7Kg=;
 b=HdjZTzNhLoOwf4QpAFQUdgB2+H0qBtdKBMoomVPJ3OSKX1btw7Qlt91iXHK1zsxtom
 YAZbzQ3bkdkADer1LCIq1Z7k5+iioYbL//GjuMDpBP4ma9FOGBP3kAsc3XUybGSbeZY+
 MMCX9LoMg4+C15dsIZshTV0iDcwyjmgbUtN93s4BKKfbj6A1oTxupVvLBd62mBxmYaMV
 i5hT2jOlKFIgKCXmImHlVOtM5/zex9DFnE0tQZmTRTG7f5wUrvANPUQ7PKIFuT3KYhty
 SbCvXgwRvA52Ub5/b9a2W5YraqxJKn7Y/Kim3flfYGUd+G//Zy5uhUC9qVyhK5r61+Sh
 hR9A==
X-Gm-Message-State: AOJu0Yxv+IGQv1Tftwgnhq+xHcYv/ciL+1iaEIaxXeKDr7Lhgss6Due4
 WiZKM0sHvvOq9WRt8XkGzbcdTZiC9dPPmUHlbIUvTjRtuVtXgxrHtpskor4cSzqkB8ns0yJ4na0
 qvB59MekpA6iidU1TiSiCS67ppTgV5+ZlrEdoj1voZnnLlrsRaXiVQNma
X-Google-Smtp-Source: AGHT+IFtfTL/k2mCpW3ij3Mtu42i3Oe8BnVesE8JuhmNJxpjGvHI4UY2EWcxAlwZAtxpEayGBtqs9SEyCBb3
X-Received: by 2002:a05:6a20:258e:b0:1c4:8bfd:4321 with SMTP id
 adf61e73a8af0-1c6995ee3ffmr3870718637.34.1722584456080; 
 Fri, 02 Aug 2024 00:40:56 -0700 (PDT)
Received: from postal.iol.unh.edu (postal.iol.unh.edu.
 [2606:4100:3880:1234::84]) by smtp-relay.gmail.com with ESMTPS id
 d2e1a72fcca58-7106ecf0f12sm71374b3a.19.2024.08.02.00.40.55
 (version=TLS1_2 cipher=ECDHE-ECDSA-AES128-GCM-SHA256 bits=128/128);
 Fri, 02 Aug 2024 00:40:56 -0700 (PDT)
X-Relaying-Domain: iol.unh.edu
Date: Fri, 02 Aug 2024 00:40:56 -0700 (PDT)
Message-ID: <66ac8d88.050a0220.1d2782.5733SMTPIN_ADDED_MISSING@mx.google.com>
Received: from [172.21.0.11] (unknown [172.18.0.240])
 by postal.iol.unh.edu (Postfix) with ESMTP id 380AB60524C8;
 Fri,  2 Aug 2024 03:40:55 -0400 (EDT)
Subject: |PENDING| pw142819 [PATCH] buildtools/cmdline: fix meson error when 
From: dpdklab@iol.unh.edu
To: Test Report <test-report@dpdk.org>
Cc: dpdk-test-reports@iol.unh.edu
In-Reply-To: <20240801100153.41779-2-rjarry@redhat.com>
References: <20240801100153.41779-2-rjarry@redhat.com>
Content-Type: text/plain
X-BeenThere: test-report@dpdk.org
X-Mailman-Version: 2.1.29
Precedence: list
List-Id: automatic DPDK test reports <test-report.dpdk.org>
List-Unsubscribe: <https://mails.dpdk.org/options/test-report>,
 <mailto:test-report-request@dpdk.org?subject=unsubscribe>
List-Archive: <http://mails.dpdk.org/archives/test-report/>
List-Post: <mailto:test-report@dpdk.org>
List-Help: <mailto:test-report-request@dpdk.org?subject=help>
List-Subscribe: <https://mails.dpdk.org/listinfo/test-report>,
 <mailto:test-report-request@dpdk.org?subject=subscribe>
Errors-To: test-report-bounces@dpdk.org

Test-Label: iol-unit-amd64-testing
Test-Status: PENDING
http://dpdk.org/patch/142819

_Testing pending_

Submitter: Robin Jarry <rjarry@redhat.com>
Date: Thursday, August 01 2024 10:01:54 
DPDK git baseline: Repo:dpdk
  Branch: master
  CommitID:b3485f4293997d35b6daecc3437bb0c183a51fb3

142819 --> testing pending

Upstream job id: Generic-Unit-Test-DPDK#248097

Test environment and result as below:

+---------------------+----------------+
|     Environment     | dpdk_unit_test |
+=====================+================+
| Windows Server 2019 | PASS           |
+---------------------+----------------+
| Windows Server 2022 | PASS           |
+---------------------+----------------+
| CentOS Stream 9     | PASS           |
+---------------------+----------------+
| Debian Bullseye     | PASS           |
+---------------------+----------------+
| Debian 12           | PASS           |
+---------------------+----------------+
| Fedora 38           | PASS           |
+---------------------+----------------+
| Fedora 37           | PASS           |
+---------------------+----------------+
| Fedora 38 (Clang)   | PASS           |
+---------------------+----------------+
| Fedora 39           | PASS           |
+---------------------+----------------+
| Fedora 39 (Clang)   | PASS           |
+---------------------+----------------+
| Fedora 40           | PASS           |
+---------------------+----------------+
| Fedora 40 (Clang)   | PEND           |
+---------------------+----------------+
| openSUSE Leap 15    | PASS           |
+---------------------+----------------+
| RHEL9               | PASS           |
+---------------------+----------------+
| RHEL8               | PASS           |
+---------------------+----------------+
| Ubuntu 20.04        | PEND           |
+---------------------+----------------+
| Ubuntu 22.04        | PEND           |
+---------------------+----------------+
| Ubuntu 24.04        | PEND           |
+---------------------+----------------+


Windows Server 2019
	Kernel: 10.0.17763
	Compiler: clang 14.0 and gcc 8.1.0 (MinGW)

Windows Server 2022
	Kernel: 10.0.20348.2031
	Compiler: clang 15.0.7, gcc 8.1.0 (MinGW), and MSVC VS 17.9

CentOS Stream 9
	Kernel: 5.4.0-167-generic
	Compiler: gcc 11.4.1 20230605

Debian Bullseye
	Kernel: 5.4.0-167-generic
	Compiler: gcc 10.2.1-6

Debian 12
	Kernel: Container Host Kernel
	Compiler: gcc 12.2.0

Fedora 38
	Kernel: Depends on container host
	Compiler: gcc 13.2.1

Fedora 37
	Kernel: Depends on container host system
	Compiler: gcc 12.3.1

Fedora 38 (Clang)
	Kernel: Depends on container host
	Compiler: clang 16.0.6

Fedora 39
	Kernel: Depends on container host
	Compiler: gcc 13.2.1

Fedora 39 (Clang)
	Kernel: Depends on container host
	Compiler: clang 17.0.6

Fedora 40
	Kernel: Depends on container host
	Compiler: gcc 14.1.1

Fedora 40 (Clang)
	Kernel: Depends on container host
	Compiler: clang 18.1.6

openSUSE Leap 15
	Kernel: 5.4.0-167-generic
	Compiler: gcc 7.5.0

RHEL9
	Kernel: Depends on container host
	Compiler: gcc 11.4.1

RHEL8
	Kernel: 5.4.0-167-generic
	Compiler: gcc 8.5.0 20210514 (Red Hat 8.5.0-20)

Ubuntu 20.04
	Kernel: 5.4.0-167-generic
	Compiler: gcc 9.4.0-1ubuntu1~20.04.1

Ubuntu 22.04
	Kernel: 5.4.0-167-generic
	Compiler: gcc 11.4.0

Ubuntu 24.04
	Kernel: 5.4.0-167-generic
	Compiler: gcc 13.2.0

To view detailed results, visit:
https://lab.dpdk.org/results/dashboard/patchsets/30694/

UNH-IOL DPDK Community Lab

To manage your email subscriptions, visit: 
https://lab.dpdk.org/results/dashboard/preferences/subscriptions/