From mboxrd@z Thu Jan  1 00:00:00 1970
Return-Path: <test-report-bounces@dpdk.org>
Received: from mails.dpdk.org (mails.dpdk.org [217.70.189.124])
	by inbox.dpdk.org (Postfix) with ESMTP id 5AFEC4571A
	for <public@inbox.dpdk.org>; Fri,  2 Aug 2024 10:02:44 +0200 (CEST)
Received: from mails.dpdk.org (localhost [127.0.0.1])
	by mails.dpdk.org (Postfix) with ESMTP id 51C434064C;
	Fri,  2 Aug 2024 10:02:44 +0200 (CEST)
Received: from mail-yb1-f228.google.com (mail-yb1-f228.google.com
 [209.85.219.228])
 by mails.dpdk.org (Postfix) with ESMTP id 748C340431
 for <test-report@dpdk.org>; Fri,  2 Aug 2024 10:02:42 +0200 (CEST)
Received: by mail-yb1-f228.google.com with SMTP id
 3f1490d57ef6-e05eccfcdb3so6242804276.1
 for <test-report@dpdk.org>; Fri, 02 Aug 2024 01:02:42 -0700 (PDT)
DKIM-Signature: v=1; a=rsa-sha256; c=relaxed/relaxed;
 d=iol.unh.edu; s=unh-iol; t=1722585762; x=1723190562; darn=dpdk.org;
 h=references:in-reply-to:cc:to:from:subject:message-id:date:from:to
 :cc:subject:date:message-id:reply-to;
 bh=ImI71miAKgkL8xFYxgrUJrFuzeCySqgB/ALUp0JtPlI=;
 b=SqJp3GX0fEtZjl/SYWkfn0nvDxIH3hcpFE2+D98aMH0WBiiCwBee5gyncjhPugu3cn
 itxQzfCjHHXG5OpaV2WGSB+6N3JDGYbuS9tK6RDjsJa3bIeXau1GFG5TFPHwaNW31Bgr
 H7FmHeVQeRfpO+rX/9vRbTDFDFw7qR2+V1nMM=
X-Google-DKIM-Signature: v=1; a=rsa-sha256; c=relaxed/relaxed;
 d=1e100.net; s=20230601; t=1722585762; x=1723190562;
 h=references:in-reply-to:cc:to:from:subject:message-id:date
 :x-gm-message-state:from:to:cc:subject:date:message-id:reply-to;
 bh=ImI71miAKgkL8xFYxgrUJrFuzeCySqgB/ALUp0JtPlI=;
 b=i2JTTx1NrdO/WlyIzm2NwRBiVFCB4NLH/Af5GdMPj1ng9Bzslu5KoujHFdQqNoLpIz
 UN/RqsLRlYJYvQoGOwkL2e53ciR6PqkmlGU5hAJdgQMrrYw5uJ75iKLMI/avqJVDsnyo
 AptIrKMGQRLNG6hWpAiZkO9PuN+K6XjLWrg+FABjjWAzrOcoUAEX1Y1gc3selR3tApMt
 ReuFV4v13ZoEKtfJo/6kMvdyiPiXSWnsG9N09xTGO+KUguQT4GWoVQHJzqLOhF94TO4x
 cYHWu1gJD/CunxYN+mmSG6I9QnYbOiNY9St/zGTIo3dFmGXNf6yDIchl8CvmEIURQe2L
 thGg==
X-Gm-Message-State: AOJu0YxJV9dKBTboV0AUngyWf0+ai2OHFOonTQe+Dz3PPNM/Sf9QYnEj
 ymeUmpubzuZISA6/sIVElMoWVMU8JvQkvzIQHBmX/GzuHGQ2Ey7/vhu6NGqKi9UR6EX3InDmZ9g
 oj5cgNuZjx7WjQBI6HksQxkFhiz6/7qtgkuOo9OLM6YThZ8q7nwTio+Nl
X-Google-Smtp-Source: AGHT+IE9d+lijidV+4+39IHhRq+MwOmTeUOaMbNu31m8GZ/zzFceKI/mHM20L6Y+TEHcEIJfUtCbTPHG3+wv
X-Received: by 2002:a05:6902:90d:b0:e0b:e61c:7ac5 with SMTP id
 3f1490d57ef6-e0be61c7cafmr1366110276.53.1722585761765; 
 Fri, 02 Aug 2024 01:02:41 -0700 (PDT)
Received: from postal.iol.unh.edu (postal.iol.unh.edu.
 [2606:4100:3880:1234::84]) by smtp-relay.gmail.com with ESMTPS id
 00721157ae682-68a09d9c5ccsm597427b3.0.2024.08.02.01.02.41
 (version=TLS1_2 cipher=ECDHE-ECDSA-AES128-GCM-SHA256 bits=128/128);
 Fri, 02 Aug 2024 01:02:41 -0700 (PDT)
X-Relaying-Domain: iol.unh.edu
Date: Fri, 02 Aug 2024 01:02:41 -0700 (PDT)
Message-ID: <66ac92a1.0d0a0220.342af0.4669SMTPIN_ADDED_MISSING@mx.google.com>
Received: from [172.21.0.6] (unknown [172.18.0.240])
 by postal.iol.unh.edu (Postfix) with ESMTP id 6830560524C8;
 Fri,  2 Aug 2024 04:02:41 -0400 (EDT)
Subject: |PENDING| pw142819 [PATCH] buildtools/cmdline: fix meson error when 
From: dpdklab@iol.unh.edu
To: Test Report <test-report@dpdk.org>
Cc: dpdk-test-reports@iol.unh.edu
In-Reply-To: <20240801100153.41779-2-rjarry@redhat.com>
References: <20240801100153.41779-2-rjarry@redhat.com>
Content-Type: text/plain
X-BeenThere: test-report@dpdk.org
X-Mailman-Version: 2.1.29
Precedence: list
List-Id: automatic DPDK test reports <test-report.dpdk.org>
List-Unsubscribe: <https://mails.dpdk.org/options/test-report>,
 <mailto:test-report-request@dpdk.org?subject=unsubscribe>
List-Archive: <http://mails.dpdk.org/archives/test-report/>
List-Post: <mailto:test-report@dpdk.org>
List-Help: <mailto:test-report-request@dpdk.org?subject=help>
List-Subscribe: <https://mails.dpdk.org/listinfo/test-report>,
 <mailto:test-report-request@dpdk.org?subject=subscribe>
Errors-To: test-report-bounces@dpdk.org

Test-Label: iol-compile-arm64-testing
Test-Status: PENDING
http://dpdk.org/patch/142819

_Testing pending_

Submitter: Robin Jarry <rjarry@redhat.com>
Date: Thursday, August 01 2024 10:01:54 
DPDK git baseline: Repo:dpdk
  Branch: master
  CommitID:b3485f4293997d35b6daecc3437bb0c183a51fb3

142819 --> testing pending

Upstream job id: Generic-DPDK-Compile-Meson#283649

Test environment and result as below:

+----------------------------------------+--------------------+
|              Environment               | dpdk_meson_compile |
+========================================+====================+
| RHEL9 (ARM)                            | PASS               |
+----------------------------------------+--------------------+
| Ubuntu 20.04 ARM GCC Cross Compile     | PEND               |
+----------------------------------------+--------------------+
| Ubuntu 20.04 ARM SVE                   | PASS               |
+----------------------------------------+--------------------+
| Debian 12 with MUSDK                   | PASS               |
+----------------------------------------+--------------------+
| Fedora 37 (ARM)                        | PASS               |
+----------------------------------------+--------------------+
| Fedora 38 (ARM)                        | PASS               |
+----------------------------------------+--------------------+
| Fedora 38 (ARM Clang)                  | PEND               |
+----------------------------------------+--------------------+
| Fedora 39 (ARM)                        | PASS               |
+----------------------------------------+--------------------+
| Fedora 39 (ARM Clang)                  | PEND               |
+----------------------------------------+--------------------+
| Fedora 40 (ARM)                        | PASS               |
+----------------------------------------+--------------------+
| Fedora 40 (ARM Clang)                  | PEND               |
+----------------------------------------+--------------------+
| Ubuntu 20.04 (ARM)                     | PASS               |
+----------------------------------------+--------------------+
| Ubuntu 22.04 (ARM)                     | PASS               |
+----------------------------------------+--------------------+
| Ubuntu 24.04 (ARM)                     | PASS               |
+----------------------------------------+--------------------+
| CentOS Stream 9 (ARM)                  | PEND               |
+----------------------------------------+--------------------+
| Debian 11 (Buster) (ARM)               | PASS               |
+----------------------------------------+--------------------+
| Debian 12 (arm)                        | PEND               |
+----------------------------------------+--------------------+
| Ubuntu 20.04 ARM Clang Cross Compile   | PEND               |
+----------------------------------------+--------------------+
| Ubuntu 20.04 aarch32 GCC Cross Compile | PEND               |
+----------------------------------------+--------------------+


RHEL9 (ARM)
	Kernel: Depends on container host
	Compiler: gcc 11.4.1

Ubuntu 20.04 ARM GCC Cross Compile
	Kernel: 5.4.0-167-generic
	Compiler: aarch64-linux-gnu-gcc (Ubuntu 9.4.0-1ubuntu1~20.04.2) 9.4.0

Ubuntu 20.04 ARM SVE
	Kernel: 5.4.0-167-generic
	Compiler: gcc (Ubuntu 10.5.0-1ubuntu1~20.04) 10.5.0

Debian 12 with MUSDK
	Kernel: Container Host Kernel
	Compiler: gcc 12.2.0

Fedora 37 (ARM)
	Kernel: Depends on container host
	Compiler: gcc 12.3.1

Fedora 38 (ARM)
	Kernel: Depends on container host
	Compiler: gcc 13.2.1

Fedora 38 (ARM Clang)
	Kernel: Depends on container host
	Compiler: clang 16.0.6

Fedora 39 (ARM)
	Kernel: Depends on container host
	Compiler: gcc 13.2.1

Fedora 39 (ARM Clang)
	Kernel: Depends on container host
	Compiler: clang 17.0.6

Fedora 40 (ARM)
	Kernel: Depends on container host
	Compiler: gcc 14.1.1

Fedora 40 (ARM Clang)
	Kernel: Depends on container host
	Compiler: clang 18.1.6

Ubuntu 20.04 (ARM)
	Kernel: Container Host Kernel
	Compiler: gcc 9.4.0

Ubuntu 22.04 (ARM)
	Kernel: Container Host Kernel
	Compiler: gcc 11.4.0

Ubuntu 24.04 (ARM)
	Kernel: 5.4.0-167-generic
	Compiler: gcc 13.2.0

CentOS Stream 9 (ARM)
	Kernel: Container Host Kernel
	Compiler: gcc 11.4.1

Debian 11 (Buster) (ARM)
	Kernel: Container Host Kernel
	Compiler: gcc 10.2.1

Debian 12 (arm)
	Kernel: Container Host Kernel
	Compiler: gcc 12.2.0

Ubuntu 20.04 ARM Clang Cross Compile
	Kernel: 5.4.0-72-generic
	Compiler: clang 10.0.0-4ubuntu1

Ubuntu 20.04 aarch32 GCC Cross Compile
	Kernel: 5.4.0-167-generic
	Compiler: gcc 9.4.0

To view detailed results, visit:
https://lab.dpdk.org/results/dashboard/patchsets/30694/

UNH-IOL DPDK Community Lab

To manage your email subscriptions, visit: 
https://lab.dpdk.org/results/dashboard/preferences/subscriptions/