From mboxrd@z Thu Jan  1 00:00:00 1970
Return-Path: <test-report-bounces@dpdk.org>
Received: from mails.dpdk.org (mails.dpdk.org [217.70.189.124])
	by inbox.dpdk.org (Postfix) with ESMTP id 141EA4571A
	for <public@inbox.dpdk.org>; Fri,  2 Aug 2024 10:17:47 +0200 (CEST)
Received: from mails.dpdk.org (localhost [127.0.0.1])
	by mails.dpdk.org (Postfix) with ESMTP id 0ADA64064C;
	Fri,  2 Aug 2024 10:17:47 +0200 (CEST)
Received: from mail-yw1-f227.google.com (mail-yw1-f227.google.com
 [209.85.128.227])
 by mails.dpdk.org (Postfix) with ESMTP id 4099340431
 for <test-report@dpdk.org>; Fri,  2 Aug 2024 10:17:45 +0200 (CEST)
Received: by mail-yw1-f227.google.com with SMTP id
 00721157ae682-664b4589b1aso24113337b3.1
 for <test-report@dpdk.org>; Fri, 02 Aug 2024 01:17:45 -0700 (PDT)
DKIM-Signature: v=1; a=rsa-sha256; c=relaxed/relaxed;
 d=iol.unh.edu; s=unh-iol; t=1722586664; x=1723191464; darn=dpdk.org;
 h=references:in-reply-to:cc:to:from:subject:message-id:date:from:to
 :cc:subject:date:message-id:reply-to;
 bh=fq05JR6nrrq3rbjvtp17dpnyIjXL80teYq81GkYMNmQ=;
 b=iPpF22sX3k6fI/EFI8qG2LaRUSEbUHMo9XzhK8/m60RdobuTaXdKLRP1B+RR9ce+0t
 7pV22XyOwJMEW4Md8L7REe78ZmeFvwMK56qGlyj2IpiL9cQ3EIN4/filPW1mIprYtOVb
 bp9n0booALwQ+931hs9E7RVNZkW2PvsqiI5D0=
X-Google-DKIM-Signature: v=1; a=rsa-sha256; c=relaxed/relaxed;
 d=1e100.net; s=20230601; t=1722586664; x=1723191464;
 h=references:in-reply-to:cc:to:from:subject:message-id:date
 :x-gm-message-state:from:to:cc:subject:date:message-id:reply-to;
 bh=fq05JR6nrrq3rbjvtp17dpnyIjXL80teYq81GkYMNmQ=;
 b=KDz7wsk5CJWVdTHp7aL3Jp1SxN6SNjXOKDLS23WMBva1kDNINmBuWAXhTPf1q9RYvI
 axoBqzpdBKwrSrCWinOdKIpXPzQW35qy8jUcmcB+QQLF53rELugWNdYe+6M6xWeo41Y/
 hayp+l5f/IAM7FZYM8BOzOxzQLLh8D0zDYv3HstNi55e3WUEK+aFjPPGPT1kebzJ6CZl
 1P2Hc0mHLvFwvC+CTWDnSz/CVAAw5Y4Bc2Hz4b2zZM4BOBaBxXsh/OF9EL9m/wMiUAcF
 T5JkpMiledwmRY3uV0g6KpgB2ZE496tzN1qBXv7luQxvvy4oI03Qdjmqx2fx9/PqJ0ly
 mbPg==
X-Gm-Message-State: AOJu0YzuE21wH77/rtDtxNQMrrfsAxCBYFAxqX87UBwBDneq53xA4asm
 dsqwQ5ZidYCFSUtsNt9LZSrL9zDorhKE6aKTJHSa9XyKW4aXS9WN3QtlK6SNLyxvyLemLEtEFVE
 HRYbBwrA6xksl6sKTT+Gjx2tJLY4BWNG/Qe1uYh4QPkiJqiEHi7DisHNk
X-Google-Smtp-Source: AGHT+IEHwMBYYnnXUVdEfsAmqjQ1N3e4vwFyICqiM/LU1jOghlVTHFGoO1VGZxzE9VZMCGS6nie5hPc+zT8e
X-Received: by 2002:a81:87c6:0:b0:64a:445c:6 with SMTP id
 00721157ae682-68962d64460mr24369747b3.17.1722586664605; 
 Fri, 02 Aug 2024 01:17:44 -0700 (PDT)
Received: from postal.iol.unh.edu (postal.iol.unh.edu.
 [2606:4100:3880:1234::84]) by smtp-relay.gmail.com with ESMTPS id
 00721157ae682-68a116de795sm551727b3.13.2024.08.02.01.17.44
 (version=TLS1_2 cipher=ECDHE-ECDSA-AES128-GCM-SHA256 bits=128/128);
 Fri, 02 Aug 2024 01:17:44 -0700 (PDT)
X-Relaying-Domain: iol.unh.edu
Date: Fri, 02 Aug 2024 01:17:44 -0700 (PDT)
Message-ID: <66ac9628.0d0a0220.be25f.439bSMTPIN_ADDED_MISSING@mx.google.com>
Received: from [172.21.0.7] (unknown [172.18.0.240])
 by postal.iol.unh.edu (Postfix) with ESMTP id 30BE860524C8;
 Fri,  2 Aug 2024 04:17:44 -0400 (EDT)
Subject: |PENDING| pw142819 [PATCH] buildtools/cmdline: fix meson error when 
From: dpdklab@iol.unh.edu
To: Test Report <test-report@dpdk.org>
Cc: dpdk-test-reports@iol.unh.edu
In-Reply-To: <20240801100153.41779-2-rjarry@redhat.com>
References: <20240801100153.41779-2-rjarry@redhat.com>
Content-Type: text/plain
X-BeenThere: test-report@dpdk.org
X-Mailman-Version: 2.1.29
Precedence: list
List-Id: automatic DPDK test reports <test-report.dpdk.org>
List-Unsubscribe: <https://mails.dpdk.org/options/test-report>,
 <mailto:test-report-request@dpdk.org?subject=unsubscribe>
List-Archive: <http://mails.dpdk.org/archives/test-report/>
List-Post: <mailto:test-report@dpdk.org>
List-Help: <mailto:test-report-request@dpdk.org?subject=help>
List-Subscribe: <https://mails.dpdk.org/listinfo/test-report>,
 <mailto:test-report-request@dpdk.org?subject=subscribe>
Errors-To: test-report-bounces@dpdk.org

Test-Label: iol-compile-arm64-testing
Test-Status: PENDING
http://dpdk.org/patch/142819

_Testing pending_

Submitter: Robin Jarry <rjarry@redhat.com>
Date: Thursday, August 01 2024 10:01:54 
DPDK git baseline: Repo:dpdk
  Branch: master
  CommitID:b3485f4293997d35b6daecc3437bb0c183a51fb3

142819 --> testing pending

Upstream job id: Generic-DPDK-Compile-Meson#283641

Test environment and result as below:

+----------------------------------------+--------------------+
|              Environment               | dpdk_meson_compile |
+========================================+====================+
| RHEL9 (ARM)                            | PASS               |
+----------------------------------------+--------------------+
| Ubuntu 20.04 ARM GCC Cross Compile     | PASS               |
+----------------------------------------+--------------------+
| Ubuntu 20.04 ARM SVE                   | PASS               |
+----------------------------------------+--------------------+
| Debian 12 with MUSDK                   | PASS               |
+----------------------------------------+--------------------+
| Fedora 37 (ARM)                        | PASS               |
+----------------------------------------+--------------------+
| Fedora 38 (ARM)                        | PASS               |
+----------------------------------------+--------------------+
| Fedora 38 (ARM Clang)                  | PEND               |
+----------------------------------------+--------------------+
| Fedora 39 (ARM)                        | PASS               |
+----------------------------------------+--------------------+
| Fedora 39 (ARM Clang)                  | PEND               |
+----------------------------------------+--------------------+
| Fedora 40 (ARM)                        | PASS               |
+----------------------------------------+--------------------+
| Fedora 40 (ARM Clang)                  | PEND               |
+----------------------------------------+--------------------+
| Ubuntu 20.04 (ARM)                     | PASS               |
+----------------------------------------+--------------------+
| Ubuntu 22.04 (ARM)                     | PASS               |
+----------------------------------------+--------------------+
| Ubuntu 24.04 (ARM)                     | PASS               |
+----------------------------------------+--------------------+
| CentOS Stream 9 (ARM)                  | PASS               |
+----------------------------------------+--------------------+
| Debian 11 (Buster) (ARM)               | PASS               |
+----------------------------------------+--------------------+
| Debian 12 (arm)                        | PASS               |
+----------------------------------------+--------------------+
| Ubuntu 20.04 ARM Clang Cross Compile   | PASS               |
+----------------------------------------+--------------------+
| Ubuntu 20.04 aarch32 GCC Cross Compile | PASS               |
+----------------------------------------+--------------------+


RHEL9 (ARM)
	Kernel: Depends on container host
	Compiler: gcc 11.4.1

Ubuntu 20.04 ARM GCC Cross Compile
	Kernel: 5.4.0-167-generic
	Compiler: aarch64-linux-gnu-gcc (Ubuntu 9.4.0-1ubuntu1~20.04.2) 9.4.0

Ubuntu 20.04 ARM SVE
	Kernel: 5.4.0-167-generic
	Compiler: gcc (Ubuntu 10.5.0-1ubuntu1~20.04) 10.5.0

Debian 12 with MUSDK
	Kernel: Container Host Kernel
	Compiler: gcc 12.2.0

Fedora 37 (ARM)
	Kernel: Depends on container host
	Compiler: gcc 12.3.1

Fedora 38 (ARM)
	Kernel: Depends on container host
	Compiler: gcc 13.2.1

Fedora 38 (ARM Clang)
	Kernel: Depends on container host
	Compiler: clang 16.0.6

Fedora 39 (ARM)
	Kernel: Depends on container host
	Compiler: gcc 13.2.1

Fedora 39 (ARM Clang)
	Kernel: Depends on container host
	Compiler: clang 17.0.6

Fedora 40 (ARM)
	Kernel: Depends on container host
	Compiler: gcc 14.1.1

Fedora 40 (ARM Clang)
	Kernel: Depends on container host
	Compiler: clang 18.1.6

Ubuntu 20.04 (ARM)
	Kernel: Container Host Kernel
	Compiler: gcc 9.4.0

Ubuntu 22.04 (ARM)
	Kernel: Container Host Kernel
	Compiler: gcc 11.4.0

Ubuntu 24.04 (ARM)
	Kernel: 5.4.0-167-generic
	Compiler: gcc 13.2.0

CentOS Stream 9 (ARM)
	Kernel: Container Host Kernel
	Compiler: gcc 11.4.1

Debian 11 (Buster) (ARM)
	Kernel: Container Host Kernel
	Compiler: gcc 10.2.1

Debian 12 (arm)
	Kernel: Container Host Kernel
	Compiler: gcc 12.2.0

Ubuntu 20.04 ARM Clang Cross Compile
	Kernel: 5.4.0-72-generic
	Compiler: clang 10.0.0-4ubuntu1

Ubuntu 20.04 aarch32 GCC Cross Compile
	Kernel: 5.4.0-167-generic
	Compiler: gcc 9.4.0

To view detailed results, visit:
https://lab.dpdk.org/results/dashboard/patchsets/30694/

UNH-IOL DPDK Community Lab

To manage your email subscriptions, visit: 
https://lab.dpdk.org/results/dashboard/preferences/subscriptions/