From mboxrd@z Thu Jan  1 00:00:00 1970
Return-Path: <test-report-bounces@dpdk.org>
Received: from mails.dpdk.org (mails.dpdk.org [217.70.189.124])
	by inbox.dpdk.org (Postfix) with ESMTP id 79BBD456A3
	for <public@inbox.dpdk.org>; Fri,  2 Aug 2024 10:45:33 +0200 (CEST)
Received: from mails.dpdk.org (localhost [127.0.0.1])
	by mails.dpdk.org (Postfix) with ESMTP id 73EC740E38;
	Fri,  2 Aug 2024 10:45:33 +0200 (CEST)
Received: from mail-pg1-f226.google.com (mail-pg1-f226.google.com
 [209.85.215.226])
 by mails.dpdk.org (Postfix) with ESMTP id 8D03640431
 for <test-report@dpdk.org>; Fri,  2 Aug 2024 10:45:32 +0200 (CEST)
Received: by mail-pg1-f226.google.com with SMTP id
 41be03b00d2f7-7a1843b4cdbso4725376a12.2
 for <test-report@dpdk.org>; Fri, 02 Aug 2024 01:45:32 -0700 (PDT)
DKIM-Signature: v=1; a=rsa-sha256; c=relaxed/relaxed;
 d=iol.unh.edu; s=unh-iol; t=1722588332; x=1723193132; darn=dpdk.org;
 h=references:in-reply-to:cc:to:from:subject:message-id:date:from:to
 :cc:subject:date:message-id:reply-to;
 bh=BtRsszFnb5TAJCVhssraga/rVQaLmGLDCUIOgCUZ8JI=;
 b=dPXgJ1xNxnmgPsPUAEcHLEBN523QWwhGmNb7P5Rl/S63wnbj+Zc4Xzqdi0QPm2HvV8
 hl88+3wOP5mQyCubT7hiBqYmUPTfYO7vJQL+fs/eEwTMKUX/utceHQApVdMbXo2UOX1F
 dvf+Ex/16bakqL05f7cIwsCYlOsmwlirZWcRk=
X-Google-DKIM-Signature: v=1; a=rsa-sha256; c=relaxed/relaxed;
 d=1e100.net; s=20230601; t=1722588332; x=1723193132;
 h=references:in-reply-to:cc:to:from:subject:message-id:date
 :x-gm-message-state:from:to:cc:subject:date:message-id:reply-to;
 bh=BtRsszFnb5TAJCVhssraga/rVQaLmGLDCUIOgCUZ8JI=;
 b=XyfwoHLHF9R1hXb9mCyI/qTwKbFgX8zs/xCZHwDKjtGeNE1kJP9ZznWZvE91FauZO3
 RLKt/TFWF5f8EPJyx1tWWOKQ5UtSVyGJRTzfp9InYX46wFoTi9/M5QWEmEsjqk6OHFkA
 d098FIqe7HU7b7yLMm0ifLjk5uIsnWWehOGgh1czfQjh0abamJ/VANhJMgPf4LfR1eV1
 7mLGRiaTA8zJivWrEaWX5mqVLSFEbxftymrpUYBv3EeWnZgp9UGjb8glOBol4oO54tZ4
 XScc8EDoZrgmpWci+F8aQjW6rHYc6kB8cDK8Ogt4s0W9bRO9MVqck2uXQLwspySY3PhR
 4ncA==
X-Gm-Message-State: AOJu0YwhUQpInQDSi0AKLvugk2wbnBHG6QiQjfuUAQbiE6vaBkigbAQr
 snIfodwA3u3I0dc5vHWjQ5Ztigojl4hQbNFSKystrUnBlEzwhA4yMX7O/q+S5wSSwMVdIn6XmeW
 oVO1l0NMUaOQp1qr0grJwJgLqi2xnF9i8J55A8F7Y
X-Google-Smtp-Source: AGHT+IEY0yz/ldA5jF75EnvVRczmvJRM9CBqClKg3uFi0fcLaFBrHFCI78C0q3E0ETeOsFhGqosdbZK0Lvsj
X-Received: by 2002:a05:6a21:e8d:b0:1c4:17e1:14d0 with SMTP id
 adf61e73a8af0-1c69966a6dbmr2936790637.47.1722588331631; 
 Fri, 02 Aug 2024 01:45:31 -0700 (PDT)
Received: from postal.iol.unh.edu (postal.iol.unh.edu. [132.177.123.84])
 by smtp-relay.gmail.com with ESMTPS id
 98e67ed59e1d1-2cffb17a202sm61098a91.13.2024.08.02.01.45.31
 (version=TLS1_2 cipher=ECDHE-ECDSA-AES128-GCM-SHA256 bits=128/128);
 Fri, 02 Aug 2024 01:45:31 -0700 (PDT)
X-Relaying-Domain: iol.unh.edu
Date: Fri, 02 Aug 2024 01:45:31 -0700 (PDT)
Message-ID: <66ac9cab.170a0220.ec98.4443SMTPIN_ADDED_MISSING@mx.google.com>
Received: from [172.17.0.2] (unknown [172.18.0.217])
 by postal.iol.unh.edu (Postfix) with ESMTP id 98CB960524C8;
 Fri,  2 Aug 2024 04:45:30 -0400 (EDT)
Subject: |PENDING| pw142806 [PATCH] [v1] net/ice: updated 24.07 recommended m
From: dpdklab@iol.unh.edu
To: Test Report <test-report@dpdk.org>
Cc: dpdk-test-reports@iol.unh.edu
In-Reply-To: <20240801081841.749842-1-hailinx.xu@intel.com>
References: <20240801081841.749842-1-hailinx.xu@intel.com>
Content-Type: text/plain
X-BeenThere: test-report@dpdk.org
X-Mailman-Version: 2.1.29
Precedence: list
List-Id: automatic DPDK test reports <test-report.dpdk.org>
List-Unsubscribe: <https://mails.dpdk.org/options/test-report>,
 <mailto:test-report-request@dpdk.org?subject=unsubscribe>
List-Archive: <http://mails.dpdk.org/archives/test-report/>
List-Post: <mailto:test-report@dpdk.org>
List-Help: <mailto:test-report-request@dpdk.org?subject=help>
List-Subscribe: <https://mails.dpdk.org/listinfo/test-report>,
 <mailto:test-report-request@dpdk.org?subject=subscribe>
Errors-To: test-report-bounces@dpdk.org

Test-Label: iol-compile-arm64-testing
Test-Status: PENDING
http://dpdk.org/patch/142806

_Testing pending_

Submitter: hailinx <hailinx.xu@intel.com>
Date: Thursday, August 01 2024 08:18:41 
DPDK git baseline: Repo:dpdk
  Branch: master
  CommitID:3b017bdc4c25e2cd6733a9363e9c566b95834cc4

142806 --> testing pending

Upstream job id: Generic-DPDK-Compile-Meson#283687

Test environment and result as below:

+----------------------------------------+--------------------+
|              Environment               | dpdk_meson_compile |
+========================================+====================+
| RHEL9 (ARM)                            | PASS               |
+----------------------------------------+--------------------+
| Ubuntu 20.04 ARM GCC Cross Compile     | PEND               |
+----------------------------------------+--------------------+
| Ubuntu 20.04 ARM SVE                   | PASS               |
+----------------------------------------+--------------------+
| Debian 12 with MUSDK                   | PASS               |
+----------------------------------------+--------------------+
| Fedora 38 (ARM)                        | PASS               |
+----------------------------------------+--------------------+
| Fedora 38 (ARM Clang)                  | PEND               |
+----------------------------------------+--------------------+
| Fedora 39 (ARM)                        | PASS               |
+----------------------------------------+--------------------+
| Fedora 40 (ARM)                        | PASS               |
+----------------------------------------+--------------------+
| Fedora 40 (ARM Clang)                  | PEND               |
+----------------------------------------+--------------------+
| Fedora 39 (ARM Clang)                  | PEND               |
+----------------------------------------+--------------------+
| Ubuntu 22.04 (ARM)                     | PASS               |
+----------------------------------------+--------------------+
| Ubuntu 20.04 (ARM)                     | PASS               |
+----------------------------------------+--------------------+
| Ubuntu 24.04 (ARM)                     | PASS               |
+----------------------------------------+--------------------+
| CentOS Stream 9 (ARM)                  | PEND               |
+----------------------------------------+--------------------+
| Debian 11 (Buster) (ARM)               | PEND               |
+----------------------------------------+--------------------+
| Debian 12 (arm)                        | PEND               |
+----------------------------------------+--------------------+
| Ubuntu 20.04 ARM Clang Cross Compile   | PEND               |
+----------------------------------------+--------------------+
| Ubuntu 20.04 aarch32 GCC Cross Compile | PEND               |
+----------------------------------------+--------------------+


RHEL9 (ARM)
	Kernel: Depends on container host
	Compiler: gcc 11.4.1

Ubuntu 20.04 ARM GCC Cross Compile
	Kernel: 5.4.0-167-generic
	Compiler: aarch64-linux-gnu-gcc (Ubuntu 9.4.0-1ubuntu1~20.04.2) 9.4.0

Ubuntu 20.04 ARM SVE
	Kernel: 5.4.0-167-generic
	Compiler: gcc (Ubuntu 10.5.0-1ubuntu1~20.04) 10.5.0

Debian 12 with MUSDK
	Kernel: Container Host Kernel
	Compiler: gcc 12.2.0

Fedora 38 (ARM)
	Kernel: Depends on container host
	Compiler: gcc 13.2.1

Fedora 38 (ARM Clang)
	Kernel: Depends on container host
	Compiler: clang 16.0.6

Fedora 39 (ARM)
	Kernel: Depends on container host
	Compiler: gcc 13.2.1

Fedora 40 (ARM)
	Kernel: Depends on container host
	Compiler: gcc 14.1.1

Fedora 40 (ARM Clang)
	Kernel: Depends on container host
	Compiler: clang 18.1.6

Fedora 39 (ARM Clang)
	Kernel: Depends on container host
	Compiler: clang 17.0.6

Ubuntu 22.04 (ARM)
	Kernel: Container Host Kernel
	Compiler: gcc 11.4.0

Ubuntu 20.04 (ARM)
	Kernel: Container Host Kernel
	Compiler: gcc 9.4.0

Ubuntu 24.04 (ARM)
	Kernel: 5.4.0-167-generic
	Compiler: gcc 13.2.0

CentOS Stream 9 (ARM)
	Kernel: Container Host Kernel
	Compiler: gcc 11.4.1

Debian 11 (Buster) (ARM)
	Kernel: Container Host Kernel
	Compiler: gcc 10.2.1

Debian 12 (arm)
	Kernel: Container Host Kernel
	Compiler: gcc 12.2.0

Ubuntu 20.04 ARM Clang Cross Compile
	Kernel: 5.4.0-72-generic
	Compiler: clang 10.0.0-4ubuntu1

Ubuntu 20.04 aarch32 GCC Cross Compile
	Kernel: 5.4.0-167-generic
	Compiler: gcc 9.4.0

To view detailed results, visit:
https://lab.dpdk.org/results/dashboard/patchsets/30689/

UNH-IOL DPDK Community Lab

To manage your email subscriptions, visit: 
https://lab.dpdk.org/results/dashboard/preferences/subscriptions/