From mboxrd@z Thu Jan  1 00:00:00 1970
Return-Path: <test-report-bounces@dpdk.org>
Received: from mails.dpdk.org (mails.dpdk.org [217.70.189.124])
	by inbox.dpdk.org (Postfix) with ESMTP id 47EF1456BF
	for <public@inbox.dpdk.org>; Fri,  2 Aug 2024 11:28:20 +0200 (CEST)
Received: from mails.dpdk.org (localhost [127.0.0.1])
	by mails.dpdk.org (Postfix) with ESMTP id 42B5740E28;
	Fri,  2 Aug 2024 11:28:20 +0200 (CEST)
Received: from mail-yw1-f226.google.com (mail-yw1-f226.google.com
 [209.85.128.226])
 by mails.dpdk.org (Postfix) with ESMTP id E776D40431
 for <test-report@dpdk.org>; Fri,  2 Aug 2024 11:28:19 +0200 (CEST)
Received: by mail-yw1-f226.google.com with SMTP id
 00721157ae682-66599ca3470so67061707b3.2
 for <test-report@dpdk.org>; Fri, 02 Aug 2024 02:28:19 -0700 (PDT)
DKIM-Signature: v=1; a=rsa-sha256; c=relaxed/relaxed;
 d=iol.unh.edu; s=unh-iol; t=1722590899; x=1723195699; darn=dpdk.org;
 h=references:in-reply-to:cc:to:from:subject:message-id:date:from:to
 :cc:subject:date:message-id:reply-to;
 bh=Kz6BZ33fuJAvQrOP3hWKyQ2KydlQ9iZniJTlF4abo+Q=;
 b=YquSp/9s6gCs47fT7Ix6EEcdboSX/O01Q7tQCYRI6R8QTyBfUFJ9aH8+WAbJLWCpA+
 m8lMXgHJSgL5N4t6qOJETuNwAP1nNVc4Xc/hqyjHTPMutGPwrqGHqwW/DaHTBuG6XO0b
 Od3Jc1TkNLGhpj4MCbRNRMXYnyJtxklvh2+u4=
X-Google-DKIM-Signature: v=1; a=rsa-sha256; c=relaxed/relaxed;
 d=1e100.net; s=20230601; t=1722590899; x=1723195699;
 h=references:in-reply-to:cc:to:from:subject:message-id:date
 :x-gm-message-state:from:to:cc:subject:date:message-id:reply-to;
 bh=Kz6BZ33fuJAvQrOP3hWKyQ2KydlQ9iZniJTlF4abo+Q=;
 b=Y92tr6hLTrS60NLl6pMnpkq7bVXlb62dMjwiG2G1ErBvha1gFRyIIHGKMkRuT713QG
 0Of9WnFUzjS9EF217uEx3J0+KlojXuAOwcDI5kN3GnimdsC6ktxxGfI9femMHcZAuudo
 UB53/LHAjbO2M3vwTXyhasRLZMnqsTtPnfsyEphg3MjtPCPVCotQhVmTUyBsEzheoT0i
 djfw+X0X7JeeqKIbM8O49j0tkYUKOxW4vALleL2+YqHEqylJTfWvC4xI1KQC7QnZFC4H
 N58MO0g58Mf9fsDVFaPfi31LJI6+GX/4SUs4jCHKTQxn/wTh1PsmrkKnTy4a+sWUZ/CJ
 wTfA==
X-Gm-Message-State: AOJu0YxyLnLVWDU4riyKsbcoYLCnolhOuIgPEcEYhGtCHYhRuKhsgE6j
 nz6WfOihQq+z7p9LuDrWAIYvu2cX0R0F0EAaN+N82z57NUq9fdnJtdR/3LRZ4scknbEKmurVg8+
 fBMKRvIltGyKGlOv9/Q0EfzmbrFX91JQqlMQL9KH4
X-Google-Smtp-Source: AGHT+IEyiCiXkXwtNTAVHQnfaaTtm9M8/pj0ufVeTJID8P9OKJ6oF1UgUEla1KlEuTKcvOc2hEwCm+Tu9u/e
X-Received: by 2002:a0d:cdc3:0:b0:664:c24f:c249 with SMTP id
 00721157ae682-689617fa1c6mr32693817b3.27.1722590899232; 
 Fri, 02 Aug 2024 02:28:19 -0700 (PDT)
Received: from postal.iol.unh.edu (postal.iol.unh.edu. [132.177.123.84])
 by smtp-relay.gmail.com with ESMTPS id
 00721157ae682-68a12080f45sm236007b3.22.2024.08.02.02.28.19
 (version=TLS1_2 cipher=ECDHE-ECDSA-AES128-GCM-SHA256 bits=128/128);
 Fri, 02 Aug 2024 02:28:19 -0700 (PDT)
X-Relaying-Domain: iol.unh.edu
Date: Fri, 02 Aug 2024 02:28:19 -0700 (PDT)
Message-ID: <66aca6b3.810a0220.c0eed.1bb7SMTPIN_ADDED_MISSING@mx.google.com>
Received: from [172.21.0.8] (unknown [172.18.0.240])
 by postal.iol.unh.edu (Postfix) with ESMTP id E99B460524C8;
 Fri,  2 Aug 2024 05:28:18 -0400 (EDT)
Subject: |SUCCESS| pw142806 [PATCH] [v1] net/ice: updated 24.07 recommended m
From: dpdklab@iol.unh.edu
To: Test Report <test-report@dpdk.org>
Cc: dpdk-test-reports@iol.unh.edu
In-Reply-To: <20240801081841.749842-1-hailinx.xu@intel.com>
References: <20240801081841.749842-1-hailinx.xu@intel.com>
Content-Type: text/plain
X-BeenThere: test-report@dpdk.org
X-Mailman-Version: 2.1.29
Precedence: list
List-Id: automatic DPDK test reports <test-report.dpdk.org>
List-Unsubscribe: <https://mails.dpdk.org/options/test-report>,
 <mailto:test-report-request@dpdk.org?subject=unsubscribe>
List-Archive: <http://mails.dpdk.org/archives/test-report/>
List-Post: <mailto:test-report@dpdk.org>
List-Help: <mailto:test-report-request@dpdk.org?subject=help>
List-Subscribe: <https://mails.dpdk.org/listinfo/test-report>,
 <mailto:test-report-request@dpdk.org?subject=subscribe>
Errors-To: test-report-bounces@dpdk.org

Test-Label: iol-unit-amd64-testing
Test-Status: SUCCESS
http://dpdk.org/patch/142806

_Testing PASS_

Submitter: hailinx <hailinx.xu@intel.com>
Date: Thursday, August 01 2024 08:18:41 
DPDK git baseline: Repo:dpdk
  Branch: master
  CommitID:3b017bdc4c25e2cd6733a9363e9c566b95834cc4

142806 --> testing pass

Upstream job id: Generic-Unit-Test-DPDK#248144

Test environment and result as below:

+---------------------+----------------+
|     Environment     | dpdk_unit_test |
+=====================+================+
| Windows Server 2022 | PASS           |
+---------------------+----------------+
| Windows Server 2019 | PASS           |
+---------------------+----------------+
| CentOS Stream 9     | PASS           |
+---------------------+----------------+
| Debian Bullseye     | PASS           |
+---------------------+----------------+
| Fedora 37           | PASS           |
+---------------------+----------------+
| Debian 12           | PASS           |
+---------------------+----------------+
| Fedora 38 (Clang)   | PASS           |
+---------------------+----------------+
| Fedora 38           | PASS           |
+---------------------+----------------+
| Fedora 39           | PASS           |
+---------------------+----------------+
| Fedora 39 (Clang)   | PASS           |
+---------------------+----------------+
| Fedora 40           | PASS           |
+---------------------+----------------+
| Fedora 40 (Clang)   | PASS           |
+---------------------+----------------+
| RHEL8               | PASS           |
+---------------------+----------------+
| openSUSE Leap 15    | PASS           |
+---------------------+----------------+
| RHEL9               | PASS           |
+---------------------+----------------+
| Ubuntu 20.04        | PASS           |
+---------------------+----------------+
| Ubuntu 22.04        | PASS           |
+---------------------+----------------+
| Ubuntu 24.04        | PASS           |
+---------------------+----------------+


Windows Server 2022
	Kernel: 10.0.20348.2031
	Compiler: clang 15.0.7, gcc 8.1.0 (MinGW), and MSVC VS 17.9

Windows Server 2019
	Kernel: 10.0.17763
	Compiler: clang 14.0 and gcc 8.1.0 (MinGW)

CentOS Stream 9
	Kernel: 5.4.0-167-generic
	Compiler: gcc 11.4.1 20230605

Debian Bullseye
	Kernel: 5.4.0-167-generic
	Compiler: gcc 10.2.1-6

Fedora 37
	Kernel: Depends on container host system
	Compiler: gcc 12.3.1

Debian 12
	Kernel: Container Host Kernel
	Compiler: gcc 12.2.0

Fedora 38 (Clang)
	Kernel: Depends on container host
	Compiler: clang 16.0.6

Fedora 38
	Kernel: Depends on container host
	Compiler: gcc 13.2.1

Fedora 39
	Kernel: Depends on container host
	Compiler: gcc 13.2.1

Fedora 39 (Clang)
	Kernel: Depends on container host
	Compiler: clang 17.0.6

Fedora 40
	Kernel: Depends on container host
	Compiler: gcc 14.1.1

Fedora 40 (Clang)
	Kernel: Depends on container host
	Compiler: clang 18.1.6

RHEL8
	Kernel: 5.4.0-167-generic
	Compiler: gcc 8.5.0 20210514 (Red Hat 8.5.0-20)

openSUSE Leap 15
	Kernel: 5.4.0-167-generic
	Compiler: gcc 7.5.0

RHEL9
	Kernel: Depends on container host
	Compiler: gcc 11.4.1

Ubuntu 20.04
	Kernel: 5.4.0-167-generic
	Compiler: gcc 9.4.0-1ubuntu1~20.04.1

Ubuntu 22.04
	Kernel: 5.4.0-167-generic
	Compiler: gcc 11.4.0

Ubuntu 24.04
	Kernel: 5.4.0-167-generic
	Compiler: gcc 13.2.0

To view detailed results, visit:
https://lab.dpdk.org/results/dashboard/patchsets/30689/

UNH-IOL DPDK Community Lab

To manage your email subscriptions, visit: 
https://lab.dpdk.org/results/dashboard/preferences/subscriptions/