From mboxrd@z Thu Jan  1 00:00:00 1970
Return-Path: <test-report-bounces@dpdk.org>
Received: from mails.dpdk.org (mails.dpdk.org [217.70.189.124])
	by inbox.dpdk.org (Postfix) with ESMTP id 0991F4571A
	for <public@inbox.dpdk.org>; Fri,  2 Aug 2024 15:23:42 +0200 (CEST)
Received: from mails.dpdk.org (localhost [127.0.0.1])
	by mails.dpdk.org (Postfix) with ESMTP id 050FF42ECF;
	Fri,  2 Aug 2024 15:23:42 +0200 (CEST)
Received: from mail-pl1-f225.google.com (mail-pl1-f225.google.com
 [209.85.214.225])
 by mails.dpdk.org (Postfix) with ESMTP id C476240E20
 for <test-report@dpdk.org>; Fri,  2 Aug 2024 15:23:40 +0200 (CEST)
Received: by mail-pl1-f225.google.com with SMTP id
 d9443c01a7336-1fc692abba4so62058485ad.2
 for <test-report@dpdk.org>; Fri, 02 Aug 2024 06:23:40 -0700 (PDT)
DKIM-Signature: v=1; a=rsa-sha256; c=relaxed/relaxed;
 d=iol.unh.edu; s=unh-iol; t=1722605020; x=1723209820; darn=dpdk.org;
 h=references:in-reply-to:cc:to:from:subject:message-id:date:from:to
 :cc:subject:date:message-id:reply-to;
 bh=/ITx8Ngqd3iTihHN99N4AHTD27yerFVtSP922DtDjNk=;
 b=YQgy+yosoRNW+jsV04vZYXl1rWc+u4xxkgSBEvnKNsAcYyvHtSJAw0EsQoXAiQ7sNy
 XRXEl/W4ZEltMy+dfVvk6y7NGoW2qAlzSOVUgeNNmtwt6dpeS5EUISVufSKAW+gboxJN
 AdlftcY06ud+NPCeKkmjfdTrh7RM2M8Bgbmo0=
X-Google-DKIM-Signature: v=1; a=rsa-sha256; c=relaxed/relaxed;
 d=1e100.net; s=20230601; t=1722605020; x=1723209820;
 h=references:in-reply-to:cc:to:from:subject:message-id:date
 :x-gm-message-state:from:to:cc:subject:date:message-id:reply-to;
 bh=/ITx8Ngqd3iTihHN99N4AHTD27yerFVtSP922DtDjNk=;
 b=EhzORVZlMm8AOJMecF5Q3Bz/osPxtGSybHuKfOKak4qGwyhn5seRnQKXCVn2wCfPVe
 RtkKxmYA2iyEhutcOuiTDTxLGA9CvAHSZOjjiqkEdoPNOtgH7/BPGn/vSC+D4JSsd8hv
 ZOCkRNviM0iDtLrr7YFmkOQFtpn3T0JO256io9PM7X4tXRHpz2PhzerbzWXRB0sQT4Lb
 0jb3409hiElo0nqTMOA6MhOizaGTjy2ZFTu2LCtOahgrEBYazFIRUTDLV2rFwP6InBCM
 MUPFawsn6jQdhIwp7rsLP+0jJYHjWRWVx0AofW4vYG1L2NkFZCxouSWAxVuGTA3J65FR
 DeCw==
X-Gm-Message-State: AOJu0YxTbDU6/XxWJZjmKoUTceUfyoFU43eYmOOawrFymTRVB/KDVLL/
 lDZNvhO2Is91NxXRIA2HcxiJvsoJQeeaUJ078zPotRTsp/RoHcvdS3u3XMn+7ltZBS7ZDqoe8v/
 RwtCFp33O4TLdomzDuIR/DnzKTuDW5R4H51M+RL6W8c8uTwBcuk1ZlGZT
X-Google-Smtp-Source: AGHT+IGnbdV2RZAYRISVN5r7hSXlsFa947rUE1QnRiw1wgBJ2mPgyShrVMzURP+6TReCcRVMbi/7QQ37HErf
X-Received: by 2002:a17:902:e88e:b0:1ff:5049:7381 with SMTP id
 d9443c01a7336-1ff57262d0emr42498675ad.11.1722605019932; 
 Fri, 02 Aug 2024 06:23:39 -0700 (PDT)
Received: from postal.iol.unh.edu (postal.iol.unh.edu.
 [2606:4100:3880:1234::84]) by smtp-relay.gmail.com with ESMTPS id
 d9443c01a7336-1ff59068d33sm621785ad.81.2024.08.02.06.23.39
 (version=TLS1_2 cipher=ECDHE-ECDSA-AES128-GCM-SHA256 bits=128/128);
 Fri, 02 Aug 2024 06:23:39 -0700 (PDT)
X-Relaying-Domain: iol.unh.edu
Date: Fri, 02 Aug 2024 06:23:39 -0700 (PDT)
Message-ID: <66acdddb.170a0220.330b20.48b2SMTPIN_ADDED_MISSING@mx.google.com>
Received: from [172.17.0.5] (unknown [172.18.0.217])
 by postal.iol.unh.edu (Postfix) with ESMTP id 24E2F60526E2;
 Fri,  2 Aug 2024 09:23:39 -0400 (EDT)
Subject: |PENDING| pw142806 [PATCH] [v1] net/ice: updated 24.07 recommended m
From: dpdklab@iol.unh.edu
To: Test Report <test-report@dpdk.org>
Cc: dpdk-test-reports@iol.unh.edu
In-Reply-To: <20240801081841.749842-1-hailinx.xu@intel.com>
References: <20240801081841.749842-1-hailinx.xu@intel.com>
Content-Type: text/plain
X-BeenThere: test-report@dpdk.org
X-Mailman-Version: 2.1.29
Precedence: list
List-Id: automatic DPDK test reports <test-report.dpdk.org>
List-Unsubscribe: <https://mails.dpdk.org/options/test-report>,
 <mailto:test-report-request@dpdk.org?subject=unsubscribe>
List-Archive: <http://mails.dpdk.org/archives/test-report/>
List-Post: <mailto:test-report@dpdk.org>
List-Help: <mailto:test-report-request@dpdk.org?subject=help>
List-Subscribe: <https://mails.dpdk.org/listinfo/test-report>,
 <mailto:test-report-request@dpdk.org?subject=subscribe>
Errors-To: test-report-bounces@dpdk.org

Test-Label: iol-unit-amd64-testing
Test-Status: PENDING
http://dpdk.org/patch/142806

_Testing pending_

Submitter: hailinx <hailinx.xu@intel.com>
Date: Thursday, August 01 2024 08:18:41 
DPDK git baseline: Repo:dpdk
  Branch: master
  CommitID:3b017bdc4c25e2cd6733a9363e9c566b95834cc4

142806 --> testing pending

Upstream job id: Generic-Unit-Test-DPDK#248245

Test environment and result as below:

+---------------------+----------------+
|     Environment     | dpdk_unit_test |
+=====================+================+
| CentOS Stream 9     | PASS           |
+---------------------+----------------+
| Windows Server 2022 | PASS           |
+---------------------+----------------+
| Debian Bullseye     | PASS           |
+---------------------+----------------+
| Debian 12           | PASS           |
+---------------------+----------------+
| Fedora 38           | PASS           |
+---------------------+----------------+
| Fedora 38 (Clang)   | PASS           |
+---------------------+----------------+
| Windows Server 2019 | PASS           |
+---------------------+----------------+
| Fedora 37           | PASS           |
+---------------------+----------------+
| openSUSE Leap 15    | PASS           |
+---------------------+----------------+
| Fedora 39 (Clang)   | PEND           |
+---------------------+----------------+
| Fedora 39           | PASS           |
+---------------------+----------------+
| Fedora 40 (Clang)   | PEND           |
+---------------------+----------------+
| Ubuntu 24.04        | PASS           |
+---------------------+----------------+
| RHEL9               | PEND           |
+---------------------+----------------+
| Ubuntu 20.04        | PEND           |
+---------------------+----------------+
| Ubuntu 22.04        | PEND           |
+---------------------+----------------+
| RHEL8               | PEND           |
+---------------------+----------------+
| Fedora 40           | PEND           |
+---------------------+----------------+


CentOS Stream 9
	Kernel: 5.4.0-167-generic
	Compiler: gcc 11.4.1 20230605

Windows Server 2022
	Kernel: 10.0.20348.2031
	Compiler: clang 15.0.7, gcc 8.1.0 (MinGW), and MSVC VS 17.9

Debian Bullseye
	Kernel: 5.4.0-167-generic
	Compiler: gcc 10.2.1-6

Debian 12
	Kernel: Container Host Kernel
	Compiler: gcc 12.2.0

Fedora 38
	Kernel: Depends on container host
	Compiler: gcc 13.2.1

Fedora 38 (Clang)
	Kernel: Depends on container host
	Compiler: clang 16.0.6

Windows Server 2019
	Kernel: 10.0.17763
	Compiler: clang 14.0 and gcc 8.1.0 (MinGW)

Fedora 37
	Kernel: Depends on container host system
	Compiler: gcc 12.3.1

openSUSE Leap 15
	Kernel: 5.4.0-167-generic
	Compiler: gcc 7.5.0

Fedora 39 (Clang)
	Kernel: Depends on container host
	Compiler: clang 17.0.6

Fedora 39
	Kernel: Depends on container host
	Compiler: gcc 13.2.1

Fedora 40 (Clang)
	Kernel: Depends on container host
	Compiler: clang 18.1.6

Ubuntu 24.04
	Kernel: 5.4.0-167-generic
	Compiler: gcc 13.2.0

RHEL9
	Kernel: Depends on container host
	Compiler: gcc 11.4.1

Ubuntu 20.04
	Kernel: 5.4.0-167-generic
	Compiler: gcc 9.4.0-1ubuntu1~20.04.1

Ubuntu 22.04
	Kernel: 5.4.0-167-generic
	Compiler: gcc 11.4.0

RHEL8
	Kernel: 5.4.0-167-generic
	Compiler: gcc 8.5.0 20210514 (Red Hat 8.5.0-20)

Fedora 40
	Kernel: Depends on container host
	Compiler: gcc 14.1.1

To view detailed results, visit:
https://lab.dpdk.org/results/dashboard/patchsets/30689/

UNH-IOL DPDK Community Lab

To manage your email subscriptions, visit: 
https://lab.dpdk.org/results/dashboard/preferences/subscriptions/