From mboxrd@z Thu Jan  1 00:00:00 1970
Return-Path: <test-report-bounces@dpdk.org>
Received: from mails.dpdk.org (mails.dpdk.org [217.70.189.124])
	by inbox.dpdk.org (Postfix) with ESMTP id E9D154571A
	for <public@inbox.dpdk.org>; Fri,  2 Aug 2024 15:56:32 +0200 (CEST)
Received: from mails.dpdk.org (localhost [127.0.0.1])
	by mails.dpdk.org (Postfix) with ESMTP id DFFBF41141;
	Fri,  2 Aug 2024 15:56:32 +0200 (CEST)
Received: from mail-pl1-f226.google.com (mail-pl1-f226.google.com
 [209.85.214.226])
 by mails.dpdk.org (Postfix) with ESMTP id 5F10A40E20
 for <test-report@dpdk.org>; Fri,  2 Aug 2024 15:56:31 +0200 (CEST)
Received: by mail-pl1-f226.google.com with SMTP id
 d9443c01a7336-1fd66cddd07so61892905ad.2
 for <test-report@dpdk.org>; Fri, 02 Aug 2024 06:56:31 -0700 (PDT)
DKIM-Signature: v=1; a=rsa-sha256; c=relaxed/relaxed;
 d=iol.unh.edu; s=unh-iol; t=1722606990; x=1723211790; darn=dpdk.org;
 h=references:in-reply-to:cc:to:from:subject:message-id:date:from:to
 :cc:subject:date:message-id:reply-to;
 bh=Mgr5mV3DgCxlWPzrW6wBU4GqTySCXXrESps3uZ0+ld4=;
 b=b1kiyyz1/RW9Q9SPuBIQM+GI0V7GqW4gd3GwoQxiGm3rGzJswat3Sf/RtMbOm2bYaK
 MTzDnCKHLoH8UXww5aEpU1FdMD0FT6RHDGCbjC+ajrzuffxqFurxcR5opyLixQ7mFew4
 5SkQiMS0hS3ZeBtPRsTUqnUN12aRtJOVZqP18=
X-Google-DKIM-Signature: v=1; a=rsa-sha256; c=relaxed/relaxed;
 d=1e100.net; s=20230601; t=1722606990; x=1723211790;
 h=references:in-reply-to:cc:to:from:subject:message-id:date
 :x-gm-message-state:from:to:cc:subject:date:message-id:reply-to;
 bh=Mgr5mV3DgCxlWPzrW6wBU4GqTySCXXrESps3uZ0+ld4=;
 b=AoEXuApzKDdAI+ewm4/+lOzPJ971CTfnTJiu+BYE8CgBRbpU/GYTLQZr2X6OZtgXx/
 kppRhiTU2slJLASjtC2zX959nY286y+Mf47Pf8I4WL5pFtRqWWfGJljC+pd7FCUc/Ili
 l/fjuOYj1LQocD9iHfqZBdWDlod7f5KOZiR8GL660IyRMAuexxuRTosaLmWhzql2dtDj
 XkJ0gMo2dyFjAcaXDK7ectM3H+OmZ+P6UpjH7sJIzvJzg446gMXAiZgjmtQ8EAJRd+bN
 dHak7xi+NPmZKrvn6uvESJgRVT7HRAtL3py5oFs6xFWYukB8ZiXUegyZlVEMKdWeAvtl
 t/sQ==
X-Gm-Message-State: AOJu0Yzq/sYO9VFUgE1XqcCnBwY2iOKYfCZefvAl6hHHGPzz5G2wILQs
 ihWwaMWJV7W4I4YvcGj1oCqYFBHsWl4xCB/Z+fpJ6vbqkpSXO8a4lmemn6TWTp9XdFESED6sZW5
 U9le/c+48r2L0ArKhvVCaZEkcXmr6/8n4nQbHEdck
X-Google-Smtp-Source: AGHT+IHEtvJQ8YHexcazFLnRY3ifgXZ1rIYYitLLgMk6wfnzCK3xzULur2kVt2jBprKfaxMzRipfSRtPx0U0
X-Received: by 2002:a17:902:d48d:b0:1fd:64ef:da17 with SMTP id
 d9443c01a7336-1ff573b4dbfmr43615885ad.41.1722606990582; 
 Fri, 02 Aug 2024 06:56:30 -0700 (PDT)
Received: from postal.iol.unh.edu (postal.iol.unh.edu. [132.177.123.84])
 by smtp-relay.gmail.com with ESMTPS id
 d9443c01a7336-1ff58f378a2sm645315ad.23.2024.08.02.06.56.30
 (version=TLS1_2 cipher=ECDHE-ECDSA-AES128-GCM-SHA256 bits=128/128);
 Fri, 02 Aug 2024 06:56:30 -0700 (PDT)
X-Relaying-Domain: iol.unh.edu
Date: Fri, 02 Aug 2024 06:56:30 -0700 (PDT)
Message-ID: <66ace58e.170a0220.394df3.4b41SMTPIN_ADDED_MISSING@mx.google.com>
Received: from [172.21.0.6] (unknown [172.18.0.240])
 by postal.iol.unh.edu (Postfix) with ESMTP id 0538360526E2;
 Fri,  2 Aug 2024 09:56:30 -0400 (EDT)
Subject: |SUCCESS| pw142806 [PATCH] [v1] net/ice: updated 24.07 recommended m
From: dpdklab@iol.unh.edu
To: Test Report <test-report@dpdk.org>
Cc: dpdk-test-reports@iol.unh.edu
In-Reply-To: <20240801081841.749842-1-hailinx.xu@intel.com>
References: <20240801081841.749842-1-hailinx.xu@intel.com>
Content-Type: text/plain
X-BeenThere: test-report@dpdk.org
X-Mailman-Version: 2.1.29
Precedence: list
List-Id: automatic DPDK test reports <test-report.dpdk.org>
List-Unsubscribe: <https://mails.dpdk.org/options/test-report>,
 <mailto:test-report-request@dpdk.org?subject=unsubscribe>
List-Archive: <http://mails.dpdk.org/archives/test-report/>
List-Post: <mailto:test-report@dpdk.org>
List-Help: <mailto:test-report-request@dpdk.org?subject=help>
List-Subscribe: <https://mails.dpdk.org/listinfo/test-report>,
 <mailto:test-report-request@dpdk.org?subject=subscribe>
Errors-To: test-report-bounces@dpdk.org

Test-Label: iol-compile-arm64-testing
Test-Status: SUCCESS
http://dpdk.org/patch/142806

_Testing PASS_

Submitter: hailinx <hailinx.xu@intel.com>
Date: Thursday, August 01 2024 08:18:41 
DPDK git baseline: Repo:dpdk
  Branch: master
  CommitID:3b017bdc4c25e2cd6733a9363e9c566b95834cc4

142806 --> testing pass

Upstream job id: Generic-DPDK-Compile-Meson#283822

Test environment and result as below:

+----------------------------------------+--------------------+
|              Environment               | dpdk_meson_compile |
+========================================+====================+
| RHEL9 (ARM)                            | PASS               |
+----------------------------------------+--------------------+
| Ubuntu 20.04 ARM GCC Cross Compile     | PASS               |
+----------------------------------------+--------------------+
| Ubuntu 20.04 ARM SVE                   | PASS               |
+----------------------------------------+--------------------+
| Debian 12 with MUSDK                   | PASS               |
+----------------------------------------+--------------------+
| Fedora 37 (ARM)                        | PASS               |
+----------------------------------------+--------------------+
| Fedora 38 (ARM)                        | PASS               |
+----------------------------------------+--------------------+
| Fedora 38 (ARM Clang)                  | PASS               |
+----------------------------------------+--------------------+
| Fedora 39 (ARM)                        | PASS               |
+----------------------------------------+--------------------+
| Fedora 39 (ARM Clang)                  | PASS               |
+----------------------------------------+--------------------+
| Fedora 40 (ARM)                        | PASS               |
+----------------------------------------+--------------------+
| Fedora 40 (ARM Clang)                  | PASS               |
+----------------------------------------+--------------------+
| Ubuntu 20.04 (ARM)                     | PASS               |
+----------------------------------------+--------------------+
| Ubuntu 22.04 (ARM)                     | PASS               |
+----------------------------------------+--------------------+
| Ubuntu 24.04 (ARM)                     | PASS               |
+----------------------------------------+--------------------+
| CentOS Stream 9 (ARM)                  | PASS               |
+----------------------------------------+--------------------+
| Debian 11 (Buster) (ARM)               | PASS               |
+----------------------------------------+--------------------+
| Debian 12 (arm)                        | PASS               |
+----------------------------------------+--------------------+
| Ubuntu 20.04 ARM Clang Cross Compile   | PASS               |
+----------------------------------------+--------------------+
| Ubuntu 20.04 aarch32 GCC Cross Compile | PASS               |
+----------------------------------------+--------------------+


RHEL9 (ARM)
	Kernel: Depends on container host
	Compiler: gcc 11.4.1

Ubuntu 20.04 ARM GCC Cross Compile
	Kernel: 5.4.0-167-generic
	Compiler: aarch64-linux-gnu-gcc (Ubuntu 9.4.0-1ubuntu1~20.04.2) 9.4.0

Ubuntu 20.04 ARM SVE
	Kernel: 5.4.0-167-generic
	Compiler: gcc (Ubuntu 10.5.0-1ubuntu1~20.04) 10.5.0

Debian 12 with MUSDK
	Kernel: Container Host Kernel
	Compiler: gcc 12.2.0

Fedora 37 (ARM)
	Kernel: Depends on container host
	Compiler: gcc 12.3.1

Fedora 38 (ARM)
	Kernel: Depends on container host
	Compiler: gcc 13.2.1

Fedora 38 (ARM Clang)
	Kernel: Depends on container host
	Compiler: clang 16.0.6

Fedora 39 (ARM)
	Kernel: Depends on container host
	Compiler: gcc 13.2.1

Fedora 39 (ARM Clang)
	Kernel: Depends on container host
	Compiler: clang 17.0.6

Fedora 40 (ARM)
	Kernel: Depends on container host
	Compiler: gcc 14.1.1

Fedora 40 (ARM Clang)
	Kernel: Depends on container host
	Compiler: clang 18.1.6

Ubuntu 20.04 (ARM)
	Kernel: Container Host Kernel
	Compiler: gcc 9.4.0

Ubuntu 22.04 (ARM)
	Kernel: Container Host Kernel
	Compiler: gcc 11.4.0

Ubuntu 24.04 (ARM)
	Kernel: 5.4.0-167-generic
	Compiler: gcc 13.2.0

CentOS Stream 9 (ARM)
	Kernel: Container Host Kernel
	Compiler: gcc 11.4.1

Debian 11 (Buster) (ARM)
	Kernel: Container Host Kernel
	Compiler: gcc 10.2.1

Debian 12 (arm)
	Kernel: Container Host Kernel
	Compiler: gcc 12.2.0

Ubuntu 20.04 ARM Clang Cross Compile
	Kernel: 5.4.0-72-generic
	Compiler: clang 10.0.0-4ubuntu1

Ubuntu 20.04 aarch32 GCC Cross Compile
	Kernel: 5.4.0-167-generic
	Compiler: gcc 9.4.0

To view detailed results, visit:
https://lab.dpdk.org/results/dashboard/patchsets/30689/

UNH-IOL DPDK Community Lab

To manage your email subscriptions, visit: 
https://lab.dpdk.org/results/dashboard/preferences/subscriptions/