From mboxrd@z Thu Jan  1 00:00:00 1970
Return-Path: <test-report-bounces@dpdk.org>
Received: from mails.dpdk.org (mails.dpdk.org [217.70.189.124])
	by inbox.dpdk.org (Postfix) with ESMTP id 540684571C
	for <public@inbox.dpdk.org>; Fri,  2 Aug 2024 17:03:28 +0200 (CEST)
Received: from mails.dpdk.org (localhost [127.0.0.1])
	by mails.dpdk.org (Postfix) with ESMTP id 5012340E3F;
	Fri,  2 Aug 2024 17:03:28 +0200 (CEST)
Received: from mail-il1-f227.google.com (mail-il1-f227.google.com
 [209.85.166.227])
 by mails.dpdk.org (Postfix) with ESMTP id 6C2D740E20
 for <test-report@dpdk.org>; Fri,  2 Aug 2024 17:03:27 +0200 (CEST)
Received: by mail-il1-f227.google.com with SMTP id
 e9e14a558f8ab-39b07cc76cdso10467595ab.1
 for <test-report@dpdk.org>; Fri, 02 Aug 2024 08:03:27 -0700 (PDT)
DKIM-Signature: v=1; a=rsa-sha256; c=relaxed/relaxed;
 d=iol.unh.edu; s=unh-iol; t=1722611007; x=1723215807; darn=dpdk.org;
 h=references:in-reply-to:cc:to:from:subject:message-id:date:from:to
 :cc:subject:date:message-id:reply-to;
 bh=oMcW+O00G/KFV9CWfvhy72k/n+DvCgPL47fjI3R4eIw=;
 b=FEBLlEEOzCTy7OpFVSbdzxByIK1XcVYJ0dkQGiS3Xez93Jvw3Hsb74kd8lpSFeXxD0
 uYu76Gw9ax2sc8YZi7HSTP/SVm9Ojc18YeZC6V2Bdt5DzbvriJQqUgj1jgtTVcleVEfs
 aDm8mVoeivuq5j82AwwDLrsmae14bwp88MmLI=
X-Google-DKIM-Signature: v=1; a=rsa-sha256; c=relaxed/relaxed;
 d=1e100.net; s=20230601; t=1722611007; x=1723215807;
 h=references:in-reply-to:cc:to:from:subject:message-id:date
 :x-gm-message-state:from:to:cc:subject:date:message-id:reply-to;
 bh=oMcW+O00G/KFV9CWfvhy72k/n+DvCgPL47fjI3R4eIw=;
 b=dLgFL2v993Zr8X3nmKi6E4DPnSCndz8l91U1+IQBOiiqRraIIu/CDct+G/fD3T21u6
 SoWm4rMFI4513eZ2Xlrv6uSvrki4oJpslc+M6OKCr+WaZnFJVINebyPZ+TQUhIHrSbnD
 sWSVk8st0yr9mzZ1t4Utawn03zJkrilWKepMYYFNifLukc/OrUQ3oIVkM+EDafcaGixh
 ahbT2ZjbqrYIMSCTXIqznboqwAdbMQeKbh/rraAuDfVhpg0QOsYBY91TavidOo4b9kJq
 o5uKAzZUQyW+sdbrJ1+Qgy8kxfxh7NCMHd2RHg+ItnKzQCpDsGOV6FrMKprQV0iEgv46
 3HCw==
X-Gm-Message-State: AOJu0YwbMzSRE1C9J1jpEjyYwfPlFqmzoszOfHN32Q4b4lKhE+bVB6vH
 vS9kItINF+G+iBCiHRsp1w3Mb/c+hmK1E08EPZf0DZWO4KB7sxTf+kHN2bcwOwnppIyJa278aWy
 21k9nG775GtmxOXjsXudYQFAsgWCgJ0SA+NSLjor44xSOeXtyFPo96T0A
X-Google-Smtp-Source: AGHT+IFtiD38TfrFB0TviVFfZwQIIIk9jrNB+HmH8Id8HwZPCJoMwF9JKOpyKNHve2ToXqr6IuYPgwdZn6IT
X-Received: by 2002:a05:6e02:c73:b0:39b:20e0:948 with SMTP id
 e9e14a558f8ab-39b20e009e3mr21426645ab.10.1722611006658; 
 Fri, 02 Aug 2024 08:03:26 -0700 (PDT)
Received: from postal.iol.unh.edu (postal.iol.unh.edu.
 [2606:4100:3880:1234::84]) by smtp-relay.gmail.com with ESMTPS id
 e9e14a558f8ab-39b20a97fbcsm903535ab.46.2024.08.02.08.03.26
 (version=TLS1_2 cipher=ECDHE-ECDSA-AES128-GCM-SHA256 bits=128/128);
 Fri, 02 Aug 2024 08:03:26 -0700 (PDT)
X-Relaying-Domain: iol.unh.edu
Date: Fri, 02 Aug 2024 08:03:26 -0700 (PDT)
Message-ID: <66acf53e.050a0220.33b09d.690eSMTPIN_ADDED_MISSING@mx.google.com>
Received: from [172.17.0.2] (unknown [172.18.0.217])
 by postal.iol.unh.edu (Postfix) with ESMTP id 2E4476050A6B;
 Fri,  2 Aug 2024 11:03:26 -0400 (EDT)
Subject: |PENDING| pw142859-142865 [PATCH] [v2,7/7] devtools: add script to g
From: dpdklab@iol.unh.edu
To: Test Report <test-report@dpdk.org>
Cc: dpdk-test-reports@iol.unh.edu
In-Reply-To: <20240802124411.485430-8-bruce.richardson@intel.com>
References: <20240802124411.485430-8-bruce.richardson@intel.com>
Content-Type: text/plain
X-BeenThere: test-report@dpdk.org
X-Mailman-Version: 2.1.29
Precedence: list
List-Id: automatic DPDK test reports <test-report.dpdk.org>
List-Unsubscribe: <https://mails.dpdk.org/options/test-report>,
 <mailto:test-report-request@dpdk.org?subject=unsubscribe>
List-Archive: <http://mails.dpdk.org/archives/test-report/>
List-Post: <mailto:test-report@dpdk.org>
List-Help: <mailto:test-report-request@dpdk.org?subject=help>
List-Subscribe: <https://mails.dpdk.org/listinfo/test-report>,
 <mailto:test-report-request@dpdk.org?subject=subscribe>
Errors-To: test-report-bounces@dpdk.org

Test-Label: iol-unit-arm64-testing
Test-Status: PENDING
http://dpdk.org/patch/142865

_Testing pending_

Submitter: Bruce Richardson <bruce.richardson@intel.com>
Date: Friday, August 02 2024 12:44:11 
DPDK git baseline: Repo:dpdk
  Branch: master
  CommitID:b3485f4293997d35b6daecc3437bb0c183a51fb3

142859-142865 --> testing pending

Upstream job id: Generic-Unit-Test-DPDK#248286

Test environment and result as below:

+-----------------------------+----------------+--------------+------------------------------+---------------------------+
|         Environment         | dpdk_unit_test | lpm_autotest | cryptodev_sw_snow3g_autotest | cryptodev_sw_zuc_autotest |
+=============================+================+==============+==============================+===========================+
| CentOS Stream 9 (ARM)       | PASS           | SKIPPED      | SKIPPED                      | SKIPPED                   |
+-----------------------------+----------------+--------------+------------------------------+---------------------------+
| Debian 12 (arm)             | PASS           | SKIPPED      | PEND                         | PEND                      |
+-----------------------------+----------------+--------------+------------------------------+---------------------------+
| Debian 11 (Buster) (ARM)    | PASS           | SKIPPED      | SKIPPED                      | SKIPPED                   |
+-----------------------------+----------------+--------------+------------------------------+---------------------------+
| Fedora 38 (ARM)             | PEND           | SKIPPED      | SKIPPED                      | SKIPPED                   |
+-----------------------------+----------------+--------------+------------------------------+---------------------------+
| Fedora 38 (ARM Clang)       | PEND           | SKIPPED      | SKIPPED                      | SKIPPED                   |
+-----------------------------+----------------+--------------+------------------------------+---------------------------+
| Fedora 39 (ARM)             | PEND           | SKIPPED      | SKIPPED                      | SKIPPED                   |
+-----------------------------+----------------+--------------+------------------------------+---------------------------+
| Fedora 37 (ARM)             | PEND           | SKIPPED      | SKIPPED                      | SKIPPED                   |
+-----------------------------+----------------+--------------+------------------------------+---------------------------+
| Fedora 39 (ARM Clang)       | PEND           | SKIPPED      | SKIPPED                      | SKIPPED                   |
+-----------------------------+----------------+--------------+------------------------------+---------------------------+
| Fedora 40 (ARM)             | PEND           | SKIPPED      | SKIPPED                      | SKIPPED                   |
+-----------------------------+----------------+--------------+------------------------------+---------------------------+
| Fedora 40 (ARM Clang)       | PEND           | SKIPPED      | SKIPPED                      | SKIPPED                   |
+-----------------------------+----------------+--------------+------------------------------+---------------------------+
| 32-bit Ubuntu 20.04.4 (ARM) | PASS           | SKIPPED      | SKIPPED                      | SKIPPED                   |
+-----------------------------+----------------+--------------+------------------------------+---------------------------+
| Ubuntu 20.04 (ARM)          | PEND           | SKIPPED      | SKIPPED                      | SKIPPED                   |
+-----------------------------+----------------+--------------+------------------------------+---------------------------+
| RHEL9 (ARM)                 | PEND           | SKIPPED      | SKIPPED                      | SKIPPED                   |
+-----------------------------+----------------+--------------+------------------------------+---------------------------+
| Ubuntu 24.04 (ARM)          | PEND           | SKIPPED      | SKIPPED                      | SKIPPED                   |
+-----------------------------+----------------+--------------+------------------------------+---------------------------+
| Ubuntu 22.04 (ARM)          | PEND           | SKIPPED      | SKIPPED                      | SKIPPED                   |
+-----------------------------+----------------+--------------+------------------------------+---------------------------+
| Ubuntu 20.04 ARM SVE        | SKIPPED        | PASS         | SKIPPED                      | SKIPPED                   |
+-----------------------------+----------------+--------------+------------------------------+---------------------------+


CentOS Stream 9 (ARM)
	Kernel: Container Host Kernel
	Compiler: gcc 11.4.1

Debian 12 (arm)
	Kernel: Container Host Kernel
	Compiler: gcc 12.2.0

Debian 11 (Buster) (ARM)
	Kernel: Container Host Kernel
	Compiler: gcc 10.2.1

Fedora 38 (ARM)
	Kernel: Depends on container host
	Compiler: gcc 13.2.1

Fedora 38 (ARM Clang)
	Kernel: Depends on container host
	Compiler: clang 16.0.6

Fedora 39 (ARM)
	Kernel: Depends on container host
	Compiler: gcc 13.2.1

Fedora 37 (ARM)
	Kernel: Depends on container host
	Compiler: gcc 12.3.1

Fedora 39 (ARM Clang)
	Kernel: Depends on container host
	Compiler: clang 17.0.6

Fedora 40 (ARM)
	Kernel: Depends on container host
	Compiler: gcc 14.1.1

Fedora 40 (ARM Clang)
	Kernel: Depends on container host
	Compiler: clang 18.1.6

32-bit Ubuntu 20.04.4 (ARM)
	Kernel: 5.4.0-155-generic aarch64
	Compiler: gcc 9.4

Ubuntu 20.04 (ARM)
	Kernel: Container Host Kernel
	Compiler: gcc 9.4.0

RHEL9 (ARM)
	Kernel: Depends on container host
	Compiler: gcc 11.4.1

Ubuntu 24.04 (ARM)
	Kernel: 5.4.0-167-generic
	Compiler: gcc 13.2.0

Ubuntu 22.04 (ARM)
	Kernel: Container Host Kernel
	Compiler: gcc 11.4.0

Ubuntu 20.04 ARM SVE
	Kernel: 5.4.0-167-generic
	Compiler: gcc (Ubuntu 10.5.0-1ubuntu1~20.04) 10.5.0

To view detailed results, visit:
https://lab.dpdk.org/results/dashboard/patchsets/30707/

UNH-IOL DPDK Community Lab

To manage your email subscriptions, visit: 
https://lab.dpdk.org/results/dashboard/preferences/subscriptions/