From mboxrd@z Thu Jan  1 00:00:00 1970
Return-Path: <test-report-bounces@dpdk.org>
Received: from mails.dpdk.org (mails.dpdk.org [217.70.189.124])
	by inbox.dpdk.org (Postfix) with ESMTP id D14184571D
	for <public@inbox.dpdk.org>; Fri,  2 Aug 2024 19:48:47 +0200 (CEST)
Received: from mails.dpdk.org (localhost [127.0.0.1])
	by mails.dpdk.org (Postfix) with ESMTP id CB6F640E22;
	Fri,  2 Aug 2024 19:48:47 +0200 (CEST)
Received: from mail-qv1-f99.google.com (mail-qv1-f99.google.com
 [209.85.219.99]) by mails.dpdk.org (Postfix) with ESMTP id D3B8740E0A
 for <test-report@dpdk.org>; Fri,  2 Aug 2024 19:48:46 +0200 (CEST)
Received: by mail-qv1-f99.google.com with SMTP id
 6a1803df08f44-6b797fb1c4aso58141476d6.2
 for <test-report@dpdk.org>; Fri, 02 Aug 2024 10:48:46 -0700 (PDT)
DKIM-Signature: v=1; a=rsa-sha256; c=relaxed/relaxed;
 d=iol.unh.edu; s=unh-iol; t=1722620926; x=1723225726; darn=dpdk.org;
 h=references:in-reply-to:cc:to:from:subject:message-id:date:from:to
 :cc:subject:date:message-id:reply-to;
 bh=7XuKi0q/P7Ati3T9S1PF02og9/dtkm7kz8QoZbfSaZE=;
 b=QaH47jK/HOYkPjMnSoUzCYInGi+PbO3LPs9/INDFyt0w+Ggk6eQ65ysU6KjfiZDVsR
 JeJwaPHWQIe/DWiTJa3KxZIrZPsTR1C2galbgs07xYzAV99bVZwMVse4GPRgNnjqeKew
 pOtsbMjf+9VKnqseNICENYhAATL5REUPYBL/o=
X-Google-DKIM-Signature: v=1; a=rsa-sha256; c=relaxed/relaxed;
 d=1e100.net; s=20230601; t=1722620926; x=1723225726;
 h=references:in-reply-to:cc:to:from:subject:message-id:date
 :x-gm-message-state:from:to:cc:subject:date:message-id:reply-to;
 bh=7XuKi0q/P7Ati3T9S1PF02og9/dtkm7kz8QoZbfSaZE=;
 b=joeIkcAN4ukgByh8mf90FmdqpKO8iFIxd955NuDLOuiSERQjnpmE+rWN4WsRKOeV9W
 mChXkxzJ3cRGStn6jHmrk/1/ToS+G4vKNRaoazrAcbGR56tDn6DnkglkPR2C7gvynbSU
 7oCobfrCpkhxRyJ4a4XSbc04Zs9z3S4voyYDqIRwBmFKJYoVBTptee0IbOatWBjypE3g
 fA5o8x33nz9R2vKUifaKYce/r/kwEox+uqyIfBhXHt975ih7xwWpMsrS0Onxes3wpJYb
 I4nAArA7QuBxhcvKHe+oTH7UEdFyRijfelLpkg91uJeViOE04gIYqzkh7uREjOtuBkBt
 1X/A==
X-Gm-Message-State: AOJu0YwpDSGwuWNiVcrY+YA/g6csaJKFK99/q00c3abThqOo9S4XHJU8
 tc4IfcZ5h80ILffgCczsQDGBg4cIedZ6yTZUs2ACnm671aF06K+S1F5KQ7DiAnzJM9yEqa+W3vf
 ndmgT+OaEWuA2WHk2HIJfukZqI5GMfaCjRo3LgNwpxoSsn4/+n8Er1Vbm
X-Google-Smtp-Source: AGHT+IGpLvIZuMOdncv++dt5c5Jv5LnXS3c7JpPYr0Fk4v+WBYx6n3xMBb+267wlGC2FGSLXTpXUj+oW9yz3
X-Received: by 2002:a05:6214:3381:b0:6b2:b9c7:da6a with SMTP id
 6a1803df08f44-6bb98406efdmr49798326d6.41.1722620926150; 
 Fri, 02 Aug 2024 10:48:46 -0700 (PDT)
Received: from postal.iol.unh.edu (postal.iol.unh.edu.
 [2606:4100:3880:1234::84]) by smtp-relay.gmail.com with ESMTPS id
 6a1803df08f44-6bb9c76d32dsm564246d6.12.2024.08.02.10.48.46
 (version=TLS1_2 cipher=ECDHE-ECDSA-AES128-GCM-SHA256 bits=128/128);
 Fri, 02 Aug 2024 10:48:46 -0700 (PDT)
X-Relaying-Domain: iol.unh.edu
Date: Fri, 02 Aug 2024 10:48:46 -0700 (PDT)
Message-ID: <66ad1bfe.050a0220.387800.3f60SMTPIN_ADDED_MISSING@mx.google.com>
Received: from [172.21.0.7] (unknown [172.18.0.240])
 by postal.iol.unh.edu (Postfix) with ESMTP id DF786605C351;
 Fri,  2 Aug 2024 13:48:45 -0400 (EDT)
Subject: |PENDING| pw142868-142871 [PATCH] [v5,4/4] test: rearrange test_cfgf
From: dpdklab@iol.unh.edu
To: Test Report <test-report@dpdk.org>
Cc: dpdk-test-reports@iol.unh.edu
In-Reply-To: <20240802164626.389286-5-stephen@networkplumber.org>
References: <20240802164626.389286-5-stephen@networkplumber.org>
Content-Type: text/plain
X-BeenThere: test-report@dpdk.org
X-Mailman-Version: 2.1.29
Precedence: list
List-Id: automatic DPDK test reports <test-report.dpdk.org>
List-Unsubscribe: <https://mails.dpdk.org/options/test-report>,
 <mailto:test-report-request@dpdk.org?subject=unsubscribe>
List-Archive: <http://mails.dpdk.org/archives/test-report/>
List-Post: <mailto:test-report@dpdk.org>
List-Help: <mailto:test-report-request@dpdk.org?subject=help>
List-Subscribe: <https://mails.dpdk.org/listinfo/test-report>,
 <mailto:test-report-request@dpdk.org?subject=subscribe>
Errors-To: test-report-bounces@dpdk.org

Test-Label: iol-abi-testing
Test-Status: PENDING
http://dpdk.org/patch/142871

_Testing pending_

Submitter: Stephen Hemminger <stephen@networkplumber.org>
Date: Friday, August 02 2024 16:45:03 
DPDK git baseline: Repo:dpdk
  Branch: master
  CommitID:b3485f4293997d35b6daecc3437bb0c183a51fb3

142868-142871 --> testing pending

Upstream job id: Generic-DPDK-Compile-ABI#101632

Test environment and result as below:

+-------------------+----------+
|    Environment    | abi_test |
+===================+==========+
| CentOS Stream 9   | PASS     |
+-------------------+----------+
| Debian Bullseye   | PASS     |
+-------------------+----------+
| Debian 12         | PASS     |
+-------------------+----------+
| Fedora 37         | PASS     |
+-------------------+----------+
| Fedora 38 (Clang) | PASS     |
+-------------------+----------+
| Fedora 40 (Clang) | PASS     |
+-------------------+----------+
| Fedora 38         | PASS     |
+-------------------+----------+
| Fedora 39         | PASS     |
+-------------------+----------+
| Fedora 39 (Clang) | PASS     |
+-------------------+----------+
| Fedora 40         | PASS     |
+-------------------+----------+
| RHEL8             | PASS     |
+-------------------+----------+
| openSUSE Leap 15  | PASS     |
+-------------------+----------+
| RHEL9             | PEND     |
+-------------------+----------+
| Ubuntu 24.04      | PASS     |
+-------------------+----------+
| Ubuntu 22.04      | PEND     |
+-------------------+----------+


CentOS Stream 9
	Kernel: 5.4.0-167-generic
	Compiler: gcc 11.4.1 20230605

Debian Bullseye
	Kernel: 5.4.0-167-generic
	Compiler: gcc 10.2.1-6

Debian 12
	Kernel: Container Host Kernel
	Compiler: gcc 12.2.0

Fedora 37
	Kernel: Depends on container host system
	Compiler: gcc 12.3.1

Fedora 38 (Clang)
	Kernel: Depends on container host
	Compiler: clang 16.0.6

Fedora 40 (Clang)
	Kernel: Depends on container host
	Compiler: clang 18.1.6

Fedora 38
	Kernel: Depends on container host
	Compiler: gcc 13.2.1

Fedora 39
	Kernel: Depends on container host
	Compiler: gcc 13.2.1

Fedora 39 (Clang)
	Kernel: Depends on container host
	Compiler: clang 17.0.6

Fedora 40
	Kernel: Depends on container host
	Compiler: gcc 14.1.1

RHEL8
	Kernel: 5.4.0-167-generic
	Compiler: gcc 8.5.0 20210514 (Red Hat 8.5.0-20)

openSUSE Leap 15
	Kernel: 5.4.0-167-generic
	Compiler: gcc 7.5.0

RHEL9
	Kernel: Depends on container host
	Compiler: gcc 11.4.1

Ubuntu 24.04
	Kernel: 5.4.0-167-generic
	Compiler: gcc 13.2.0

Ubuntu 22.04
	Kernel: 5.4.0-167-generic
	Compiler: gcc 11.4.0

To view detailed results, visit:
https://lab.dpdk.org/results/dashboard/patchsets/30710/

UNH-IOL DPDK Community Lab

To manage your email subscriptions, visit: 
https://lab.dpdk.org/results/dashboard/preferences/subscriptions/