From mboxrd@z Thu Jan  1 00:00:00 1970
Return-Path: <test-report-bounces@dpdk.org>
Received: from mails.dpdk.org (mails.dpdk.org [217.70.189.124])
	by inbox.dpdk.org (Postfix) with ESMTP id 57C8B4571D
	for <public@inbox.dpdk.org>; Fri,  2 Aug 2024 19:51:58 +0200 (CEST)
Received: from mails.dpdk.org (localhost [127.0.0.1])
	by mails.dpdk.org (Postfix) with ESMTP id 530C940E22;
	Fri,  2 Aug 2024 19:51:58 +0200 (CEST)
Received: from mail-qv1-f99.google.com (mail-qv1-f99.google.com
 [209.85.219.99]) by mails.dpdk.org (Postfix) with ESMTP id 8883F40E0A
 for <test-report@dpdk.org>; Fri,  2 Aug 2024 19:51:57 +0200 (CEST)
Received: by mail-qv1-f99.google.com with SMTP id
 6a1803df08f44-6b796667348so31718676d6.0
 for <test-report@dpdk.org>; Fri, 02 Aug 2024 10:51:57 -0700 (PDT)
DKIM-Signature: v=1; a=rsa-sha256; c=relaxed/relaxed;
 d=iol.unh.edu; s=unh-iol; t=1722621117; x=1723225917; darn=dpdk.org;
 h=references:in-reply-to:cc:to:from:subject:message-id:date:from:to
 :cc:subject:date:message-id:reply-to;
 bh=KPrG3LRtua8rWLhVhuKJfThCxEIGPISMiz2mkyM33R8=;
 b=hcdZWDo/OIfIwQLk2Rjz/qqFEPdZKBhiTR/Pr/1H2D8J1f1YwaKtymOpzfDhhRruip
 WWMsdDE8J6GVjOQF/gp/ZWBJOY05uUk3+/hOH+BzhSbxWVl0Z6rsNzaMZfBRnlSmbWig
 czEYzt06aMNjIHDaK6I/4/vW18GrCx83VMnXA=
X-Google-DKIM-Signature: v=1; a=rsa-sha256; c=relaxed/relaxed;
 d=1e100.net; s=20230601; t=1722621117; x=1723225917;
 h=references:in-reply-to:cc:to:from:subject:message-id:date
 :x-gm-message-state:from:to:cc:subject:date:message-id:reply-to;
 bh=KPrG3LRtua8rWLhVhuKJfThCxEIGPISMiz2mkyM33R8=;
 b=RSdCamBhbCC9PXt6gtLqqYUtlAmsluX6eUdLPM/Xam4Bn5rXBeW9RBQA8KII1AQXNS
 KKFxlrCvYpjbBxCahKNVc8Pq5Qyy5FOPzbkPOxKvCXoacy+sKoI79TbNAZn73udJ2GfB
 obotN+fngQwSL220o+FO7qtR3gTmm3FteSYAUK7gws3Dkzz8kcFkfXHKN6ZNHFsVrH42
 MjNPsh96vqymPMxpNmurCmBCXM2ucrlqJFa0Y7ekW1jy1+oqPL7QyIdlZ7jJ2eOOcepl
 YQI+Q7+Il4RwO1JIEHZzHMBpz8sYRlxhRw13sX1FLGZuenTQ/iE+0EgVZnLN+vg5avEZ
 lGpA==
X-Gm-Message-State: AOJu0YxV83lqI6S3ZbxkzxCOsmJD9zns+Wj8WqGmtMqdgRmrs9cLPOHQ
 hm2zXdy1AiafTZDw0OyEk9Lokqg7BSJNXyEaJgvGhOutUCLDGb8Z99DoEZ6vttQGfTRgY60ru1h
 vytqEtkUtvcXfJlwoJfFBlhKJrE5i/0gUVID9TBZQoK+qOVR5jCIRVIRf
X-Google-Smtp-Source: AGHT+IFbWpV+D2629XYuyyoiAkNraDSPtRb/4Me2wim7snCu9bXL1zxXGMM0KRcV6re5O8/9VFBItT7NmIx+
X-Received: by 2002:ad4:5365:0:b0:6ad:84aa:2956 with SMTP id
 6a1803df08f44-6bb91d85defmr92869076d6.13.1722621116925; 
 Fri, 02 Aug 2024 10:51:56 -0700 (PDT)
Received: from postal.iol.unh.edu (postal.iol.unh.edu.
 [2606:4100:3880:1234::84]) by smtp-relay.gmail.com with ESMTPS id
 6a1803df08f44-6bb9c7c40c2sm549786d6.40.2024.08.02.10.51.56
 (version=TLS1_2 cipher=ECDHE-ECDSA-AES128-GCM-SHA256 bits=128/128);
 Fri, 02 Aug 2024 10:51:56 -0700 (PDT)
X-Relaying-Domain: iol.unh.edu
Date: Fri, 02 Aug 2024 10:51:56 -0700 (PDT)
Message-ID: <66ad1cbc.050a0220.21d3a7.4312SMTPIN_ADDED_MISSING@mx.google.com>
Received: from [172.21.0.6] (unknown [172.18.0.240])
 by postal.iol.unh.edu (Postfix) with ESMTP id A5C67605C351;
 Fri,  2 Aug 2024 13:51:56 -0400 (EDT)
Subject: |PENDING| pw142868-142871 [PATCH] [v5,4/4] test: rearrange test_cfgf
From: dpdklab@iol.unh.edu
To: Test Report <test-report@dpdk.org>
Cc: dpdk-test-reports@iol.unh.edu
In-Reply-To: <20240802164626.389286-5-stephen@networkplumber.org>
References: <20240802164626.389286-5-stephen@networkplumber.org>
Content-Type: text/plain
X-BeenThere: test-report@dpdk.org
X-Mailman-Version: 2.1.29
Precedence: list
List-Id: automatic DPDK test reports <test-report.dpdk.org>
List-Unsubscribe: <https://mails.dpdk.org/options/test-report>,
 <mailto:test-report-request@dpdk.org?subject=unsubscribe>
List-Archive: <http://mails.dpdk.org/archives/test-report/>
List-Post: <mailto:test-report@dpdk.org>
List-Help: <mailto:test-report-request@dpdk.org?subject=help>
List-Subscribe: <https://mails.dpdk.org/listinfo/test-report>,
 <mailto:test-report-request@dpdk.org?subject=subscribe>
Errors-To: test-report-bounces@dpdk.org

Test-Label: iol-compile-amd64-testing
Test-Status: PENDING
http://dpdk.org/patch/142871

_Testing pending_

Submitter: Stephen Hemminger <stephen@networkplumber.org>
Date: Friday, August 02 2024 16:45:03 
DPDK git baseline: Repo:dpdk
  Branch: master
  CommitID:b3485f4293997d35b6daecc3437bb0c183a51fb3

142868-142871 --> testing pending

Upstream job id: Generic-DPDK-Compile-Meson#283915

Test environment and result as below:

+---------------------+--------------------+------------------+-------------------+----------------------+-------------------+
|     Environment     | dpdk_meson_compile | dpdk_compile_ovs | dpdk_compile_spdk | dpdk_mingw64_compile | dpdk_msvc_compile |
+=====================+====================+==================+===================+======================+===================+
| CentOS Stream 9     | PASS               | PASS             | PASS              | SKIPPED              | SKIPPED           |
+---------------------+--------------------+------------------+-------------------+----------------------+-------------------+
| Debian Bullseye     | PASS               | PASS             | PASS              | SKIPPED              | SKIPPED           |
+---------------------+--------------------+------------------+-------------------+----------------------+-------------------+
| Debian 12           | PEND               | PEND             | PEND              | SKIPPED              | SKIPPED           |
+---------------------+--------------------+------------------+-------------------+----------------------+-------------------+
| Fedora 37           | PEND               | PEND             | PEND              | SKIPPED              | SKIPPED           |
+---------------------+--------------------+------------------+-------------------+----------------------+-------------------+
| Fedora 38 (Clang)   | PEND               | PEND             | PEND              | SKIPPED              | SKIPPED           |
+---------------------+--------------------+------------------+-------------------+----------------------+-------------------+
| Fedora 40 (Clang)   | PEND               | PEND             | PEND              | SKIPPED              | SKIPPED           |
+---------------------+--------------------+------------------+-------------------+----------------------+-------------------+
| openSUSE Leap 15    | PASS               | PASS             | SKIPPED           | SKIPPED              | SKIPPED           |
+---------------------+--------------------+------------------+-------------------+----------------------+-------------------+
| Fedora 38           | PEND               | PEND             | PEND              | SKIPPED              | SKIPPED           |
+---------------------+--------------------+------------------+-------------------+----------------------+-------------------+
| RHEL8               | PEND               | PEND             | SKIPPED           | SKIPPED              | SKIPPED           |
+---------------------+--------------------+------------------+-------------------+----------------------+-------------------+
| Fedora 39           | PEND               | PEND             | PEND              | SKIPPED              | SKIPPED           |
+---------------------+--------------------+------------------+-------------------+----------------------+-------------------+
| Fedora 40           | PEND               | PEND             | PEND              | SKIPPED              | SKIPPED           |
+---------------------+--------------------+------------------+-------------------+----------------------+-------------------+
| Ubuntu 20.04        | PEND               | PEND             | SKIPPED           | SKIPPED              | SKIPPED           |
+---------------------+--------------------+------------------+-------------------+----------------------+-------------------+
| Ubuntu 24.04        | PEND               | PEND             | PEND              | SKIPPED              | SKIPPED           |
+---------------------+--------------------+------------------+-------------------+----------------------+-------------------+
| Fedora 39 (Clang)   | PEND               | PEND             | PEND              | SKIPPED              | SKIPPED           |
+---------------------+--------------------+------------------+-------------------+----------------------+-------------------+
| Ubuntu 22.04        | PEND               | PEND             | PEND              | SKIPPED              | SKIPPED           |
+---------------------+--------------------+------------------+-------------------+----------------------+-------------------+
| Alpine              | PEND               | PEND             | SKIPPED           | SKIPPED              | SKIPPED           |
+---------------------+--------------------+------------------+-------------------+----------------------+-------------------+
| RHEL9               | PEND               | PEND             | SKIPPED           | SKIPPED              | SKIPPED           |
+---------------------+--------------------+------------------+-------------------+----------------------+-------------------+
| FreeBSD 13.3        | PASS               | SKIPPED          | SKIPPED           | SKIPPED              | SKIPPED           |
+---------------------+--------------------+------------------+-------------------+----------------------+-------------------+
| Windows Server 2019 | PASS               | SKIPPED          | SKIPPED           | PASS                 | SKIPPED           |
+---------------------+--------------------+------------------+-------------------+----------------------+-------------------+
| Windows Server 2022 | PASS               | SKIPPED          | SKIPPED           | PASS                 | PASS              |
+---------------------+--------------------+------------------+-------------------+----------------------+-------------------+
| FreeBSD 14.1        | PASS               | SKIPPED          | SKIPPED           | SKIPPED              | SKIPPED           |
+---------------------+--------------------+------------------+-------------------+----------------------+-------------------+


CentOS Stream 9
	Kernel: 5.4.0-167-generic
	Compiler: gcc 11.4.1 20230605

Debian Bullseye
	Kernel: 5.4.0-167-generic
	Compiler: gcc 10.2.1-6

Debian 12
	Kernel: Container Host Kernel
	Compiler: gcc 12.2.0

Fedora 37
	Kernel: Depends on container host system
	Compiler: gcc 12.3.1

Fedora 38 (Clang)
	Kernel: Depends on container host
	Compiler: clang 16.0.6

Fedora 40 (Clang)
	Kernel: Depends on container host
	Compiler: clang 18.1.6

openSUSE Leap 15
	Kernel: 5.4.0-167-generic
	Compiler: gcc 7.5.0

Fedora 38
	Kernel: Depends on container host
	Compiler: gcc 13.2.1

RHEL8
	Kernel: 5.4.0-167-generic
	Compiler: gcc 8.5.0 20210514 (Red Hat 8.5.0-20)

Fedora 39
	Kernel: Depends on container host
	Compiler: gcc 13.2.1

Fedora 40
	Kernel: Depends on container host
	Compiler: gcc 14.1.1

Ubuntu 20.04
	Kernel: 5.4.0-167-generic
	Compiler: gcc 9.4.0-1ubuntu1~20.04.1

Ubuntu 24.04
	Kernel: 5.4.0-167-generic
	Compiler: gcc 13.2.0

Fedora 39 (Clang)
	Kernel: Depends on container host
	Compiler: clang 17.0.6

Ubuntu 22.04
	Kernel: 5.4.0-167-generic
	Compiler: gcc 11.4.0

Alpine
	Kernel: 5.4.0-167-generic
	Compiler: gcc (Alpine 13.2.1_git20231014) 13.2.1 20231014

RHEL9
	Kernel: Depends on container host
	Compiler: gcc 11.4.1

FreeBSD 13.3
	Kernel: 13.3-RELEASE-p1
	Compiler: clang 17.0.6

Windows Server 2019
	Kernel: 10.0.17763
	Compiler: clang 14.0 and gcc 8.1.0 (MinGW)

Windows Server 2022
	Kernel: 10.0.20348.2031
	Compiler: clang 15.0.7, gcc 8.1.0 (MinGW), and MSVC VS 17.9

FreeBSD 14.1
	Kernel: 14.1
	Compiler: clang 18.1.5

To view detailed results, visit:
https://lab.dpdk.org/results/dashboard/patchsets/30710/

UNH-IOL DPDK Community Lab

To manage your email subscriptions, visit: 
https://lab.dpdk.org/results/dashboard/preferences/subscriptions/