From mboxrd@z Thu Jan  1 00:00:00 1970
Return-Path: <test-report-bounces@dpdk.org>
Received: from mails.dpdk.org (mails.dpdk.org [217.70.189.124])
	by inbox.dpdk.org (Postfix) with ESMTP id 318C945721
	for <public@inbox.dpdk.org>; Fri,  2 Aug 2024 23:32:58 +0200 (CEST)
Received: from mails.dpdk.org (localhost [127.0.0.1])
	by mails.dpdk.org (Postfix) with ESMTP id 2B54F40DD3;
	Fri,  2 Aug 2024 23:32:58 +0200 (CEST)
Received: from mail-qv1-f100.google.com (mail-qv1-f100.google.com
 [209.85.219.100])
 by mails.dpdk.org (Postfix) with ESMTP id 0AA6940B90
 for <test-report@dpdk.org>; Fri,  2 Aug 2024 23:32:57 +0200 (CEST)
Received: by mail-qv1-f100.google.com with SMTP id
 6a1803df08f44-6b7b349a98aso59230916d6.3
 for <test-report@dpdk.org>; Fri, 02 Aug 2024 14:32:56 -0700 (PDT)
DKIM-Signature: v=1; a=rsa-sha256; c=relaxed/relaxed;
 d=iol.unh.edu; s=unh-iol; t=1722634376; x=1723239176; darn=dpdk.org;
 h=references:in-reply-to:cc:to:from:subject:message-id:date:from:to
 :cc:subject:date:message-id:reply-to;
 bh=SqRhXM0AloMabGdktoAjZ6CAUp3Hx09UQDgqIRiYuKk=;
 b=YtikDeHgmn5qDAr8JvA2w2mx9fKyqouzMSiA7Vz90RQX0Y0RhUmsSrrWY+eLBuoL2K
 n14ufIBpRwaGk7+Tqdc7N3DrlbLB3dDrlJWWyxTuYC0G6AUYsvc8myaWkvpUdhsJW9Sx
 /DH5HMSGKDUn/25e1+Kese2ErK7906BEw5utk=
X-Google-DKIM-Signature: v=1; a=rsa-sha256; c=relaxed/relaxed;
 d=1e100.net; s=20230601; t=1722634376; x=1723239176;
 h=references:in-reply-to:cc:to:from:subject:message-id:date
 :x-gm-message-state:from:to:cc:subject:date:message-id:reply-to;
 bh=SqRhXM0AloMabGdktoAjZ6CAUp3Hx09UQDgqIRiYuKk=;
 b=NqPoDNV1Jhr6zmmDevjnwVrrV6Ht9+vjri4BitbbP4sRGx+2bGy2bqrx1tc4gGqJ2I
 xPWcGCPmQm39MNHakhCAmBqKF+AXPcK4pLC12J1pB1NlpnRwcoik9O/40OsDd0+roxUS
 VxjjmyWyAsqyiwC4uWXoPRa7+U9l5/cmazPZQq2PZZ/QzLj6MNxWpY4v5Z3cABfHZbmR
 8mB9qJNK+of1VambVmu6QGiZw7QAzk6DrFjKfwF/ILeBJSKQnvkT4UyOjnDb1Dnc92Uw
 aGQJ01WcdQD216luJmIqP9rCrPV+G3h4EYuNMvWVdskeMBnTvoWwMFQRAj2iltINgMoG
 E2vg==
X-Gm-Message-State: AOJu0Yx3+KgG/jprHsvNKgyHwoHCWJsJFlNN+KGG4Hs6veZQFIofv0BR
 6t1zswq9fe3ZW9gjIPIp6sQd7rxBuOCRB9oVkLZhFB8fyuUdIIihmuAPe2VfPXPFkDhEwDLKr6u
 JH0Vxtjx56Mz3Dzt/qyLP0g73Hg4LD9qAtZHS3Nmp
X-Google-Smtp-Source: AGHT+IF9R0VeksV/YQZVl3mI76e9uTdLyNVop/alaH34U4QM4xf/Nk+sF2Y6bLQnnGzwZaILrqn3qWypMBlW
X-Received: by 2002:a05:6214:5886:b0:6b5:6b1:6c with SMTP id
 6a1803df08f44-6bb983eebc0mr55154516d6.24.1722634376428; 
 Fri, 02 Aug 2024 14:32:56 -0700 (PDT)
Received: from postal.iol.unh.edu (postal.iol.unh.edu. [132.177.123.84])
 by smtp-relay.gmail.com with ESMTPS id
 6a1803df08f44-6bb9c85bc5fsm804146d6.56.2024.08.02.14.32.56
 (version=TLS1_2 cipher=ECDHE-ECDSA-AES128-GCM-SHA256 bits=128/128);
 Fri, 02 Aug 2024 14:32:56 -0700 (PDT)
X-Relaying-Domain: iol.unh.edu
Date: Fri, 02 Aug 2024 14:32:56 -0700 (PDT)
Message-ID: <66ad5088.050a0220.34ff91.56edSMTPIN_ADDED_MISSING@mx.google.com>
Received: from [172.21.0.6] (unknown [172.18.0.240])
 by postal.iol.unh.edu (Postfix) with ESMTP id 1E9EF605C351;
 Fri,  2 Aug 2024 17:32:56 -0400 (EDT)
Subject: |PENDING| pw142879-142882 [PATCH] [v7,4/4] test-pmd: add more packet
From: dpdklab@iol.unh.edu
To: Test Report <test-report@dpdk.org>
Cc: dpdk-test-reports@iol.unh.edu
In-Reply-To: <20240802195824.1336603-5-stephen@networkplumber.org>
References: <20240802195824.1336603-5-stephen@networkplumber.org>
Content-Type: text/plain
X-BeenThere: test-report@dpdk.org
X-Mailman-Version: 2.1.29
Precedence: list
List-Id: automatic DPDK test reports <test-report.dpdk.org>
List-Unsubscribe: <https://mails.dpdk.org/options/test-report>,
 <mailto:test-report-request@dpdk.org?subject=unsubscribe>
List-Archive: <http://mails.dpdk.org/archives/test-report/>
List-Post: <mailto:test-report@dpdk.org>
List-Help: <mailto:test-report-request@dpdk.org?subject=help>
List-Subscribe: <https://mails.dpdk.org/listinfo/test-report>,
 <mailto:test-report-request@dpdk.org?subject=subscribe>
Errors-To: test-report-bounces@dpdk.org

Test-Label: iol-abi-testing
Test-Status: PENDING
http://dpdk.org/patch/142882

_Testing pending_

Submitter: Stephen Hemminger <stephen@networkplumber.org>
Date: Friday, August 02 2024 19:56:55 
DPDK git baseline: Repo:dpdk
  Branch: master
  CommitID:37ce4c84c0f23c3989bc7ae19e03a4593cec94e5

142879-142882 --> testing pending

Upstream job id: Generic-DPDK-Compile-ABI#101675

Test environment and result as below:

+-------------------+----------+
|    Environment    | abi_test |
+===================+==========+
| CentOS Stream 9   | PASS     |
+-------------------+----------+
| Debian Bullseye   | PEND     |
+-------------------+----------+
| Debian 12         | PASS     |
+-------------------+----------+
| Fedora 38 (Clang) | PEND     |
+-------------------+----------+
| Fedora 38         | PEND     |
+-------------------+----------+
| Fedora 37         | PASS     |
+-------------------+----------+
| Fedora 39 (Clang) | PEND     |
+-------------------+----------+
| Fedora 40 (Clang) | PEND     |
+-------------------+----------+
| Ubuntu 22.04      | PEND     |
+-------------------+----------+
| Fedora 39         | PEND     |
+-------------------+----------+
| Fedora 40         | PEND     |
+-------------------+----------+
| RHEL9             | PASS     |
+-------------------+----------+
| openSUSE Leap 15  | PEND     |
+-------------------+----------+
| RHEL8             | PEND     |
+-------------------+----------+
| Ubuntu 24.04      | PEND     |
+-------------------+----------+


CentOS Stream 9
	Kernel: 5.4.0-167-generic
	Compiler: gcc 11.4.1 20230605

Debian Bullseye
	Kernel: 5.4.0-167-generic
	Compiler: gcc 10.2.1-6

Debian 12
	Kernel: Container Host Kernel
	Compiler: gcc 12.2.0

Fedora 38 (Clang)
	Kernel: Depends on container host
	Compiler: clang 16.0.6

Fedora 38
	Kernel: Depends on container host
	Compiler: gcc 13.2.1

Fedora 37
	Kernel: Depends on container host system
	Compiler: gcc 12.3.1

Fedora 39 (Clang)
	Kernel: Depends on container host
	Compiler: clang 17.0.6

Fedora 40 (Clang)
	Kernel: Depends on container host
	Compiler: clang 18.1.6

Ubuntu 22.04
	Kernel: 5.4.0-167-generic
	Compiler: gcc 11.4.0

Fedora 39
	Kernel: Depends on container host
	Compiler: gcc 13.2.1

Fedora 40
	Kernel: Depends on container host
	Compiler: gcc 14.1.1

RHEL9
	Kernel: Depends on container host
	Compiler: gcc 11.4.1

openSUSE Leap 15
	Kernel: 5.4.0-167-generic
	Compiler: gcc 7.5.0

RHEL8
	Kernel: 5.4.0-167-generic
	Compiler: gcc 8.5.0 20210514 (Red Hat 8.5.0-20)

Ubuntu 24.04
	Kernel: 5.4.0-167-generic
	Compiler: gcc 13.2.0

To view detailed results, visit:
https://lab.dpdk.org/results/dashboard/patchsets/30713/

UNH-IOL DPDK Community Lab

To manage your email subscriptions, visit: 
https://lab.dpdk.org/results/dashboard/preferences/subscriptions/