From mboxrd@z Thu Jan  1 00:00:00 1970
Return-Path: <test-report-bounces@dpdk.org>
Received: from mails.dpdk.org (mails.dpdk.org [217.70.189.124])
	by inbox.dpdk.org (Postfix) with ESMTP id 0A1DA45721
	for <public@inbox.dpdk.org>; Fri,  2 Aug 2024 23:41:35 +0200 (CEST)
Received: from mails.dpdk.org (localhost [127.0.0.1])
	by mails.dpdk.org (Postfix) with ESMTP id 04BF340DD3;
	Fri,  2 Aug 2024 23:41:35 +0200 (CEST)
Received: from mail-yw1-f228.google.com (mail-yw1-f228.google.com
 [209.85.128.228])
 by mails.dpdk.org (Postfix) with ESMTP id 78ED840B90
 for <test-report@dpdk.org>; Fri,  2 Aug 2024 23:41:34 +0200 (CEST)
Received: by mail-yw1-f228.google.com with SMTP id
 00721157ae682-654cf0a069eso69407537b3.1
 for <test-report@dpdk.org>; Fri, 02 Aug 2024 14:41:34 -0700 (PDT)
DKIM-Signature: v=1; a=rsa-sha256; c=relaxed/relaxed;
 d=iol.unh.edu; s=unh-iol; t=1722634894; x=1723239694; darn=dpdk.org;
 h=references:in-reply-to:cc:to:from:subject:message-id:date:from:to
 :cc:subject:date:message-id:reply-to;
 bh=DOCmuVx7T41abwg6TmFoTjBdBz5uUdChGnUnuI6fm7s=;
 b=MZVAt7/FPX57Xwq2lOialr6ngXY+SwqhVP/1TM1AbjexDuxivoLxQ8eHjVMptYD1oK
 mu+UX1hayNJIoZct5CrmuSdef8gWXcSdlINReKwyouD1vCoAkLSjqOv8XB/AvAzYxTAu
 wVJeTfc06DIao1ItmMpTdhuQ5ffnYjbbw4rEQ=
X-Google-DKIM-Signature: v=1; a=rsa-sha256; c=relaxed/relaxed;
 d=1e100.net; s=20230601; t=1722634894; x=1723239694;
 h=references:in-reply-to:cc:to:from:subject:message-id:date
 :x-gm-message-state:from:to:cc:subject:date:message-id:reply-to;
 bh=DOCmuVx7T41abwg6TmFoTjBdBz5uUdChGnUnuI6fm7s=;
 b=IlzqZVSOqXiv8yTpBlpF/tNeHY6RYUg0DX/5861P+0xXLHlxdCtWx1WKBirttgi5nL
 FXw5lcfQ9wzoVGeom5xk64yAGdkEVKzDRWOXBlAvF/u/NaHbkGFNYIcyFmn2SQqsbEMo
 BLH3Wt7jCp4lvbl2g4Z5C9hRb/mslLtiTZT6ppAhvqamWYHy+JEfcK65a3PEY9HdJO5M
 YMXCBbKMWAdiyPdTs//JTBJI6Z2PdVg6tieWsygCqLYkr76Bw1kkCYJB9/Ensjm5xrBy
 1kJMCykTCGKPPmNw0t0ns2VYtUF6oCZbqzhWscQBaTqKny2VqYVE0Q3WQ/bWHOf8akHk
 qPXQ==
X-Gm-Message-State: AOJu0YyReC5ONll0PxbShxcScTITngr8Wv3h8rFlHnisfkqOjRnaBGJN
 8zTsCOdUxYjTsmPpSzkfv0N/zRODqEcHmI3+RxsVpRowj3ZpkGqTp1me/0AKvqAk7YZFLAFX8l7
 u/Bib4isiBmTU+YXssefA9lklnetLe9QxX9AEd6dPYgE4J2d8qGRy45yA
X-Google-Smtp-Source: AGHT+IHtybnUITnzbbIz/3IXHw8M8hLm2q9XRraEzZ4WsyU3llGHC4Vpnmv+1Wd/3L9Bguj1PFampt9EgtxL
X-Received: by 2002:a0d:c287:0:b0:65f:e307:d41 with SMTP id
 00721157ae682-6895f9e6a7amr60388827b3.16.1722634893799; 
 Fri, 02 Aug 2024 14:41:33 -0700 (PDT)
Received: from postal.iol.unh.edu (postal.iol.unh.edu.
 [2606:4100:3880:1234::84]) by smtp-relay.gmail.com with ESMTPS id
 00721157ae682-68a139a36c3sm580327b3.39.2024.08.02.14.41.33
 (version=TLS1_2 cipher=ECDHE-ECDSA-AES128-GCM-SHA256 bits=128/128);
 Fri, 02 Aug 2024 14:41:33 -0700 (PDT)
X-Relaying-Domain: iol.unh.edu
Date: Fri, 02 Aug 2024 14:41:33 -0700 (PDT)
Message-ID: <66ad528d.810a0220.c2d82.36cdSMTPIN_ADDED_MISSING@mx.google.com>
Received: from [172.21.0.7] (unknown [172.18.0.240])
 by postal.iol.unh.edu (Postfix) with ESMTP id 80994605C351;
 Fri,  2 Aug 2024 17:41:33 -0400 (EDT)
Subject: |PENDING| pw142879-142882 [PATCH] [v7,4/4] test-pmd: add more packet
From: dpdklab@iol.unh.edu
To: Test Report <test-report@dpdk.org>
Cc: dpdk-test-reports@iol.unh.edu
In-Reply-To: <20240802195824.1336603-5-stephen@networkplumber.org>
References: <20240802195824.1336603-5-stephen@networkplumber.org>
Content-Type: text/plain
X-BeenThere: test-report@dpdk.org
X-Mailman-Version: 2.1.29
Precedence: list
List-Id: automatic DPDK test reports <test-report.dpdk.org>
List-Unsubscribe: <https://mails.dpdk.org/options/test-report>,
 <mailto:test-report-request@dpdk.org?subject=unsubscribe>
List-Archive: <http://mails.dpdk.org/archives/test-report/>
List-Post: <mailto:test-report@dpdk.org>
List-Help: <mailto:test-report-request@dpdk.org?subject=help>
List-Subscribe: <https://mails.dpdk.org/listinfo/test-report>,
 <mailto:test-report-request@dpdk.org?subject=subscribe>
Errors-To: test-report-bounces@dpdk.org

Test-Label: iol-unit-arm64-testing
Test-Status: PENDING
http://dpdk.org/patch/142882

_Testing pending_

Submitter: Stephen Hemminger <stephen@networkplumber.org>
Date: Friday, August 02 2024 19:56:55 
DPDK git baseline: Repo:dpdk
  Branch: master
  CommitID:37ce4c84c0f23c3989bc7ae19e03a4593cec94e5

142879-142882 --> testing pending

Upstream job id: Generic-Unit-Test-DPDK#248427

Test environment and result as below:

+-----------------------------+----------------+--------------+---------------------------+
|         Environment         | dpdk_unit_test | lpm_autotest | cryptodev_sw_zuc_autotest |
+=============================+================+==============+===========================+
| 32-bit Ubuntu 20.04.4 (ARM) | PEND           | SKIPPED      | SKIPPED                   |
+-----------------------------+----------------+--------------+---------------------------+
| CentOS Stream 9 (ARM)       | PASS           | SKIPPED      | SKIPPED                   |
+-----------------------------+----------------+--------------+---------------------------+
| Debian 11 (Buster) (ARM)    | PASS           | SKIPPED      | SKIPPED                   |
+-----------------------------+----------------+--------------+---------------------------+
| Debian 12 (arm)             | PASS           | SKIPPED      | PASS                      |
+-----------------------------+----------------+--------------+---------------------------+
| Fedora 37 (ARM)             | PASS           | SKIPPED      | SKIPPED                   |
+-----------------------------+----------------+--------------+---------------------------+
| Fedora 38 (ARM)             | PASS           | SKIPPED      | SKIPPED                   |
+-----------------------------+----------------+--------------+---------------------------+
| Fedora 38 (ARM Clang)       | PEND           | SKIPPED      | SKIPPED                   |
+-----------------------------+----------------+--------------+---------------------------+
| Fedora 39 (ARM)             | PEND           | SKIPPED      | SKIPPED                   |
+-----------------------------+----------------+--------------+---------------------------+
| Fedora 40 (ARM Clang)       | PEND           | SKIPPED      | SKIPPED                   |
+-----------------------------+----------------+--------------+---------------------------+
| Fedora 39 (ARM Clang)       | PEND           | SKIPPED      | SKIPPED                   |
+-----------------------------+----------------+--------------+---------------------------+
| Fedora 40 (ARM)             | PEND           | SKIPPED      | SKIPPED                   |
+-----------------------------+----------------+--------------+---------------------------+
| RHEL9 (ARM)                 | PEND           | SKIPPED      | SKIPPED                   |
+-----------------------------+----------------+--------------+---------------------------+
| Ubuntu 20.04 (ARM)          | PEND           | SKIPPED      | SKIPPED                   |
+-----------------------------+----------------+--------------+---------------------------+
| Ubuntu 22.04 (ARM)          | PEND           | SKIPPED      | SKIPPED                   |
+-----------------------------+----------------+--------------+---------------------------+
| Ubuntu 24.04 (ARM)          | PEND           | SKIPPED      | SKIPPED                   |
+-----------------------------+----------------+--------------+---------------------------+
| Ubuntu 20.04 ARM SVE        | SKIPPED        | PEND         | SKIPPED                   |
+-----------------------------+----------------+--------------+---------------------------+


32-bit Ubuntu 20.04.4 (ARM)
	Kernel: 5.4.0-155-generic aarch64
	Compiler: gcc 9.4

CentOS Stream 9 (ARM)
	Kernel: Container Host Kernel
	Compiler: gcc 11.4.1

Debian 11 (Buster) (ARM)
	Kernel: Container Host Kernel
	Compiler: gcc 10.2.1

Debian 12 (arm)
	Kernel: Container Host Kernel
	Compiler: gcc 12.2.0

Fedora 37 (ARM)
	Kernel: Depends on container host
	Compiler: gcc 12.3.1

Fedora 38 (ARM)
	Kernel: Depends on container host
	Compiler: gcc 13.2.1

Fedora 38 (ARM Clang)
	Kernel: Depends on container host
	Compiler: clang 16.0.6

Fedora 39 (ARM)
	Kernel: Depends on container host
	Compiler: gcc 13.2.1

Fedora 40 (ARM Clang)
	Kernel: Depends on container host
	Compiler: clang 18.1.6

Fedora 39 (ARM Clang)
	Kernel: Depends on container host
	Compiler: clang 17.0.6

Fedora 40 (ARM)
	Kernel: Depends on container host
	Compiler: gcc 14.1.1

RHEL9 (ARM)
	Kernel: Depends on container host
	Compiler: gcc 11.4.1

Ubuntu 20.04 (ARM)
	Kernel: Container Host Kernel
	Compiler: gcc 9.4.0

Ubuntu 22.04 (ARM)
	Kernel: Container Host Kernel
	Compiler: gcc 11.4.0

Ubuntu 24.04 (ARM)
	Kernel: 5.4.0-167-generic
	Compiler: gcc 13.2.0

Ubuntu 20.04 ARM SVE
	Kernel: 5.4.0-167-generic
	Compiler: gcc (Ubuntu 10.5.0-1ubuntu1~20.04) 10.5.0

To view detailed results, visit:
https://lab.dpdk.org/results/dashboard/patchsets/30713/

UNH-IOL DPDK Community Lab

To manage your email subscriptions, visit: 
https://lab.dpdk.org/results/dashboard/preferences/subscriptions/