From mboxrd@z Thu Jan  1 00:00:00 1970
Return-Path: <test-report-bounces@dpdk.org>
Received: from mails.dpdk.org (mails.dpdk.org [217.70.189.124])
	by inbox.dpdk.org (Postfix) with ESMTP id 33FC345721
	for <public@inbox.dpdk.org>; Fri,  2 Aug 2024 23:55:30 +0200 (CEST)
Received: from mails.dpdk.org (localhost [127.0.0.1])
	by mails.dpdk.org (Postfix) with ESMTP id 2FA0B40DD3;
	Fri,  2 Aug 2024 23:55:30 +0200 (CEST)
Received: from mail-il1-f228.google.com (mail-il1-f228.google.com
 [209.85.166.228])
 by mails.dpdk.org (Postfix) with ESMTP id B64BB40B90
 for <test-report@dpdk.org>; Fri,  2 Aug 2024 23:55:28 +0200 (CEST)
Received: by mail-il1-f228.google.com with SMTP id
 e9e14a558f8ab-3993f5d75bbso44738055ab.3
 for <test-report@dpdk.org>; Fri, 02 Aug 2024 14:55:28 -0700 (PDT)
DKIM-Signature: v=1; a=rsa-sha256; c=relaxed/relaxed;
 d=iol.unh.edu; s=unh-iol; t=1722635728; x=1723240528; darn=dpdk.org;
 h=references:in-reply-to:cc:to:from:subject:message-id:date:from:to
 :cc:subject:date:message-id:reply-to;
 bh=7oWI7pu3DS0BV4ITGFaAsK37YhEfVv0jLzmt6QzZwfU=;
 b=HKfgIf6qNgMQJseaYJ3g7fOvgtTyrAGIJX7lXgnqwCul5TuEXVsAqLk6aWYUmfuqha
 DF6hhwkpTJZGOBEnjzaZlIiDOMnAk1AaHqsgcy+7/zZFJstTl/fdjPjajHruQRLs4OH5
 eO2kYrSjyxx2le69jTO8w1XeIIW6ltuX07Ty0=
X-Google-DKIM-Signature: v=1; a=rsa-sha256; c=relaxed/relaxed;
 d=1e100.net; s=20230601; t=1722635728; x=1723240528;
 h=references:in-reply-to:cc:to:from:subject:message-id:date
 :x-gm-message-state:from:to:cc:subject:date:message-id:reply-to;
 bh=7oWI7pu3DS0BV4ITGFaAsK37YhEfVv0jLzmt6QzZwfU=;
 b=wexArsgnFvVTIcanprXr0cjrtXhISAsCvceNDvZsYI2hTnlFN6P5pKAGu7P/h8iNVl
 cGXZG8M9JujIX6YEe1xXSSMlb07V1SdvwA37jdHg2MUp7yORZ6aTZqzU5wjUtH8NFDyU
 gx0J9lZmSRZtogOPoUCDB0MZNh52836VUTXp5RdJTCXBIziWp97BblWZbRwrrVy7DC2R
 TqOdqTwT93oD4xxrh4+j3vEqG6gXgHlfgBR3JYexAh4JekfbY5Yyd4CDf3mi3JAPMM8E
 lSbSmOXz9govLR2UJ4lIPU25cxRMNW9dBbX5xcqo5/X8Mj2a9io4osQhLDpfDj8l/zVl
 AZUw==
X-Gm-Message-State: AOJu0Yw4Ev8Qb9XgMHVD+f7J2p/eovwbP4mkloRD3pOwTwxQMMQTHo3T
 YUABnIMIDF3wn9TxFkvsGB9C2MPAqYbFyfE6+WvuQ0g5TPvMR64D2piSsz4rLDyUApwWKqVUfh+
 n0U1yi+eBOA9KuazbK7dRfm7JLkxR3GmguvVvpZZSnqTMIojoMVSYkvhU
X-Google-Smtp-Source: AGHT+IFqUjF3mO0Jmb7rYcUCq8kSR8i87pyBef25/tS3vflmOcR5Ipjp8KKNz+PeWggNDhB0tm+mgSBNbEUS
X-Received: by 2002:a92:d451:0:b0:396:c825:4db6 with SMTP id
 e9e14a558f8ab-39b1fc2ed8fmr55579705ab.26.1722635727918; 
 Fri, 02 Aug 2024 14:55:27 -0700 (PDT)
Received: from postal.iol.unh.edu (postal.iol.unh.edu.
 [2606:4100:3880:1234::84]) by smtp-relay.gmail.com with ESMTPS id
 41be03b00d2f7-7b76346949dsm111499a12.11.2024.08.02.14.55.27
 (version=TLS1_2 cipher=ECDHE-ECDSA-AES128-GCM-SHA256 bits=128/128);
 Fri, 02 Aug 2024 14:55:27 -0700 (PDT)
X-Relaying-Domain: iol.unh.edu
Date: Fri, 02 Aug 2024 14:55:27 -0700 (PDT)
Message-ID: <66ad55cf.630a0220.1d0158.781cSMTPIN_ADDED_MISSING@mx.google.com>
Received: from [172.21.0.6] (unknown [172.18.0.240])
 by postal.iol.unh.edu (Postfix) with ESMTP id 28CB4605C351;
 Fri,  2 Aug 2024 17:55:27 -0400 (EDT)
Subject: |PENDING| pw142879-142882 [PATCH] [v7,4/4] test-pmd: add more packet
From: dpdklab@iol.unh.edu
To: Test Report <test-report@dpdk.org>
Cc: dpdk-test-reports@iol.unh.edu
In-Reply-To: <20240802195824.1336603-5-stephen@networkplumber.org>
References: <20240802195824.1336603-5-stephen@networkplumber.org>
Content-Type: text/plain
X-BeenThere: test-report@dpdk.org
X-Mailman-Version: 2.1.29
Precedence: list
List-Id: automatic DPDK test reports <test-report.dpdk.org>
List-Unsubscribe: <https://mails.dpdk.org/options/test-report>,
 <mailto:test-report-request@dpdk.org?subject=unsubscribe>
List-Archive: <http://mails.dpdk.org/archives/test-report/>
List-Post: <mailto:test-report@dpdk.org>
List-Help: <mailto:test-report-request@dpdk.org?subject=help>
List-Subscribe: <https://mails.dpdk.org/listinfo/test-report>,
 <mailto:test-report-request@dpdk.org?subject=subscribe>
Errors-To: test-report-bounces@dpdk.org

Test-Label: iol-abi-testing
Test-Status: PENDING
http://dpdk.org/patch/142882

_Testing pending_

Submitter: Stephen Hemminger <stephen@networkplumber.org>
Date: Friday, August 02 2024 19:56:55 
DPDK git baseline: Repo:dpdk
  Branch: master
  CommitID:37ce4c84c0f23c3989bc7ae19e03a4593cec94e5

142879-142882 --> testing pending

Upstream job id: Generic-DPDK-Compile-ABI#101676

Test environment and result as below:

+-------------------+----------+
|    Environment    | abi_test |
+===================+==========+
| CentOS Stream 9   | PASS     |
+-------------------+----------+
| Debian Bullseye   | PASS     |
+-------------------+----------+
| Debian 12         | PASS     |
+-------------------+----------+
| Fedora 38 (Clang) | PASS     |
+-------------------+----------+
| Fedora 38         | PEND     |
+-------------------+----------+
| Fedora 37         | PASS     |
+-------------------+----------+
| Fedora 39 (Clang) | PASS     |
+-------------------+----------+
| Fedora 40 (Clang) | PASS     |
+-------------------+----------+
| Ubuntu 22.04      | PEND     |
+-------------------+----------+
| Fedora 39         | PASS     |
+-------------------+----------+
| Fedora 40         | PEND     |
+-------------------+----------+
| RHEL9             | PASS     |
+-------------------+----------+
| openSUSE Leap 15  | PEND     |
+-------------------+----------+
| RHEL8             | PEND     |
+-------------------+----------+
| Ubuntu 24.04      | PEND     |
+-------------------+----------+


CentOS Stream 9
	Kernel: 5.4.0-167-generic
	Compiler: gcc 11.4.1 20230605

Debian Bullseye
	Kernel: 5.4.0-167-generic
	Compiler: gcc 10.2.1-6

Debian 12
	Kernel: Container Host Kernel
	Compiler: gcc 12.2.0

Fedora 38 (Clang)
	Kernel: Depends on container host
	Compiler: clang 16.0.6

Fedora 38
	Kernel: Depends on container host
	Compiler: gcc 13.2.1

Fedora 37
	Kernel: Depends on container host system
	Compiler: gcc 12.3.1

Fedora 39 (Clang)
	Kernel: Depends on container host
	Compiler: clang 17.0.6

Fedora 40 (Clang)
	Kernel: Depends on container host
	Compiler: clang 18.1.6

Ubuntu 22.04
	Kernel: 5.4.0-167-generic
	Compiler: gcc 11.4.0

Fedora 39
	Kernel: Depends on container host
	Compiler: gcc 13.2.1

Fedora 40
	Kernel: Depends on container host
	Compiler: gcc 14.1.1

RHEL9
	Kernel: Depends on container host
	Compiler: gcc 11.4.1

openSUSE Leap 15
	Kernel: 5.4.0-167-generic
	Compiler: gcc 7.5.0

RHEL8
	Kernel: 5.4.0-167-generic
	Compiler: gcc 8.5.0 20210514 (Red Hat 8.5.0-20)

Ubuntu 24.04
	Kernel: 5.4.0-167-generic
	Compiler: gcc 13.2.0

To view detailed results, visit:
https://lab.dpdk.org/results/dashboard/patchsets/30713/

UNH-IOL DPDK Community Lab

To manage your email subscriptions, visit: 
https://lab.dpdk.org/results/dashboard/preferences/subscriptions/