From mboxrd@z Thu Jan  1 00:00:00 1970
Return-Path: <test-report-bounces@dpdk.org>
Received: from mails.dpdk.org (mails.dpdk.org [217.70.189.124])
	by inbox.dpdk.org (Postfix) with ESMTP id A737A45721
	for <public@inbox.dpdk.org>; Fri,  2 Aug 2024 23:58:26 +0200 (CEST)
Received: from mails.dpdk.org (localhost [127.0.0.1])
	by mails.dpdk.org (Postfix) with ESMTP id 9F2A640DD3;
	Fri,  2 Aug 2024 23:58:26 +0200 (CEST)
Received: from mail-pl1-f225.google.com (mail-pl1-f225.google.com
 [209.85.214.225])
 by mails.dpdk.org (Postfix) with ESMTP id E310A40B90
 for <test-report@dpdk.org>; Fri,  2 Aug 2024 23:58:24 +0200 (CEST)
Received: by mail-pl1-f225.google.com with SMTP id
 d9443c01a7336-1fee6435a34so61645935ad.0
 for <test-report@dpdk.org>; Fri, 02 Aug 2024 14:58:24 -0700 (PDT)
DKIM-Signature: v=1; a=rsa-sha256; c=relaxed/relaxed;
 d=iol.unh.edu; s=unh-iol; t=1722635904; x=1723240704; darn=dpdk.org;
 h=references:in-reply-to:cc:to:from:subject:message-id:date:from:to
 :cc:subject:date:message-id:reply-to;
 bh=asv5By3eBdCHTpOw2qJXYZskk1uXU8oPNPKPPll6oes=;
 b=iqYyM96PmOR3MkeW7LoUldN2vHUjByidS1Zn/XXz0vKbFrsryI7k//0joR2ndnNojF
 k2w7EA99kKRaOWCLU1m7Dhqj/3z/BjKcPyw+mX4jiVYr4YvBK2ysu4DRqsxIax8iiMg6
 pAPRZTL0Kpl1oLWEv1gERVHezuuL2hkJm6HQk=
X-Google-DKIM-Signature: v=1; a=rsa-sha256; c=relaxed/relaxed;
 d=1e100.net; s=20230601; t=1722635904; x=1723240704;
 h=references:in-reply-to:cc:to:from:subject:message-id:date
 :x-gm-message-state:from:to:cc:subject:date:message-id:reply-to;
 bh=asv5By3eBdCHTpOw2qJXYZskk1uXU8oPNPKPPll6oes=;
 b=n9iCjd2X6+/aXrmwIOtsrlq9Xxd4gFhPQlgkZaR42vTg64ByzuLtVLSqij5YtE/kwK
 39pu2ohNB0IZOR5aKTMDvEdygP86oIa+iuoZszAKr0IzYXHZyMfplu/u382sJ1zzzL8V
 XUgF0R31kIkytJiMhN2prvfK79DfFplQYMSJJRFAKF7JWmMC0XAkKEMWpGPUYcDVlq9P
 6R0AJcwceter5ie/xHJwnF8vxPDu2S4E23+WfsqGUs5yvz5XlbOiItTdWvgWsVnQCain
 7PRnzPw9Lz0K+oPQ2hA/vRNKOp0aVv9uUeRuaI54GOKRWc2UVowJdI736iy6fQJUJrrr
 3dPQ==
X-Gm-Message-State: AOJu0Yy1QS76Bamq7b/ycuT6LNNulsjlQXuVnPJvacIelkKrdZRHGadK
 usr8sUypsx/fUG+ykhvrMXYBzJ7j4b1gb3HaAtvMxVxo/8MyxY6vH7xplbcoOuoIG8bQhnlsfI/
 sAdD0wviBLXR4dM3Rp9OxqplnIgbafyrDrCUStrFoR0SC/Dz1nHRmdiGO
X-Google-Smtp-Source: AGHT+IGMXRHRu34Y4/e7znA9YZS0S0HP4SHKdXxEYeChOH3cfQpCfgLifDc1YiPfv+QpK27Twv9iwPUbnnCq
X-Received: by 2002:a17:902:ecc9:b0:1fc:2b3b:1482 with SMTP id
 d9443c01a7336-1ff5723a942mr67150915ad.12.1722635904049; 
 Fri, 02 Aug 2024 14:58:24 -0700 (PDT)
Received: from postal.iol.unh.edu (postal.iol.unh.edu.
 [2606:4100:3880:1234::84]) by smtp-relay.gmail.com with ESMTPS id
 d9443c01a7336-1ff59179c84sm973125ad.124.2024.08.02.14.58.23
 (version=TLS1_2 cipher=ECDHE-ECDSA-AES128-GCM-SHA256 bits=128/128);
 Fri, 02 Aug 2024 14:58:24 -0700 (PDT)
X-Relaying-Domain: iol.unh.edu
Date: Fri, 02 Aug 2024 14:58:24 -0700 (PDT)
Message-ID: <66ad5680.170a0220.2369b2.68b7SMTPIN_ADDED_MISSING@mx.google.com>
Received: from [172.21.0.6] (unknown [172.18.0.240])
 by postal.iol.unh.edu (Postfix) with ESMTP id 29ADF605C351;
 Fri,  2 Aug 2024 17:58:23 -0400 (EDT)
Subject: |PENDING| pw142879-142882 [PATCH] [v7,4/4] test-pmd: add more packet
From: dpdklab@iol.unh.edu
To: Test Report <test-report@dpdk.org>
Cc: dpdk-test-reports@iol.unh.edu
In-Reply-To: <20240802195824.1336603-5-stephen@networkplumber.org>
References: <20240802195824.1336603-5-stephen@networkplumber.org>
Content-Type: text/plain
X-BeenThere: test-report@dpdk.org
X-Mailman-Version: 2.1.29
Precedence: list
List-Id: automatic DPDK test reports <test-report.dpdk.org>
List-Unsubscribe: <https://mails.dpdk.org/options/test-report>,
 <mailto:test-report-request@dpdk.org?subject=unsubscribe>
List-Archive: <http://mails.dpdk.org/archives/test-report/>
List-Post: <mailto:test-report@dpdk.org>
List-Help: <mailto:test-report-request@dpdk.org?subject=help>
List-Subscribe: <https://mails.dpdk.org/listinfo/test-report>,
 <mailto:test-report-request@dpdk.org?subject=subscribe>
Errors-To: test-report-bounces@dpdk.org

Test-Label: iol-abi-testing
Test-Status: PENDING
http://dpdk.org/patch/142882

_Testing pending_

Submitter: Stephen Hemminger <stephen@networkplumber.org>
Date: Friday, August 02 2024 19:56:55 
DPDK git baseline: Repo:dpdk
  Branch: master
  CommitID:37ce4c84c0f23c3989bc7ae19e03a4593cec94e5

142879-142882 --> testing pending

Upstream job id: Generic-DPDK-Compile-ABI#101680

Test environment and result as below:

+-------------------+----------+
|    Environment    | abi_test |
+===================+==========+
| CentOS Stream 9   | PASS     |
+-------------------+----------+
| Debian Bullseye   | PASS     |
+-------------------+----------+
| Debian 12         | PASS     |
+-------------------+----------+
| Fedora 38 (Clang) | PASS     |
+-------------------+----------+
| Fedora 38         | PASS     |
+-------------------+----------+
| Fedora 37         | PASS     |
+-------------------+----------+
| Fedora 39 (Clang) | PASS     |
+-------------------+----------+
| Fedora 40 (Clang) | PASS     |
+-------------------+----------+
| Ubuntu 22.04      | PEND     |
+-------------------+----------+
| Fedora 39         | PASS     |
+-------------------+----------+
| Fedora 40         | PEND     |
+-------------------+----------+
| RHEL9             | PASS     |
+-------------------+----------+
| openSUSE Leap 15  | PEND     |
+-------------------+----------+
| RHEL8             | PEND     |
+-------------------+----------+
| Ubuntu 24.04      | PEND     |
+-------------------+----------+


CentOS Stream 9
	Kernel: 5.4.0-167-generic
	Compiler: gcc 11.4.1 20230605

Debian Bullseye
	Kernel: 5.4.0-167-generic
	Compiler: gcc 10.2.1-6

Debian 12
	Kernel: Container Host Kernel
	Compiler: gcc 12.2.0

Fedora 38 (Clang)
	Kernel: Depends on container host
	Compiler: clang 16.0.6

Fedora 38
	Kernel: Depends on container host
	Compiler: gcc 13.2.1

Fedora 37
	Kernel: Depends on container host system
	Compiler: gcc 12.3.1

Fedora 39 (Clang)
	Kernel: Depends on container host
	Compiler: clang 17.0.6

Fedora 40 (Clang)
	Kernel: Depends on container host
	Compiler: clang 18.1.6

Ubuntu 22.04
	Kernel: 5.4.0-167-generic
	Compiler: gcc 11.4.0

Fedora 39
	Kernel: Depends on container host
	Compiler: gcc 13.2.1

Fedora 40
	Kernel: Depends on container host
	Compiler: gcc 14.1.1

RHEL9
	Kernel: Depends on container host
	Compiler: gcc 11.4.1

openSUSE Leap 15
	Kernel: 5.4.0-167-generic
	Compiler: gcc 7.5.0

RHEL8
	Kernel: 5.4.0-167-generic
	Compiler: gcc 8.5.0 20210514 (Red Hat 8.5.0-20)

Ubuntu 24.04
	Kernel: 5.4.0-167-generic
	Compiler: gcc 13.2.0

To view detailed results, visit:
https://lab.dpdk.org/results/dashboard/patchsets/30713/

UNH-IOL DPDK Community Lab

To manage your email subscriptions, visit: 
https://lab.dpdk.org/results/dashboard/preferences/subscriptions/