From mboxrd@z Thu Jan  1 00:00:00 1970
Return-Path: <test-report-bounces@dpdk.org>
Received: from mails.dpdk.org (mails.dpdk.org [217.70.189.124])
	by inbox.dpdk.org (Postfix) with ESMTP id 5E2124573B
	for <public@inbox.dpdk.org>; Mon,  5 Aug 2024 05:58:18 +0200 (CEST)
Received: from mails.dpdk.org (localhost [127.0.0.1])
	by mails.dpdk.org (Postfix) with ESMTP id 5706C402B7;
	Mon,  5 Aug 2024 05:58:18 +0200 (CEST)
Received: from mail-yw1-f227.google.com (mail-yw1-f227.google.com
 [209.85.128.227])
 by mails.dpdk.org (Postfix) with ESMTP id 196BE402B3
 for <test-report@dpdk.org>; Mon,  5 Aug 2024 05:58:17 +0200 (CEST)
Received: by mail-yw1-f227.google.com with SMTP id
 00721157ae682-685cc5415e8so49138147b3.3
 for <test-report@dpdk.org>; Sun, 04 Aug 2024 20:58:17 -0700 (PDT)
DKIM-Signature: v=1; a=rsa-sha256; c=relaxed/relaxed;
 d=iol.unh.edu; s=unh-iol; t=1722830296; x=1723435096; darn=dpdk.org;
 h=references:in-reply-to:cc:to:from:subject:message-id:date:from:to
 :cc:subject:date:message-id:reply-to;
 bh=eVGAV5ZarSsZXOR0+pDyrwRln8ioDIrtlHEFIow9hN4=;
 b=jHxwAwg0sIfzMjqe2/HcMzMpR+HNE4r6xMwWgLJ4DjemObaJpxcIxPpPbfWO10m/z3
 Gd27wmkMV183H3PD28d+TpRPPsQwda75itxKp4YQwLMT16Pd+jEKkEEeKh/0aolveSKO
 bES0Uc7p4UustzW8KkksYi9z9c9qlGCawPk2U=
X-Google-DKIM-Signature: v=1; a=rsa-sha256; c=relaxed/relaxed;
 d=1e100.net; s=20230601; t=1722830296; x=1723435096;
 h=references:in-reply-to:cc:to:from:subject:message-id:date
 :x-gm-message-state:from:to:cc:subject:date:message-id:reply-to;
 bh=eVGAV5ZarSsZXOR0+pDyrwRln8ioDIrtlHEFIow9hN4=;
 b=v28quE5i9GDih7LTF+3A9w0vVufFfdF2QnitHfRsD6L4tgn1msPAs3fwdGRGLkCt0G
 pd6AoaZbZlbWsGlPJtbsV8oOPoSF5apunMmL3l9zxXepMYRs4He8wh7a5oxCVFvymcEH
 nIu4qWkyP5YGbtllrCrThdBzKR9oXb2FhEXsfMKmcEONTgP+Drq5nokBb4fuB/hx20tE
 A0CO10ElWZ62qzH12IrayO/2b5NoaCVjeTXY9gXedECIJWIcl31xoNLYFnhVGiT0TeZi
 4CuDp+k4aqQEyhlPYF/L/GcctUxrLR5FjkA7evL1BGGa5o8UMo6zeTzeqyqvwBPqBLaZ
 SU1w==
X-Gm-Message-State: AOJu0Yx0DmABEPdPtgTJO0zMKEpKD9VkDSveqEnsw2EuCXWhECDN/Tid
 6xOVdjWWNsVS8WrBijikKr4UbsRIrDNiuuohjTmZd25rY2o4ix8efA/wTJK/ZIHsAtF/ale7FXU
 F01XP4DNCPyQsiNGIO1nfwkfLAnAaRglL16v/jx0oeab6Xf3TzWo0DbW9
X-Google-Smtp-Source: AGHT+IFU2HlCQPdMz67mgc2A8n6ALqMFf48H6HnssLNhtQJ3IsaEyU/+MpNLahmgPB/mP95i6pipHGZkY3Tf
X-Received: by 2002:a0d:e087:0:b0:647:88ba:f91b with SMTP id
 00721157ae682-68960777bcemr105211997b3.11.1722830296543; 
 Sun, 04 Aug 2024 20:58:16 -0700 (PDT)
Received: from postal.iol.unh.edu (postal.iol.unh.edu.
 [2606:4100:3880:1234::84]) by smtp-relay.gmail.com with ESMTPS id
 00721157ae682-68a09d9c5ccsm7757307b3.0.2024.08.04.20.58.16
 (version=TLS1_2 cipher=ECDHE-ECDSA-AES128-GCM-SHA256 bits=128/128);
 Sun, 04 Aug 2024 20:58:16 -0700 (PDT)
X-Relaying-Domain: iol.unh.edu
Date: Sun, 04 Aug 2024 20:58:16 -0700 (PDT)
Message-ID: <66b04dd8.0d0a0220.342af0.e29dSMTPIN_ADDED_MISSING@mx.google.com>
Received: from [172.17.0.4] (unknown [172.18.0.217])
 by postal.iol.unh.edu (Postfix) with ESMTP id 370F960526E2;
 Sun,  4 Aug 2024 23:58:16 -0400 (EDT)
Subject: |SUCCESS| pw142883-142893 [PATCH] [v4,11/11] doc: update nfp documen
From: dpdklab@iol.unh.edu
To: Test Report <test-report@dpdk.org>
Cc: dpdk-test-reports@iol.unh.edu
In-Reply-To: <20240805021248.1051198-12-chaoyong.he@corigine.com>
References: <20240805021248.1051198-12-chaoyong.he@corigine.com>
Content-Type: text/plain
X-BeenThere: test-report@dpdk.org
X-Mailman-Version: 2.1.29
Precedence: list
List-Id: automatic DPDK test reports <test-report.dpdk.org>
List-Unsubscribe: <https://mails.dpdk.org/options/test-report>,
 <mailto:test-report-request@dpdk.org?subject=unsubscribe>
List-Archive: <http://mails.dpdk.org/archives/test-report/>
List-Post: <mailto:test-report@dpdk.org>
List-Help: <mailto:test-report-request@dpdk.org?subject=help>
List-Subscribe: <https://mails.dpdk.org/listinfo/test-report>,
 <mailto:test-report-request@dpdk.org?subject=subscribe>
Errors-To: test-report-bounces@dpdk.org

Test-Label: iol-unit-arm64-testing
Test-Status: SUCCESS
http://dpdk.org/patch/142893

_Testing PASS_

Submitter: Chaoyong He <chaoyong.he@corigine.com>
Date: Monday, August 05 2024 02:12:48 
DPDK git baseline: Repo:dpdk
  Branch: master
  CommitID:37ce4c84c0f23c3989bc7ae19e03a4593cec94e5

142883-142893 --> testing pass

Upstream job id: Generic-Unit-Test-DPDK#248654

Test environment and result as below:

+-----------------------------+----------------+---------------------------+--------------+------------------------------+
|         Environment         | dpdk_unit_test | cryptodev_sw_zuc_autotest | lpm_autotest | cryptodev_sw_snow3g_autotest |
+=============================+================+===========================+==============+==============================+
| 32-bit Ubuntu 20.04.4 (ARM) | PASS           | SKIPPED                   | SKIPPED      | SKIPPED                      |
+-----------------------------+----------------+---------------------------+--------------+------------------------------+
| CentOS Stream 9 (ARM)       | PASS           | SKIPPED                   | SKIPPED      | SKIPPED                      |
+-----------------------------+----------------+---------------------------+--------------+------------------------------+
| Debian 11 (Buster) (ARM)    | PASS           | SKIPPED                   | SKIPPED      | SKIPPED                      |
+-----------------------------+----------------+---------------------------+--------------+------------------------------+
| Debian 12 (arm)             | PASS           | PASS                      | SKIPPED      | PASS                         |
+-----------------------------+----------------+---------------------------+--------------+------------------------------+
| Fedora 37 (ARM)             | PASS           | SKIPPED                   | SKIPPED      | SKIPPED                      |
+-----------------------------+----------------+---------------------------+--------------+------------------------------+
| Fedora 38 (ARM)             | PASS           | SKIPPED                   | SKIPPED      | SKIPPED                      |
+-----------------------------+----------------+---------------------------+--------------+------------------------------+
| Fedora 39 (ARM)             | PASS           | SKIPPED                   | SKIPPED      | SKIPPED                      |
+-----------------------------+----------------+---------------------------+--------------+------------------------------+
| Fedora 38 (ARM Clang)       | PASS           | SKIPPED                   | SKIPPED      | SKIPPED                      |
+-----------------------------+----------------+---------------------------+--------------+------------------------------+
| Fedora 39 (ARM Clang)       | PASS           | SKIPPED                   | SKIPPED      | SKIPPED                      |
+-----------------------------+----------------+---------------------------+--------------+------------------------------+
| Fedora 40 (ARM Clang)       | PASS           | SKIPPED                   | SKIPPED      | SKIPPED                      |
+-----------------------------+----------------+---------------------------+--------------+------------------------------+
| Fedora 40 (ARM)             | PASS           | SKIPPED                   | SKIPPED      | SKIPPED                      |
+-----------------------------+----------------+---------------------------+--------------+------------------------------+
| Ubuntu 20.04 (ARM)          | PASS           | SKIPPED                   | SKIPPED      | SKIPPED                      |
+-----------------------------+----------------+---------------------------+--------------+------------------------------+
| RHEL9 (ARM)                 | PASS           | SKIPPED                   | SKIPPED      | SKIPPED                      |
+-----------------------------+----------------+---------------------------+--------------+------------------------------+
| Ubuntu 24.04 (ARM)          | PASS           | SKIPPED                   | SKIPPED      | SKIPPED                      |
+-----------------------------+----------------+---------------------------+--------------+------------------------------+
| Ubuntu 22.04 (ARM)          | PASS           | SKIPPED                   | SKIPPED      | SKIPPED                      |
+-----------------------------+----------------+---------------------------+--------------+------------------------------+
| Ubuntu 20.04 ARM SVE        | SKIPPED        | SKIPPED                   | PASS         | SKIPPED                      |
+-----------------------------+----------------+---------------------------+--------------+------------------------------+


32-bit Ubuntu 20.04.4 (ARM)
	Kernel: 5.4.0-155-generic aarch64
	Compiler: gcc 9.4

CentOS Stream 9 (ARM)
	Kernel: Container Host Kernel
	Compiler: gcc 11.4.1

Debian 11 (Buster) (ARM)
	Kernel: Container Host Kernel
	Compiler: gcc 10.2.1

Debian 12 (arm)
	Kernel: Container Host Kernel
	Compiler: gcc 12.2.0

Fedora 37 (ARM)
	Kernel: Depends on container host
	Compiler: gcc 12.3.1

Fedora 38 (ARM)
	Kernel: Depends on container host
	Compiler: gcc 13.2.1

Fedora 39 (ARM)
	Kernel: Depends on container host
	Compiler: gcc 13.2.1

Fedora 38 (ARM Clang)
	Kernel: Depends on container host
	Compiler: clang 16.0.6

Fedora 39 (ARM Clang)
	Kernel: Depends on container host
	Compiler: clang 17.0.6

Fedora 40 (ARM Clang)
	Kernel: Depends on container host
	Compiler: clang 18.1.6

Fedora 40 (ARM)
	Kernel: Depends on container host
	Compiler: gcc 14.1.1

Ubuntu 20.04 (ARM)
	Kernel: Container Host Kernel
	Compiler: gcc 9.4.0

RHEL9 (ARM)
	Kernel: Depends on container host
	Compiler: gcc 11.4.1

Ubuntu 24.04 (ARM)
	Kernel: 5.4.0-167-generic
	Compiler: gcc 13.2.0

Ubuntu 22.04 (ARM)
	Kernel: Container Host Kernel
	Compiler: gcc 11.4.0

Ubuntu 20.04 ARM SVE
	Kernel: 5.4.0-167-generic
	Compiler: gcc (Ubuntu 10.5.0-1ubuntu1~20.04) 10.5.0

To view detailed results, visit:
https://lab.dpdk.org/results/dashboard/patchsets/30714/

UNH-IOL DPDK Community Lab

To manage your email subscriptions, visit: 
https://lab.dpdk.org/results/dashboard/preferences/subscriptions/