From mboxrd@z Thu Jan  1 00:00:00 1970
Return-Path: <test-report-bounces@dpdk.org>
Received: from mails.dpdk.org (mails.dpdk.org [217.70.189.124])
	by inbox.dpdk.org (Postfix) with ESMTP id 20E7F4573C
	for <public@inbox.dpdk.org>; Mon,  5 Aug 2024 06:03:06 +0200 (CEST)
Received: from mails.dpdk.org (localhost [127.0.0.1])
	by mails.dpdk.org (Postfix) with ESMTP id 1D58C402B7;
	Mon,  5 Aug 2024 06:03:06 +0200 (CEST)
Received: from mail-yw1-f225.google.com (mail-yw1-f225.google.com
 [209.85.128.225])
 by mails.dpdk.org (Postfix) with ESMTP id 7F458402B3
 for <test-report@dpdk.org>; Mon,  5 Aug 2024 06:03:04 +0200 (CEST)
Received: by mail-yw1-f225.google.com with SMTP id
 00721157ae682-6518f8bc182so38801417b3.0
 for <test-report@dpdk.org>; Sun, 04 Aug 2024 21:03:04 -0700 (PDT)
DKIM-Signature: v=1; a=rsa-sha256; c=relaxed/relaxed;
 d=iol.unh.edu; s=unh-iol; t=1722830584; x=1723435384; darn=dpdk.org;
 h=references:in-reply-to:cc:to:from:subject:message-id:date:from:to
 :cc:subject:date:message-id:reply-to;
 bh=ilFYuUIInGbL+jGerb2IM8ZUCVBdQkMcY35EjaU37yQ=;
 b=C58DSs/QENfrAAaI8tdSXfMOGTo2V6oOvNb023DDjvhd+q9NwYr6G7RqbrvsU5b9Kq
 VSMy0R0qzykUYRSS8uUU0Z6OSoUyEMJdWKDnSVNji4HvGE21IfthaeQoVa0ouvf9snXM
 KrShLHkGZfRI8YAAmCI/h0c/x1z5JkWJZI53A=
X-Google-DKIM-Signature: v=1; a=rsa-sha256; c=relaxed/relaxed;
 d=1e100.net; s=20230601; t=1722830584; x=1723435384;
 h=references:in-reply-to:cc:to:from:subject:message-id:date
 :x-gm-message-state:from:to:cc:subject:date:message-id:reply-to;
 bh=ilFYuUIInGbL+jGerb2IM8ZUCVBdQkMcY35EjaU37yQ=;
 b=BSZQ23D/Kta0l7mDxxUeAWOU1OUhCP6rPZjP8v1DpPN3Ihph846mmugA9MkkG4fk5/
 v5OUJ9ve4Z+45c5NIww7iy8e+j9KR8+2Ey/XVf1xdjT498MZ4ewGIPshPrHnHDsHhJKR
 /97TdyeW51eo8+8VwyYJECGERd3zSfOxQXc/qd4qsS2awqKRINSGxzgDQ2Q553PO/gO6
 wH/obzDhGceGKbfhkc+0JBuEzbipsDJgdIH/Izfeblbh4MN7fmn+pNFlVVNrUwoHw3+w
 zET7z4eNIksd0a7PqBr/OWH8kCy8HgndRI2vJLvDZy0xmFgXzVi6jnv5dO02L6xBMTMG
 hU7Q==
X-Gm-Message-State: AOJu0Yyp92BWCsPl6RBPC1imDdxC1Mlb14Z8CEpkxsQZG6OcgR+jGv3i
 yPkcT+7aDryCOqpZ0/z+rOmWodb3ekgccgQZESVWroigHHE+UZ+ONizUvaivkWdc9XLibIzUEgh
 Xe0R6MmYLkz2U5T4ZmC6+V7zpWRSWrohgP8vfYxEu
X-Google-Smtp-Source: AGHT+IF5V1iLip/wRPYTBB8Y53axPEhATtvap0Q3UOMq0fzMRFjRmPvpUvwfWFKkdER2nZyR2XQf6wMgrzTh
X-Received: by 2002:a0d:d201:0:b0:65f:cdb7:46a7 with SMTP id
 00721157ae682-689638f3cdbmr95413767b3.22.1722830583832; 
 Sun, 04 Aug 2024 21:03:03 -0700 (PDT)
Received: from postal.iol.unh.edu (postal.iol.unh.edu. [132.177.123.84])
 by smtp-relay.gmail.com with ESMTPS id
 00721157ae682-68a168d8db9sm7509357b3.72.2024.08.04.21.03.03
 (version=TLS1_2 cipher=ECDHE-ECDSA-AES128-GCM-SHA256 bits=128/128);
 Sun, 04 Aug 2024 21:03:03 -0700 (PDT)
X-Relaying-Domain: iol.unh.edu
Date: Sun, 04 Aug 2024 21:03:03 -0700 (PDT)
Message-ID: <66b04ef7.0d0a0220.c461.bd27SMTPIN_ADDED_MISSING@mx.google.com>
Received: from [172.17.0.4] (unknown [172.18.0.217])
 by postal.iol.unh.edu (Postfix) with ESMTP id 7A84C60526E2;
 Mon,  5 Aug 2024 00:03:03 -0400 (EDT)
Subject: |PENDING| pw142883-142893 [PATCH] [v4,11/11] doc: update nfp documen
From: dpdklab@iol.unh.edu
To: Test Report <test-report@dpdk.org>
Cc: dpdk-test-reports@iol.unh.edu
In-Reply-To: <20240805021248.1051198-12-chaoyong.he@corigine.com>
References: <20240805021248.1051198-12-chaoyong.he@corigine.com>
Content-Type: text/plain
X-BeenThere: test-report@dpdk.org
X-Mailman-Version: 2.1.29
Precedence: list
List-Id: automatic DPDK test reports <test-report.dpdk.org>
List-Unsubscribe: <https://mails.dpdk.org/options/test-report>,
 <mailto:test-report-request@dpdk.org?subject=unsubscribe>
List-Archive: <http://mails.dpdk.org/archives/test-report/>
List-Post: <mailto:test-report@dpdk.org>
List-Help: <mailto:test-report-request@dpdk.org?subject=help>
List-Subscribe: <https://mails.dpdk.org/listinfo/test-report>,
 <mailto:test-report-request@dpdk.org?subject=subscribe>
Errors-To: test-report-bounces@dpdk.org

Test-Label: iol-unit-amd64-testing
Test-Status: PENDING
http://dpdk.org/patch/142893

_Testing pending_

Submitter: Chaoyong He <chaoyong.he@corigine.com>
Date: Monday, August 05 2024 02:12:48 
DPDK git baseline: Repo:dpdk
  Branch: master
  CommitID:37ce4c84c0f23c3989bc7ae19e03a4593cec94e5

142883-142893 --> testing pending

Upstream job id: Generic-Unit-Test-DPDK#248641

Test environment and result as below:

+---------------------+----------------+
|     Environment     | dpdk_unit_test |
+=====================+================+
| Windows Server 2022 | PASS           |
+---------------------+----------------+
| Windows Server 2019 | PASS           |
+---------------------+----------------+
| CentOS Stream 9     | PASS           |
+---------------------+----------------+
| Debian Bullseye     | PASS           |
+---------------------+----------------+
| Debian 12           | PASS           |
+---------------------+----------------+
| Fedora 37           | PASS           |
+---------------------+----------------+
| Fedora 38           | PASS           |
+---------------------+----------------+
| Fedora 38 (Clang)   | PASS           |
+---------------------+----------------+
| Fedora 39           | PASS           |
+---------------------+----------------+
| Fedora 39 (Clang)   | PASS           |
+---------------------+----------------+
| openSUSE Leap 15    | PEND           |
+---------------------+----------------+
| Fedora 40 (Clang)   | PEND           |
+---------------------+----------------+
| Fedora 40           | PEND           |
+---------------------+----------------+
| RHEL8               | PEND           |
+---------------------+----------------+
| RHEL9               | PEND           |
+---------------------+----------------+
| Ubuntu 20.04        | PEND           |
+---------------------+----------------+
| Ubuntu 24.04        | PEND           |
+---------------------+----------------+
| Ubuntu 22.04        | PEND           |
+---------------------+----------------+


Windows Server 2022
	Kernel: 10.0.20348.2031
	Compiler: clang 15.0.7, gcc 8.1.0 (MinGW), and MSVC VS 17.9

Windows Server 2019
	Kernel: 10.0.17763
	Compiler: clang 14.0 and gcc 8.1.0 (MinGW)

CentOS Stream 9
	Kernel: 5.4.0-167-generic
	Compiler: gcc 11.4.1 20230605

Debian Bullseye
	Kernel: 5.4.0-167-generic
	Compiler: gcc 10.2.1-6

Debian 12
	Kernel: Container Host Kernel
	Compiler: gcc 12.2.0

Fedora 37
	Kernel: Depends on container host system
	Compiler: gcc 12.3.1

Fedora 38
	Kernel: Depends on container host
	Compiler: gcc 13.2.1

Fedora 38 (Clang)
	Kernel: Depends on container host
	Compiler: clang 16.0.6

Fedora 39
	Kernel: Depends on container host
	Compiler: gcc 13.2.1

Fedora 39 (Clang)
	Kernel: Depends on container host
	Compiler: clang 17.0.6

openSUSE Leap 15
	Kernel: 5.4.0-167-generic
	Compiler: gcc 7.5.0

Fedora 40 (Clang)
	Kernel: Depends on container host
	Compiler: clang 18.1.6

Fedora 40
	Kernel: Depends on container host
	Compiler: gcc 14.1.1

RHEL8
	Kernel: 5.4.0-167-generic
	Compiler: gcc 8.5.0 20210514 (Red Hat 8.5.0-20)

RHEL9
	Kernel: Depends on container host
	Compiler: gcc 11.4.1

Ubuntu 20.04
	Kernel: 5.4.0-167-generic
	Compiler: gcc 9.4.0-1ubuntu1~20.04.1

Ubuntu 24.04
	Kernel: 5.4.0-167-generic
	Compiler: gcc 13.2.0

Ubuntu 22.04
	Kernel: 5.4.0-167-generic
	Compiler: gcc 11.4.0

To view detailed results, visit:
https://lab.dpdk.org/results/dashboard/patchsets/30714/

UNH-IOL DPDK Community Lab

To manage your email subscriptions, visit: 
https://lab.dpdk.org/results/dashboard/preferences/subscriptions/