From mboxrd@z Thu Jan  1 00:00:00 1970
Return-Path: <test-report-bounces@dpdk.org>
Received: from mails.dpdk.org (mails.dpdk.org [217.70.189.124])
	by inbox.dpdk.org (Postfix) with ESMTP id 2E27D4573C
	for <public@inbox.dpdk.org>; Mon,  5 Aug 2024 06:42:07 +0200 (CEST)
Received: from mails.dpdk.org (localhost [127.0.0.1])
	by mails.dpdk.org (Postfix) with ESMTP id 1B99E402B7;
	Mon,  5 Aug 2024 06:42:07 +0200 (CEST)
Received: from mail-yw1-f228.google.com (mail-yw1-f228.google.com
 [209.85.128.228])
 by mails.dpdk.org (Postfix) with ESMTP id 960E8402B3
 for <test-report@dpdk.org>; Mon,  5 Aug 2024 06:42:03 +0200 (CEST)
Received: by mail-yw1-f228.google.com with SMTP id
 00721157ae682-6512866fa87so73839407b3.2
 for <test-report@dpdk.org>; Sun, 04 Aug 2024 21:42:03 -0700 (PDT)
DKIM-Signature: v=1; a=rsa-sha256; c=relaxed/relaxed;
 d=iol.unh.edu; s=unh-iol; t=1722832923; x=1723437723; darn=dpdk.org;
 h=references:in-reply-to:cc:to:from:subject:message-id:date:from:to
 :cc:subject:date:message-id:reply-to;
 bh=IaoInWHxQ0KcR74AOTgYGpFW/SZxd0/fRuSsHd7FZxk=;
 b=FiFiK0FRYtEILv8KNzs+ZPd5whH3QO7vPUgBrivvlA6Oj8LT9MG7y+5o8f+bGYJwGf
 M8sPJ6EDq9nVr9QKwAN6PpY9XO5YE5mozycZq80xZzoBO1R6g4OpO3Drrucvl8IsPJ9m
 YKDTdstZVfsF4gDTWGA3fuvGgGxns4v9SJ6yI=
X-Google-DKIM-Signature: v=1; a=rsa-sha256; c=relaxed/relaxed;
 d=1e100.net; s=20230601; t=1722832923; x=1723437723;
 h=references:in-reply-to:cc:to:from:subject:message-id:date
 :x-gm-message-state:from:to:cc:subject:date:message-id:reply-to;
 bh=IaoInWHxQ0KcR74AOTgYGpFW/SZxd0/fRuSsHd7FZxk=;
 b=VWPgIOQtvvVVKDrvaLkhcxNLzsgbdAHZoInko/HGoYtoarQFSKuy5wSAu4dJUc9QVh
 wofO7m9y3oUwWCOwuDqZ4PtjyvLwmNnqDTNHh42eTVvWxbYC28RlO6y0JtujXRP0YyaI
 InIeNNN65DN1hdgL3NpRNP/21Shg5VqAi8gdwWx4S5UaSPX91pEsuIYHQQqTxcnAlzqi
 fgNRvfzQ7KqBKwh+wOENyB+oCTX2Cx1mwcNxCgjTvM/RNxBg8pWhVnJe+kT50UFLOyEF
 aBAG7W2WjArdSQREKWsJsiL3hvGsM1BGrck1sBFOvIlEWUHGFeRJIS5XPRHRkIEWMVqH
 Glyw==
X-Gm-Message-State: AOJu0YyGqMrptm1hjyyitXKHyql06Bh7vGAkmdwi3vQTEilaZ6/OVfSA
 qPVTRuexQ9fhPQYp6gRsr2WjOvQ4iiRJztfaeA5g1+YeIV6e4QMGRFdwr2GqNBmuM6tTh20Tkcr
 q59FLUWugUsxrwFzWWQFkdcbikIgFInkzWS44Ti+T
X-Google-Smtp-Source: AGHT+IHsUMwCKkHtaU15L36DkH8gDmG8GOn0lhKIVtKcRz+tsdfWOui2WqPaMb3XOmeUDZAMI++Q3SJFVqhY
X-Received: by 2002:a0d:ee45:0:b0:615:1cbb:7b81 with SMTP id
 00721157ae682-6896512c7dbmr79288357b3.46.1722832922826; 
 Sun, 04 Aug 2024 21:42:02 -0700 (PDT)
Received: from postal.iol.unh.edu (postal.iol.unh.edu. [132.177.123.84])
 by smtp-relay.gmail.com with ESMTPS id
 00721157ae682-68a116db872sm7862617b3.2.2024.08.04.21.42.02
 (version=TLS1_2 cipher=ECDHE-ECDSA-AES128-GCM-SHA256 bits=128/128);
 Sun, 04 Aug 2024 21:42:02 -0700 (PDT)
X-Relaying-Domain: iol.unh.edu
Date: Sun, 04 Aug 2024 21:42:02 -0700 (PDT)
Message-ID: <66b0581a.810a0220.1266fe.e3e2SMTPIN_ADDED_MISSING@mx.google.com>
Received: from [172.21.0.7] (unknown [172.18.0.240])
 by postal.iol.unh.edu (Postfix) with ESMTP id 616B760526E2;
 Mon,  5 Aug 2024 00:42:02 -0400 (EDT)
Subject: |SUCCESS| pw142883-142893 [PATCH] [v4,11/11] doc: update nfp documen
From: dpdklab@iol.unh.edu
To: Test Report <test-report@dpdk.org>
Cc: dpdk-test-reports@iol.unh.edu
In-Reply-To: <20240805021248.1051198-12-chaoyong.he@corigine.com>
References: <20240805021248.1051198-12-chaoyong.he@corigine.com>
Content-Type: text/plain
X-BeenThere: test-report@dpdk.org
X-Mailman-Version: 2.1.29
Precedence: list
List-Id: automatic DPDK test reports <test-report.dpdk.org>
List-Unsubscribe: <https://mails.dpdk.org/options/test-report>,
 <mailto:test-report-request@dpdk.org?subject=unsubscribe>
List-Archive: <http://mails.dpdk.org/archives/test-report/>
List-Post: <mailto:test-report@dpdk.org>
List-Help: <mailto:test-report-request@dpdk.org?subject=help>
List-Subscribe: <https://mails.dpdk.org/listinfo/test-report>,
 <mailto:test-report-request@dpdk.org?subject=subscribe>
Errors-To: test-report-bounces@dpdk.org

Test-Label: iol-compile-arm64-testing
Test-Status: SUCCESS
http://dpdk.org/patch/142893

_Testing PASS_

Submitter: Chaoyong He <chaoyong.he@corigine.com>
Date: Monday, August 05 2024 02:12:48 
DPDK git baseline: Repo:dpdk
  Branch: master
  CommitID:37ce4c84c0f23c3989bc7ae19e03a4593cec94e5

142883-142893 --> testing pass

Upstream job id: Generic-DPDK-Compile-Meson#284315

Test environment and result as below:

+----------------------------------------+--------------------+
|              Environment               | dpdk_meson_compile |
+========================================+====================+
| RHEL9 (ARM)                            | PASS               |
+----------------------------------------+--------------------+
| Ubuntu 20.04 ARM GCC Cross Compile     | PASS               |
+----------------------------------------+--------------------+
| Ubuntu 20.04 ARM SVE                   | PASS               |
+----------------------------------------+--------------------+
| Debian 12 with MUSDK                   | PASS               |
+----------------------------------------+--------------------+
| Fedora 37 (ARM)                        | PASS               |
+----------------------------------------+--------------------+
| Fedora 39 (ARM)                        | PASS               |
+----------------------------------------+--------------------+
| Fedora 38 (ARM Clang)                  | PASS               |
+----------------------------------------+--------------------+
| Fedora 39 (ARM Clang)                  | PASS               |
+----------------------------------------+--------------------+
| Fedora 38 (ARM)                        | PASS               |
+----------------------------------------+--------------------+
| Fedora 40 (ARM)                        | PASS               |
+----------------------------------------+--------------------+
| Fedora 40 (ARM Clang)                  | PASS               |
+----------------------------------------+--------------------+
| Ubuntu 22.04 (ARM)                     | PASS               |
+----------------------------------------+--------------------+
| Ubuntu 20.04 (ARM)                     | PASS               |
+----------------------------------------+--------------------+
| CentOS Stream 9 (ARM)                  | PASS               |
+----------------------------------------+--------------------+
| Ubuntu 20.04 ARM Clang Cross Compile   | PASS               |
+----------------------------------------+--------------------+
| Debian 12 (arm)                        | PASS               |
+----------------------------------------+--------------------+
| Debian 11 (Buster) (ARM)               | PASS               |
+----------------------------------------+--------------------+
| Ubuntu 24.04 (ARM)                     | PASS               |
+----------------------------------------+--------------------+
| Ubuntu 20.04 aarch32 GCC Cross Compile | PASS               |
+----------------------------------------+--------------------+


RHEL9 (ARM)
	Kernel: Depends on container host
	Compiler: gcc 11.4.1

Ubuntu 20.04 ARM GCC Cross Compile
	Kernel: 5.4.0-167-generic
	Compiler: aarch64-linux-gnu-gcc (Ubuntu 9.4.0-1ubuntu1~20.04.2) 9.4.0

Ubuntu 20.04 ARM SVE
	Kernel: 5.4.0-167-generic
	Compiler: gcc (Ubuntu 10.5.0-1ubuntu1~20.04) 10.5.0

Debian 12 with MUSDK
	Kernel: Container Host Kernel
	Compiler: gcc 12.2.0

Fedora 37 (ARM)
	Kernel: Depends on container host
	Compiler: gcc 12.3.1

Fedora 39 (ARM)
	Kernel: Depends on container host
	Compiler: gcc 13.2.1

Fedora 38 (ARM Clang)
	Kernel: Depends on container host
	Compiler: clang 16.0.6

Fedora 39 (ARM Clang)
	Kernel: Depends on container host
	Compiler: clang 17.0.6

Fedora 38 (ARM)
	Kernel: Depends on container host
	Compiler: gcc 13.2.1

Fedora 40 (ARM)
	Kernel: Depends on container host
	Compiler: gcc 14.1.1

Fedora 40 (ARM Clang)
	Kernel: Depends on container host
	Compiler: clang 18.1.6

Ubuntu 22.04 (ARM)
	Kernel: Container Host Kernel
	Compiler: gcc 11.4.0

Ubuntu 20.04 (ARM)
	Kernel: Container Host Kernel
	Compiler: gcc 9.4.0

CentOS Stream 9 (ARM)
	Kernel: Container Host Kernel
	Compiler: gcc 11.4.1

Ubuntu 20.04 ARM Clang Cross Compile
	Kernel: 5.4.0-72-generic
	Compiler: clang 10.0.0-4ubuntu1

Debian 12 (arm)
	Kernel: Container Host Kernel
	Compiler: gcc 12.2.0

Debian 11 (Buster) (ARM)
	Kernel: Container Host Kernel
	Compiler: gcc 10.2.1

Ubuntu 24.04 (ARM)
	Kernel: 5.4.0-167-generic
	Compiler: gcc 13.2.0

Ubuntu 20.04 aarch32 GCC Cross Compile
	Kernel: 5.4.0-167-generic
	Compiler: gcc 9.4.0

To view detailed results, visit:
https://lab.dpdk.org/results/dashboard/patchsets/30714/

UNH-IOL DPDK Community Lab

To manage your email subscriptions, visit: 
https://lab.dpdk.org/results/dashboard/preferences/subscriptions/