From mboxrd@z Thu Jan  1 00:00:00 1970
Return-Path: <test-report-bounces@dpdk.org>
Received: from mails.dpdk.org (mails.dpdk.org [217.70.189.124])
	by inbox.dpdk.org (Postfix) with ESMTP id 096DE45745
	for <public@inbox.dpdk.org>; Mon,  5 Aug 2024 22:56:41 +0200 (CEST)
Received: from mails.dpdk.org (localhost [127.0.0.1])
	by mails.dpdk.org (Postfix) with ESMTP id 05B4C402A1;
	Mon,  5 Aug 2024 22:56:41 +0200 (CEST)
Received: from mail-oa1-f99.google.com (mail-oa1-f99.google.com
 [209.85.160.99]) by mails.dpdk.org (Postfix) with ESMTP id 529F940295
 for <test-report@dpdk.org>; Mon,  5 Aug 2024 22:56:39 +0200 (CEST)
Received: by mail-oa1-f99.google.com with SMTP id
 586e51a60fabf-260f863109cso2459fac.1
 for <test-report@dpdk.org>; Mon, 05 Aug 2024 13:56:39 -0700 (PDT)
DKIM-Signature: v=1; a=rsa-sha256; c=relaxed/relaxed;
 d=iol.unh.edu; s=unh-iol; t=1722891398; x=1723496198; darn=dpdk.org;
 h=references:in-reply-to:cc:to:from:subject:message-id:date:from:to
 :cc:subject:date:message-id:reply-to;
 bh=CawvciHaVtwj4PIKdPIm5Hm9TCsHszl/gGSx67vcqLI=;
 b=Zb58YOQF3q/KDXl05zWUwSgPle9D1UY6Ydis7KJi33zxLV1r4ZwFMlPNo9JqYdggaC
 xueDHIDq9UdCcdDgrmtlZQFrnHOcaxhxCKZDJzGnAhPBQgcqd7an+/6pYPsL/+yBalM1
 qco4bZP8Bd5wbPYdZPnmO2ZSFXoM1MEj18+ZU=
X-Google-DKIM-Signature: v=1; a=rsa-sha256; c=relaxed/relaxed;
 d=1e100.net; s=20230601; t=1722891398; x=1723496198;
 h=references:in-reply-to:cc:to:from:subject:message-id:date
 :x-gm-message-state:from:to:cc:subject:date:message-id:reply-to;
 bh=CawvciHaVtwj4PIKdPIm5Hm9TCsHszl/gGSx67vcqLI=;
 b=JRnrV9UtXJ81sBNM6NqpbZ8D0PXgTl4Wzewz8cfSpbDEeYcOG82TCdeC+Y/A9XuZL+
 0BzTrGhZI9yoz9twuWiXa+U6bAKJtc6/iLAmq55G2ZTjlnQVZU84H8nK99Ikbkn9r395
 l8IYiy/zm2WIt+nXhBzMz2KGngodEocrzpdfgyX192AiHYnW07aLV4k10qpLph3K8kZX
 050J/fl1OHmkciJgIYGsWWkyk7vk8kHD8mw4+Fcu1Z4cd7dMmXHJDkl+7YeJGARBDsrx
 rwa/HmDNfUiXowsOSLtDrIJOGH8I8m3zX389tkCGNM9KIOlw61pzkMnqtiLVNvrzH8UF
 MMVQ==
X-Gm-Message-State: AOJu0YxUMEXGw0B2sZ/gman5WF4fXqp3t25Y8gmxny6SUB8U9y/Eg8hl
 IlK3R1k7ABZvMPA0laBgxKC1MoYU2H7FEbDlMAWRA0i2MkQa0z47SS75++rhrtaHBkl3LpTJ85N
 GxgvXLJCH7Cyq/Q54SaoLG6tP6k/tJbGNs9xb6atc
X-Google-Smtp-Source: AGHT+IFM18iAbETsx5UekatarqaSpIXOXf6Z2AJk+g2dH2Bkss7JMs3PwwVyVceDWAhPUAKMQlMv9RqGxs9/
X-Received: by 2002:a05:6870:46ab:b0:261:aa:6b1b with SMTP id
 586e51a60fabf-26891eb3d16mr15454327fac.39.1722891398544; 
 Mon, 05 Aug 2024 13:56:38 -0700 (PDT)
Received: from postal.iol.unh.edu (postal.iol.unh.edu. [132.177.123.84])
 by smtp-relay.gmail.com with ESMTPS id
 586e51a60fabf-2689a2f3696sm653564fac.17.2024.08.05.13.56.38
 (version=TLS1_2 cipher=ECDHE-ECDSA-AES128-GCM-SHA256 bits=128/128);
 Mon, 05 Aug 2024 13:56:38 -0700 (PDT)
X-Relaying-Domain: iol.unh.edu
Date: Mon, 05 Aug 2024 13:56:38 -0700 (PDT)
Message-ID: <66b13c86.050a0220.3c579d.66f6SMTPIN_ADDED_MISSING@mx.google.com>
Received: from [172.21.0.6] (unknown [172.18.0.240])
 by postal.iol.unh.edu (Postfix) with ESMTP id 0823B605C351;
 Mon,  5 Aug 2024 16:56:38 -0400 (EDT)
Subject: |PENDING| pw142901-142905 [PATCH] [v11,5/5] dts: add API doc generat
From: dpdklab@iol.unh.edu
To: Test Report <test-report@dpdk.org>
Cc: dpdk-test-reports@iol.unh.edu
In-Reply-To: <20240805135959.214457-6-juraj.linkes@pantheon.tech>
References: <20240805135959.214457-6-juraj.linkes@pantheon.tech>
Content-Type: text/plain
X-BeenThere: test-report@dpdk.org
X-Mailman-Version: 2.1.29
Precedence: list
List-Id: automatic DPDK test reports <test-report.dpdk.org>
List-Unsubscribe: <https://mails.dpdk.org/options/test-report>,
 <mailto:test-report-request@dpdk.org?subject=unsubscribe>
List-Archive: <http://mails.dpdk.org/archives/test-report/>
List-Post: <mailto:test-report@dpdk.org>
List-Help: <mailto:test-report-request@dpdk.org?subject=help>
List-Subscribe: <https://mails.dpdk.org/listinfo/test-report>,
 <mailto:test-report-request@dpdk.org?subject=subscribe>
Errors-To: test-report-bounces@dpdk.org

Test-Label: iol-unit-amd64-testing
Test-Status: PENDING
http://dpdk.org/patch/142905

_Testing pending_

Submitter: Juraj Linkes <juraj.linkes@pantheon.tech>
Date: Monday, August 05 2024 13:59:59 
DPDK git baseline: Repo:dpdk
  Branch: master
  CommitID:b3485f4293997d35b6daecc3437bb0c183a51fb3

142901-142905 --> testing pending

Upstream job id: Generic-Unit-Test-DPDK#248772

Test environment and result as below:

+---------------------+----------------+
|     Environment     | dpdk_unit_test |
+=====================+================+
| Windows Server 2019 | PASS           |
+---------------------+----------------+
| Windows Server 2022 | PASS           |
+---------------------+----------------+
| CentOS Stream 9     | PASS           |
+---------------------+----------------+
| Debian Bullseye     | PEND           |
+---------------------+----------------+
| Debian 12           | PASS           |
+---------------------+----------------+
| Fedora 37           | PASS           |
+---------------------+----------------+
| Fedora 38           | PASS           |
+---------------------+----------------+
| Fedora 38 (Clang)   | PEND           |
+---------------------+----------------+
| Fedora 39           | PEND           |
+---------------------+----------------+
| Fedora 39 (Clang)   | PEND           |
+---------------------+----------------+
| Fedora 40           | PEND           |
+---------------------+----------------+
| openSUSE Leap 15    | PEND           |
+---------------------+----------------+
| Fedora 40 (Clang)   | PEND           |
+---------------------+----------------+
| RHEL8               | PEND           |
+---------------------+----------------+
| RHEL9               | PEND           |
+---------------------+----------------+
| Ubuntu 20.04        | PEND           |
+---------------------+----------------+
| Ubuntu 22.04        | PEND           |
+---------------------+----------------+
| Ubuntu 24.04        | PEND           |
+---------------------+----------------+


Windows Server 2019
	Kernel: 10.0.17763
	Compiler: clang 14.0 and gcc 8.1.0 (MinGW)

Windows Server 2022
	Kernel: 10.0.20348.2031
	Compiler: clang 15.0.7, gcc 8.1.0 (MinGW), and MSVC VS 17.9

CentOS Stream 9
	Kernel: 5.4.0-167-generic
	Compiler: gcc 11.4.1 20230605

Debian Bullseye
	Kernel: 5.4.0-167-generic
	Compiler: gcc 10.2.1-6

Debian 12
	Kernel: Container Host Kernel
	Compiler: gcc 12.2.0

Fedora 37
	Kernel: Depends on container host system
	Compiler: gcc 12.3.1

Fedora 38
	Kernel: Depends on container host
	Compiler: gcc 13.2.1

Fedora 38 (Clang)
	Kernel: Depends on container host
	Compiler: clang 16.0.6

Fedora 39
	Kernel: Depends on container host
	Compiler: gcc 13.2.1

Fedora 39 (Clang)
	Kernel: Depends on container host
	Compiler: clang 17.0.6

Fedora 40
	Kernel: Depends on container host
	Compiler: gcc 14.1.1

openSUSE Leap 15
	Kernel: 5.4.0-167-generic
	Compiler: gcc 7.5.0

Fedora 40 (Clang)
	Kernel: Depends on container host
	Compiler: clang 18.1.6

RHEL8
	Kernel: 5.4.0-167-generic
	Compiler: gcc 8.5.0 20210514 (Red Hat 8.5.0-20)

RHEL9
	Kernel: Depends on container host
	Compiler: gcc 11.4.1

Ubuntu 20.04
	Kernel: 5.4.0-167-generic
	Compiler: gcc 9.4.0-1ubuntu1~20.04.1

Ubuntu 22.04
	Kernel: 5.4.0-167-generic
	Compiler: gcc 11.4.0

Ubuntu 24.04
	Kernel: 5.4.0-167-generic
	Compiler: gcc 13.2.0

To view detailed results, visit:
https://lab.dpdk.org/results/dashboard/patchsets/30718/

UNH-IOL DPDK Community Lab

To manage your email subscriptions, visit: 
https://lab.dpdk.org/results/dashboard/preferences/subscriptions/