From mboxrd@z Thu Jan  1 00:00:00 1970
Return-Path: <test-report-bounces@dpdk.org>
Received: from mails.dpdk.org (mails.dpdk.org [217.70.189.124])
	by inbox.dpdk.org (Postfix) with ESMTP id 98BCC45745
	for <public@inbox.dpdk.org>; Mon,  5 Aug 2024 23:15:22 +0200 (CEST)
Received: from mails.dpdk.org (localhost [127.0.0.1])
	by mails.dpdk.org (Postfix) with ESMTP id 94F4D402A1;
	Mon,  5 Aug 2024 23:15:22 +0200 (CEST)
Received: from mail-ua1-f100.google.com (mail-ua1-f100.google.com
 [209.85.222.100])
 by mails.dpdk.org (Postfix) with ESMTP id CE6D240295
 for <test-report@dpdk.org>; Mon,  5 Aug 2024 23:15:20 +0200 (CEST)
Received: by mail-ua1-f100.google.com with SMTP id
 a1e0cc1a2514c-81ff6a80cbbso34638241.1
 for <test-report@dpdk.org>; Mon, 05 Aug 2024 14:15:20 -0700 (PDT)
DKIM-Signature: v=1; a=rsa-sha256; c=relaxed/relaxed;
 d=iol.unh.edu; s=unh-iol; t=1722892520; x=1723497320; darn=dpdk.org;
 h=references:in-reply-to:cc:to:from:subject:message-id:date:from:to
 :cc:subject:date:message-id:reply-to;
 bh=EdxAmjXw7SnTkT2G/U+eJ2tS5o0ZJZ91A9OItuj7CBQ=;
 b=OjrwFwXb7dg6bykzI9T5qabD8HSO6RIlHWyAZ4KNgHs7vl9jWCDwpc1odXr7EIQk8I
 16TlHUA6QcPW3giyNH8+XjEMVsJBk/JN5ajL7+2HeCJiqxhXVzhE6YRcEkHpoDEg1afr
 Vy+25UUxO27Ui3DpnBE2DyjvlRzAZuKqddi3w=
X-Google-DKIM-Signature: v=1; a=rsa-sha256; c=relaxed/relaxed;
 d=1e100.net; s=20230601; t=1722892520; x=1723497320;
 h=references:in-reply-to:cc:to:from:subject:message-id:date
 :x-gm-message-state:from:to:cc:subject:date:message-id:reply-to;
 bh=EdxAmjXw7SnTkT2G/U+eJ2tS5o0ZJZ91A9OItuj7CBQ=;
 b=nfmHqrgv+nO+ZUj++wwOhb9jVIAvAIiuvMvoP5Z7l0zR3tp5IbuA40FyihF/bY0Dly
 28/0KXE3KyoXFmcqlyH3AlJDOhy01BnfmNjqep50SJyUwlzbVy7nZBuBCdfqzivxgOdX
 6YKz5pm4tqf2v7sedEadk+XP/8S8aRsbnQYvSCUyBPdPoewo8RqO92t2US+4/RoLfEzk
 6pi3Zte6y46vj2ECb0Qbaj17OD/XWT7ZCBMlXSbWLncW1dG0VitCdVBM/9D90kENEGQZ
 L0uyC0QBZUefMa/xAi+fced9w35336NNRqCSe4SBlp8Hd8xEPzPUFzjHp5ACh8NMJvmI
 oiqg==
X-Gm-Message-State: AOJu0Yy/Cb8PDDCLKMC5y278PXAPrbEpIWOC1ZxemhpK5MmkQjbzKnig
 NoccKsHxB7naH0rXZQAycnU996ZANrqwt2Ij2oVr1kS5VovT2Yv+MKm8QwdyuyPUqGUQJ+2g0YO
 RRqfJo/OWiGhCImjHYE0ldmH/P40xXDSahABg2LF3
X-Google-Smtp-Source: AGHT+IE2w422bjkX30+3t/EX8FHSJeQtEc4Gl8QfBoU5ItQOlN2ovnqTwQEskyZOswzatr4yVr3sSi1epc/8
X-Received: by 2002:a05:6102:a4f:b0:493:bc65:5a79 with SMTP id
 ada2fe7eead31-4945bde6442mr16609099137.12.1722892520209; 
 Mon, 05 Aug 2024 14:15:20 -0700 (PDT)
Received: from postal.iol.unh.edu (postal.iol.unh.edu. [132.177.123.84])
 by smtp-relay.gmail.com with ESMTPS id
 6a1803df08f44-6bb9c8980basm6280036d6.78.2024.08.05.14.15.20
 (version=TLS1_2 cipher=ECDHE-ECDSA-AES128-GCM-SHA256 bits=128/128);
 Mon, 05 Aug 2024 14:15:20 -0700 (PDT)
X-Relaying-Domain: iol.unh.edu
Date: Mon, 05 Aug 2024 14:15:20 -0700 (PDT)
Message-ID: <66b140e8.050a0220.148bfd.501cSMTPIN_ADDED_MISSING@mx.google.com>
Received: from [172.21.0.7] (unknown [172.18.0.240])
 by postal.iol.unh.edu (Postfix) with ESMTP id E2F97605C351;
 Mon,  5 Aug 2024 17:15:19 -0400 (EDT)
Subject: |PENDING| pw142901-142905 [PATCH] [v11,5/5] dts: add API doc generat
From: dpdklab@iol.unh.edu
To: Test Report <test-report@dpdk.org>
Cc: dpdk-test-reports@iol.unh.edu
In-Reply-To: <20240805135959.214457-6-juraj.linkes@pantheon.tech>
References: <20240805135959.214457-6-juraj.linkes@pantheon.tech>
Content-Type: text/plain
X-BeenThere: test-report@dpdk.org
X-Mailman-Version: 2.1.29
Precedence: list
List-Id: automatic DPDK test reports <test-report.dpdk.org>
List-Unsubscribe: <https://mails.dpdk.org/options/test-report>,
 <mailto:test-report-request@dpdk.org?subject=unsubscribe>
List-Archive: <http://mails.dpdk.org/archives/test-report/>
List-Post: <mailto:test-report@dpdk.org>
List-Help: <mailto:test-report-request@dpdk.org?subject=help>
List-Subscribe: <https://mails.dpdk.org/listinfo/test-report>,
 <mailto:test-report-request@dpdk.org?subject=subscribe>
Errors-To: test-report-bounces@dpdk.org

Test-Label: iol-compile-arm64-testing
Test-Status: PENDING
http://dpdk.org/patch/142905

_Testing pending_

Submitter: Juraj Linkes <juraj.linkes@pantheon.tech>
Date: Monday, August 05 2024 13:59:59 
DPDK git baseline: Repo:dpdk
  Branch: master
  CommitID:b3485f4293997d35b6daecc3437bb0c183a51fb3

142901-142905 --> testing pending

Upstream job id: Generic-DPDK-Compile-Meson#284480

Test environment and result as below:

+----------------------------------------+--------------------+
|              Environment               | dpdk_meson_compile |
+========================================+====================+
| RHEL9 (ARM)                            | PASS               |
+----------------------------------------+--------------------+
| Ubuntu 20.04 ARM GCC Cross Compile     | PASS               |
+----------------------------------------+--------------------+
| Ubuntu 20.04 ARM SVE                   | PASS               |
+----------------------------------------+--------------------+
| Debian 12 with MUSDK                   | PASS               |
+----------------------------------------+--------------------+
| Fedora 37 (ARM)                        | PASS               |
+----------------------------------------+--------------------+
| Fedora 38 (ARM)                        | PASS               |
+----------------------------------------+--------------------+
| Fedora 38 (ARM Clang)                  | PEND               |
+----------------------------------------+--------------------+
| Fedora 39 (ARM)                        | PASS               |
+----------------------------------------+--------------------+
| Fedora 39 (ARM Clang)                  | PEND               |
+----------------------------------------+--------------------+
| Fedora 40 (ARM)                        | PASS               |
+----------------------------------------+--------------------+
| Fedora 40 (ARM Clang)                  | PEND               |
+----------------------------------------+--------------------+
| Ubuntu 20.04 (ARM)                     | PASS               |
+----------------------------------------+--------------------+
| Ubuntu 22.04 (ARM)                     | PASS               |
+----------------------------------------+--------------------+
| Ubuntu 24.04 (ARM)                     | PASS               |
+----------------------------------------+--------------------+
| CentOS Stream 9 (ARM)                  | PASS               |
+----------------------------------------+--------------------+
| Debian 11 (Buster) (ARM)               | PASS               |
+----------------------------------------+--------------------+
| Ubuntu 20.04 ARM Clang Cross Compile   | PASS               |
+----------------------------------------+--------------------+
| Ubuntu 20.04 aarch32 GCC Cross Compile | PASS               |
+----------------------------------------+--------------------+
| Debian 12 (arm)                        | PASS               |
+----------------------------------------+--------------------+


RHEL9 (ARM)
	Kernel: Depends on container host
	Compiler: gcc 11.4.1

Ubuntu 20.04 ARM GCC Cross Compile
	Kernel: 5.4.0-167-generic
	Compiler: aarch64-linux-gnu-gcc (Ubuntu 9.4.0-1ubuntu1~20.04.2) 9.4.0

Ubuntu 20.04 ARM SVE
	Kernel: 5.4.0-167-generic
	Compiler: gcc (Ubuntu 10.5.0-1ubuntu1~20.04) 10.5.0

Debian 12 with MUSDK
	Kernel: Container Host Kernel
	Compiler: gcc 12.2.0

Fedora 37 (ARM)
	Kernel: Depends on container host
	Compiler: gcc 12.3.1

Fedora 38 (ARM)
	Kernel: Depends on container host
	Compiler: gcc 13.2.1

Fedora 38 (ARM Clang)
	Kernel: Depends on container host
	Compiler: clang 16.0.6

Fedora 39 (ARM)
	Kernel: Depends on container host
	Compiler: gcc 13.2.1

Fedora 39 (ARM Clang)
	Kernel: Depends on container host
	Compiler: clang 17.0.6

Fedora 40 (ARM)
	Kernel: Depends on container host
	Compiler: gcc 14.1.1

Fedora 40 (ARM Clang)
	Kernel: Depends on container host
	Compiler: clang 18.1.6

Ubuntu 20.04 (ARM)
	Kernel: Container Host Kernel
	Compiler: gcc 9.4.0

Ubuntu 22.04 (ARM)
	Kernel: Container Host Kernel
	Compiler: gcc 11.4.0

Ubuntu 24.04 (ARM)
	Kernel: 5.4.0-167-generic
	Compiler: gcc 13.2.0

CentOS Stream 9 (ARM)
	Kernel: Container Host Kernel
	Compiler: gcc 11.4.1

Debian 11 (Buster) (ARM)
	Kernel: Container Host Kernel
	Compiler: gcc 10.2.1

Ubuntu 20.04 ARM Clang Cross Compile
	Kernel: 5.4.0-72-generic
	Compiler: clang 10.0.0-4ubuntu1

Ubuntu 20.04 aarch32 GCC Cross Compile
	Kernel: 5.4.0-167-generic
	Compiler: gcc 9.4.0

Debian 12 (arm)
	Kernel: Container Host Kernel
	Compiler: gcc 12.2.0

To view detailed results, visit:
https://lab.dpdk.org/results/dashboard/patchsets/30718/

UNH-IOL DPDK Community Lab

To manage your email subscriptions, visit: 
https://lab.dpdk.org/results/dashboard/preferences/subscriptions/