From mboxrd@z Thu Jan  1 00:00:00 1970
Return-Path: <test-report-bounces@dpdk.org>
Received: from mails.dpdk.org (mails.dpdk.org [217.70.189.124])
	by inbox.dpdk.org (Postfix) with ESMTP id 1D5CE45745
	for <public@inbox.dpdk.org>; Mon,  5 Aug 2024 23:24:53 +0200 (CEST)
Received: from mails.dpdk.org (localhost [127.0.0.1])
	by mails.dpdk.org (Postfix) with ESMTP id 1934F402A1;
	Mon,  5 Aug 2024 23:24:53 +0200 (CEST)
Received: from mail-oi1-f227.google.com (mail-oi1-f227.google.com
 [209.85.167.227])
 by mails.dpdk.org (Postfix) with ESMTP id ADA4E40295
 for <test-report@dpdk.org>; Mon,  5 Aug 2024 23:24:51 +0200 (CEST)
Received: by mail-oi1-f227.google.com with SMTP id
 5614622812f47-3db157cb959so7139461b6e.0
 for <test-report@dpdk.org>; Mon, 05 Aug 2024 14:24:51 -0700 (PDT)
DKIM-Signature: v=1; a=rsa-sha256; c=relaxed/relaxed;
 d=iol.unh.edu; s=unh-iol; t=1722893091; x=1723497891; darn=dpdk.org;
 h=references:in-reply-to:cc:to:from:subject:message-id:date:from:to
 :cc:subject:date:message-id:reply-to;
 bh=wrli8biEApi5uVtEe7fJ+aX71Rc+aN74DJPIFzOJ16E=;
 b=Ph7ST6HdcbLtRFzYhwQ2O3mOIiRf3ktsaFDhAwU8wvkWM32Xl/dxATi+O3zeEJVYgR
 XYB8v8SLpgUezp29wukyEZfJ4kDNSAJeBjGaHbKLO8+IFaE7H1R9cm/3Dk2AIZQMrWoe
 3ADz/ObINDFGj8BKSe9l04dfv8+GkuoGehM8E=
X-Google-DKIM-Signature: v=1; a=rsa-sha256; c=relaxed/relaxed;
 d=1e100.net; s=20230601; t=1722893091; x=1723497891;
 h=references:in-reply-to:cc:to:from:subject:message-id:date
 :x-gm-message-state:from:to:cc:subject:date:message-id:reply-to;
 bh=wrli8biEApi5uVtEe7fJ+aX71Rc+aN74DJPIFzOJ16E=;
 b=g7HXK+DHK99mlKe8fXLHEAfb7b6ZSYV96C2OAEEEWmku3+aOMxkGc+MdmCIBEztX4A
 b7ZOOQ1K4kzLMBsunkT+Q9xZpgxnOu2ZLofhhLfsOHKqiqesSSR+dNEmFW9oalEaN2dT
 M5FY+QS5cfc4BDCzhl/hmgJRLNRwGyJR9SEWDrxzMttsBGm3E5nORLKQFQG612QG6jh8
 m7Bxw4ny16ROF5ewNSl972EbfL/ggxXlhjGlUwBWEQEzsJpdavuk41d8A3V55f9ciZRg
 y6WMpfodlk+l5GeR24c0IMDZJfnwJwyAGkUwcVaYHxaA7eeZf16ZkJR/7z6YaXKUW9Hp
 WI6w==
X-Gm-Message-State: AOJu0YxGwaLq/J+Qu/c7x/AQQt/ruNLM+EDDV0c4/+E9kaKeg3YT4q72
 yH0zAP7hNljultikIR19tvBww/IbNSUQvy570iiItQ9me2sMuCiDpIhlcZ9myiJmfOp9MrI3fSM
 1Ss209c1XrEsunXSPJcLx+VHIuSsO+07oI6O5r/m4KaWs8mkiZWLLz1EA
X-Google-Smtp-Source: AGHT+IG+q1eAUvdGwHsBJXOOxHvR0c/7HMvgfBsb+QTbUbC9jA701f8MlGr2ngkxhObaoxn3JRv35sAXJ4Ip
X-Received: by 2002:a05:6808:16a3:b0:3d9:2bca:86aa with SMTP id
 5614622812f47-3db5580621bmr16733887b6e.17.1722893090810; 
 Mon, 05 Aug 2024 14:24:50 -0700 (PDT)
Received: from postal.iol.unh.edu (postal.iol.unh.edu.
 [2606:4100:3880:1234::84]) by smtp-relay.gmail.com with ESMTPS id
 d75a77b69052e-4518a6e6b26sm6226571cf.10.2024.08.05.14.24.50
 (version=TLS1_2 cipher=ECDHE-ECDSA-AES128-GCM-SHA256 bits=128/128);
 Mon, 05 Aug 2024 14:24:50 -0700 (PDT)
X-Relaying-Domain: iol.unh.edu
Date: Mon, 05 Aug 2024 14:24:50 -0700 (PDT)
Message-ID: <66b14322.c80a0220.149fed.59a4SMTPIN_ADDED_MISSING@mx.google.com>
Received: from [172.21.0.6] (unknown [172.18.0.240])
 by postal.iol.unh.edu (Postfix) with ESMTP id 8300B605C351;
 Mon,  5 Aug 2024 17:24:50 -0400 (EDT)
Subject: |PENDING| pw142901-142905 [PATCH] [v11,5/5] dts: add API doc generat
From: dpdklab@iol.unh.edu
To: Test Report <test-report@dpdk.org>
Cc: dpdk-test-reports@iol.unh.edu
In-Reply-To: <20240805135959.214457-6-juraj.linkes@pantheon.tech>
References: <20240805135959.214457-6-juraj.linkes@pantheon.tech>
Content-Type: text/plain
X-BeenThere: test-report@dpdk.org
X-Mailman-Version: 2.1.29
Precedence: list
List-Id: automatic DPDK test reports <test-report.dpdk.org>
List-Unsubscribe: <https://mails.dpdk.org/options/test-report>,
 <mailto:test-report-request@dpdk.org?subject=unsubscribe>
List-Archive: <http://mails.dpdk.org/archives/test-report/>
List-Post: <mailto:test-report@dpdk.org>
List-Help: <mailto:test-report-request@dpdk.org?subject=help>
List-Subscribe: <https://mails.dpdk.org/listinfo/test-report>,
 <mailto:test-report-request@dpdk.org?subject=subscribe>
Errors-To: test-report-bounces@dpdk.org

Test-Label: iol-unit-amd64-testing
Test-Status: PENDING
http://dpdk.org/patch/142905

_Testing pending_

Submitter: Juraj Linkes <juraj.linkes@pantheon.tech>
Date: Monday, August 05 2024 13:59:59 
DPDK git baseline: Repo:dpdk
  Branch: master
  CommitID:b3485f4293997d35b6daecc3437bb0c183a51fb3

142901-142905 --> testing pending

Upstream job id: Generic-Unit-Test-DPDK#248785

Test environment and result as below:

+---------------------+----------------+
|     Environment     | dpdk_unit_test |
+=====================+================+
| Windows Server 2019 | PASS           |
+---------------------+----------------+
| Windows Server 2022 | PASS           |
+---------------------+----------------+
| CentOS Stream 9     | PASS           |
+---------------------+----------------+
| Debian Bullseye     | PASS           |
+---------------------+----------------+
| Debian 12           | PASS           |
+---------------------+----------------+
| Fedora 37           | PASS           |
+---------------------+----------------+
| Fedora 38           | PASS           |
+---------------------+----------------+
| Fedora 38 (Clang)   | PASS           |
+---------------------+----------------+
| Fedora 39           | PASS           |
+---------------------+----------------+
| Fedora 39 (Clang)   | PASS           |
+---------------------+----------------+
| Fedora 40           | PASS           |
+---------------------+----------------+
| openSUSE Leap 15    | PASS           |
+---------------------+----------------+
| Fedora 40 (Clang)   | PASS           |
+---------------------+----------------+
| RHEL8               | PASS           |
+---------------------+----------------+
| RHEL9               | PEND           |
+---------------------+----------------+
| Ubuntu 20.04        | PEND           |
+---------------------+----------------+
| Ubuntu 22.04        | PEND           |
+---------------------+----------------+
| Ubuntu 24.04        | PEND           |
+---------------------+----------------+


Windows Server 2019
	Kernel: 10.0.17763
	Compiler: clang 14.0 and gcc 8.1.0 (MinGW)

Windows Server 2022
	Kernel: 10.0.20348.2031
	Compiler: clang 15.0.7, gcc 8.1.0 (MinGW), and MSVC VS 17.9

CentOS Stream 9
	Kernel: 5.4.0-167-generic
	Compiler: gcc 11.4.1 20230605

Debian Bullseye
	Kernel: 5.4.0-167-generic
	Compiler: gcc 10.2.1-6

Debian 12
	Kernel: Container Host Kernel
	Compiler: gcc 12.2.0

Fedora 37
	Kernel: Depends on container host system
	Compiler: gcc 12.3.1

Fedora 38
	Kernel: Depends on container host
	Compiler: gcc 13.2.1

Fedora 38 (Clang)
	Kernel: Depends on container host
	Compiler: clang 16.0.6

Fedora 39
	Kernel: Depends on container host
	Compiler: gcc 13.2.1

Fedora 39 (Clang)
	Kernel: Depends on container host
	Compiler: clang 17.0.6

Fedora 40
	Kernel: Depends on container host
	Compiler: gcc 14.1.1

openSUSE Leap 15
	Kernel: 5.4.0-167-generic
	Compiler: gcc 7.5.0

Fedora 40 (Clang)
	Kernel: Depends on container host
	Compiler: clang 18.1.6

RHEL8
	Kernel: 5.4.0-167-generic
	Compiler: gcc 8.5.0 20210514 (Red Hat 8.5.0-20)

RHEL9
	Kernel: Depends on container host
	Compiler: gcc 11.4.1

Ubuntu 20.04
	Kernel: 5.4.0-167-generic
	Compiler: gcc 9.4.0-1ubuntu1~20.04.1

Ubuntu 22.04
	Kernel: 5.4.0-167-generic
	Compiler: gcc 11.4.0

Ubuntu 24.04
	Kernel: 5.4.0-167-generic
	Compiler: gcc 13.2.0

To view detailed results, visit:
https://lab.dpdk.org/results/dashboard/patchsets/30718/

UNH-IOL DPDK Community Lab

To manage your email subscriptions, visit: 
https://lab.dpdk.org/results/dashboard/preferences/subscriptions/