From mboxrd@z Thu Jan  1 00:00:00 1970
Return-Path: <test-report-bounces@dpdk.org>
Received: from mails.dpdk.org (mails.dpdk.org [217.70.189.124])
	by inbox.dpdk.org (Postfix) with ESMTP id 683B945745
	for <public@inbox.dpdk.org>; Mon,  5 Aug 2024 23:25:44 +0200 (CEST)
Received: from mails.dpdk.org (localhost [127.0.0.1])
	by mails.dpdk.org (Postfix) with ESMTP id 64A21402A1;
	Mon,  5 Aug 2024 23:25:44 +0200 (CEST)
Received: from mail-ot1-f99.google.com (mail-ot1-f99.google.com
 [209.85.210.99]) by mails.dpdk.org (Postfix) with ESMTP id 88BCF40295
 for <test-report@dpdk.org>; Mon,  5 Aug 2024 23:25:42 +0200 (CEST)
Received: by mail-ot1-f99.google.com with SMTP id
 46e09a7af769-7093b53f315so3860615a34.2
 for <test-report@dpdk.org>; Mon, 05 Aug 2024 14:25:42 -0700 (PDT)
DKIM-Signature: v=1; a=rsa-sha256; c=relaxed/relaxed;
 d=iol.unh.edu; s=unh-iol; t=1722893142; x=1723497942; darn=dpdk.org;
 h=references:in-reply-to:cc:to:from:subject:message-id:date:from:to
 :cc:subject:date:message-id:reply-to;
 bh=Gpgxnyxn+O7iAaaePxAkY9v9rH21pVbg0PYRJsh2PK8=;
 b=jNUpIrhQjJpyRwuvTzsxlqh52Lf9kNcto5j4O1D1wH84M8mnVQ96rBKQSkXDfhwDKP
 Aqub/nHYrNg4QvoqfIkm3NL/hANRxQdR4jmhIA8L7NF5BKGVqFOYSIHrzVfnwyP//UPI
 iJKa7TlGE5ReY8wYgIg0x/u5DkPVRVaHiiLO8=
X-Google-DKIM-Signature: v=1; a=rsa-sha256; c=relaxed/relaxed;
 d=1e100.net; s=20230601; t=1722893142; x=1723497942;
 h=references:in-reply-to:cc:to:from:subject:message-id:date
 :x-gm-message-state:from:to:cc:subject:date:message-id:reply-to;
 bh=Gpgxnyxn+O7iAaaePxAkY9v9rH21pVbg0PYRJsh2PK8=;
 b=h+4JYTqeHg21JtCkUpELairplZUh6yJEQnWBFFZ0qzafQGSJWGqN9//qnI3QWJ3F72
 v5uo7+IbyIaOfdxtmnc3s8dkMyx8l10senB0doVcn7abCpFVe7ibNC3hpEWVU0fgt0rh
 t8AaX8Y74rdOytTuex6sOGSZ/rjfFAe6XDpvPU/jTWJhmAquWdE1619CwP7L4ookGEnT
 j1Lghje33s3n6rOcMvRyHrNDMKshYlzG4UmnKwrnePY9yJRE6MVxGGhgs3LXSrFV0iGt
 VsPJqYDcMLhwp2yK7HNa8OyqHXsnIaUYCFYzmZhv5sEzzhGAxziXiXT9zewK6qZ/TXfp
 6mmQ==
X-Gm-Message-State: AOJu0YyE0P8BvqVnYvF1EUPqL0uPLRVy1LBppXmSjVcVIEf2mtlSssJs
 YVuvvoE4VeW6D2IqxINXcUxLWvfHwGppe0yxPzWXc+rDkuQxQzEDZx87LR2duc9IQ/WQwbpmbNX
 UOf9wszrvXWkSLSWFi71Jt0dw+qqSImI3pX3jWI2p
X-Google-Smtp-Source: AGHT+IHNtkjp5A1CsWzazJrBmLq6+6LkgwH4aDCGWvt8ySMosU5Cg0MUyPn8DTcWVkRZeukb4Uef/3PQkSqq
X-Received: by 2002:a05:6830:618d:b0:709:34ca:9e3f with SMTP id
 46e09a7af769-709b9988e0fmr18119776a34.33.1722893141733; 
 Mon, 05 Aug 2024 14:25:41 -0700 (PDT)
Received: from postal.iol.unh.edu (postal.iol.unh.edu. [132.177.123.84])
 by smtp-relay.gmail.com with ESMTPS id
 d75a77b69052e-4518a6e8ffcsm6361961cf.12.2024.08.05.14.25.41
 (version=TLS1_2 cipher=ECDHE-ECDSA-AES128-GCM-SHA256 bits=128/128);
 Mon, 05 Aug 2024 14:25:41 -0700 (PDT)
X-Relaying-Domain: iol.unh.edu
Date: Mon, 05 Aug 2024 14:25:41 -0700 (PDT)
Message-ID: <66b14355.c80a0220.31ff7b.7002SMTPIN_ADDED_MISSING@mx.google.com>
Received: from [172.21.0.6] (unknown [172.18.0.240])
 by postal.iol.unh.edu (Postfix) with ESMTP id 55D69605C351;
 Mon,  5 Aug 2024 17:25:41 -0400 (EDT)
Subject: |PENDING| pw142901-142905 [PATCH] [v11,5/5] dts: add API doc generat
From: dpdklab@iol.unh.edu
To: Test Report <test-report@dpdk.org>
Cc: dpdk-test-reports@iol.unh.edu
In-Reply-To: <20240805135959.214457-6-juraj.linkes@pantheon.tech>
References: <20240805135959.214457-6-juraj.linkes@pantheon.tech>
Content-Type: text/plain
X-BeenThere: test-report@dpdk.org
X-Mailman-Version: 2.1.29
Precedence: list
List-Id: automatic DPDK test reports <test-report.dpdk.org>
List-Unsubscribe: <https://mails.dpdk.org/options/test-report>,
 <mailto:test-report-request@dpdk.org?subject=unsubscribe>
List-Archive: <http://mails.dpdk.org/archives/test-report/>
List-Post: <mailto:test-report@dpdk.org>
List-Help: <mailto:test-report-request@dpdk.org?subject=help>
List-Subscribe: <https://mails.dpdk.org/listinfo/test-report>,
 <mailto:test-report-request@dpdk.org?subject=subscribe>
Errors-To: test-report-bounces@dpdk.org

Test-Label: iol-unit-amd64-testing
Test-Status: PENDING
http://dpdk.org/patch/142905

_Testing pending_

Submitter: Juraj Linkes <juraj.linkes@pantheon.tech>
Date: Monday, August 05 2024 13:59:59 
DPDK git baseline: Repo:dpdk
  Branch: master
  CommitID:b3485f4293997d35b6daecc3437bb0c183a51fb3

142901-142905 --> testing pending

Upstream job id: Generic-Unit-Test-DPDK#248782

Test environment and result as below:

+---------------------+----------------+
|     Environment     | dpdk_unit_test |
+=====================+================+
| Windows Server 2019 | PASS           |
+---------------------+----------------+
| Windows Server 2022 | PASS           |
+---------------------+----------------+
| CentOS Stream 9     | PASS           |
+---------------------+----------------+
| Debian Bullseye     | PASS           |
+---------------------+----------------+
| Debian 12           | PASS           |
+---------------------+----------------+
| Fedora 37           | PASS           |
+---------------------+----------------+
| Fedora 38           | PASS           |
+---------------------+----------------+
| Fedora 38 (Clang)   | PASS           |
+---------------------+----------------+
| Fedora 39           | PASS           |
+---------------------+----------------+
| Fedora 39 (Clang)   | PASS           |
+---------------------+----------------+
| Fedora 40           | PASS           |
+---------------------+----------------+
| openSUSE Leap 15    | PASS           |
+---------------------+----------------+
| Fedora 40 (Clang)   | PASS           |
+---------------------+----------------+
| RHEL8               | PASS           |
+---------------------+----------------+
| RHEL9               | PEND           |
+---------------------+----------------+
| Ubuntu 20.04        | PEND           |
+---------------------+----------------+
| Ubuntu 22.04        | PEND           |
+---------------------+----------------+
| Ubuntu 24.04        | PEND           |
+---------------------+----------------+


Windows Server 2019
	Kernel: 10.0.17763
	Compiler: clang 14.0 and gcc 8.1.0 (MinGW)

Windows Server 2022
	Kernel: 10.0.20348.2031
	Compiler: clang 15.0.7, gcc 8.1.0 (MinGW), and MSVC VS 17.9

CentOS Stream 9
	Kernel: 5.4.0-167-generic
	Compiler: gcc 11.4.1 20230605

Debian Bullseye
	Kernel: 5.4.0-167-generic
	Compiler: gcc 10.2.1-6

Debian 12
	Kernel: Container Host Kernel
	Compiler: gcc 12.2.0

Fedora 37
	Kernel: Depends on container host system
	Compiler: gcc 12.3.1

Fedora 38
	Kernel: Depends on container host
	Compiler: gcc 13.2.1

Fedora 38 (Clang)
	Kernel: Depends on container host
	Compiler: clang 16.0.6

Fedora 39
	Kernel: Depends on container host
	Compiler: gcc 13.2.1

Fedora 39 (Clang)
	Kernel: Depends on container host
	Compiler: clang 17.0.6

Fedora 40
	Kernel: Depends on container host
	Compiler: gcc 14.1.1

openSUSE Leap 15
	Kernel: 5.4.0-167-generic
	Compiler: gcc 7.5.0

Fedora 40 (Clang)
	Kernel: Depends on container host
	Compiler: clang 18.1.6

RHEL8
	Kernel: 5.4.0-167-generic
	Compiler: gcc 8.5.0 20210514 (Red Hat 8.5.0-20)

RHEL9
	Kernel: Depends on container host
	Compiler: gcc 11.4.1

Ubuntu 20.04
	Kernel: 5.4.0-167-generic
	Compiler: gcc 9.4.0-1ubuntu1~20.04.1

Ubuntu 22.04
	Kernel: 5.4.0-167-generic
	Compiler: gcc 11.4.0

Ubuntu 24.04
	Kernel: 5.4.0-167-generic
	Compiler: gcc 13.2.0

To view detailed results, visit:
https://lab.dpdk.org/results/dashboard/patchsets/30718/

UNH-IOL DPDK Community Lab

To manage your email subscriptions, visit: 
https://lab.dpdk.org/results/dashboard/preferences/subscriptions/