From mboxrd@z Thu Jan  1 00:00:00 1970
Return-Path: <test-report-bounces@dpdk.org>
Received: from mails.dpdk.org (mails.dpdk.org [217.70.189.124])
	by inbox.dpdk.org (Postfix) with ESMTP id 9E58C45745
	for <public@inbox.dpdk.org>; Tue,  6 Aug 2024 00:17:07 +0200 (CEST)
Received: from mails.dpdk.org (localhost [127.0.0.1])
	by mails.dpdk.org (Postfix) with ESMTP id 9AD8740295;
	Tue,  6 Aug 2024 00:17:07 +0200 (CEST)
Received: from mail-yw1-f226.google.com (mail-yw1-f226.google.com
 [209.85.128.226])
 by mails.dpdk.org (Postfix) with ESMTP id 350A4400D5
 for <test-report@dpdk.org>; Tue,  6 Aug 2024 00:17:06 +0200 (CEST)
Received: by mail-yw1-f226.google.com with SMTP id
 00721157ae682-66599ca3470so94753437b3.2
 for <test-report@dpdk.org>; Mon, 05 Aug 2024 15:17:06 -0700 (PDT)
DKIM-Signature: v=1; a=rsa-sha256; c=relaxed/relaxed;
 d=iol.unh.edu; s=unh-iol; t=1722896225; x=1723501025; darn=dpdk.org;
 h=references:in-reply-to:cc:to:from:subject:message-id:date:from:to
 :cc:subject:date:message-id:reply-to;
 bh=UUpZK6LhJBqnflWOidxGLEq7fc9X4qwXsuWUyjPPxzg=;
 b=B4Cgn2rSkScyMF6MGhW5mJpyRFwqwPECv6RhobkwJcF1215FM56VmbhK1Vbn+TKDbB
 fFLm3BQFGhUbUOl+v0E+GIPAhCtZHZT2dRaBANz6NTidhBU8MxTGPGZVLU278HkmuW+K
 cz6CLKCrsBjv5DcD3enuZ+2nWB0/A5o4SdQgg=
X-Google-DKIM-Signature: v=1; a=rsa-sha256; c=relaxed/relaxed;
 d=1e100.net; s=20230601; t=1722896225; x=1723501025;
 h=references:in-reply-to:cc:to:from:subject:message-id:date
 :x-gm-message-state:from:to:cc:subject:date:message-id:reply-to;
 bh=UUpZK6LhJBqnflWOidxGLEq7fc9X4qwXsuWUyjPPxzg=;
 b=VOWd9l2l3y2D9gmQE18IlGXBmmrmy8Ep6KJUUDMUMynwhgkckjUHrHFEH5i0YsduBv
 VZgJStR6Mlr6X/k1DBK2dpVgwU3NXIpsBaHtdh9/7nyeNRl0MaiA0YtLX+7Kp4bSS3eK
 iN7ZCrEAzlaiJtBmFr6a01z40dShNg41HKGUNlqPIGtoj74QVmsO87M6Id7/d07khH6Q
 XXyVA51U5PoNuJRD5O+7kSq2hC4jTr4CXWSVdvVrftMiaSLFx/LMwwJtexWZvFintYev
 FvkAEUllcgDPEkqJzbJ1lbHjtS24QmtdfjpbRac8RM+wqKQFPQ03rkk4uMYxEi2upXkg
 yzuw==
X-Gm-Message-State: AOJu0YyuWvI/N9thNqMj1xQjxhsu95OwrYVM3tPiJDvZ1tTKamuBHgiT
 6tv5cX+BYqykB4hUlUWrK1VOUjL7q1L8S1MUCl3Kw+nM62oFbbJ40quBCBkH0OFQwTKJT88lLZV
 P3EGPOREnx7rpz5+sqe7jeNqsDIRToGOPggdPzono
X-Google-Smtp-Source: AGHT+IEHPlUAdMdM5fPxXOtEMoS5h0aCpmUPnrW8y7in+jBK5fccbSiDW6LHQXbWswCUEZcvQEEz6xhbOSJL
X-Received: by 2002:a81:bf4c:0:b0:64a:e220:bfbf with SMTP id
 00721157ae682-68960e46defmr138151707b3.23.1722896225550; 
 Mon, 05 Aug 2024 15:17:05 -0700 (PDT)
Received: from postal.iol.unh.edu (postal.iol.unh.edu. [132.177.123.84])
 by smtp-relay.gmail.com with ESMTPS id
 00721157ae682-68d64f9c04fsm6233297b3.44.2024.08.05.15.17.05
 (version=TLS1_2 cipher=ECDHE-ECDSA-AES128-GCM-SHA256 bits=128/128);
 Mon, 05 Aug 2024 15:17:05 -0700 (PDT)
X-Relaying-Domain: iol.unh.edu
Date: Mon, 05 Aug 2024 15:17:05 -0700 (PDT)
Message-ID: <66b14f61.050a0220.2a68d.a318SMTPIN_ADDED_MISSING@mx.google.com>
Received: from [172.21.0.6] (unknown [172.18.0.240])
 by postal.iol.unh.edu (Postfix) with ESMTP id C8EAF605C351;
 Mon,  5 Aug 2024 18:17:04 -0400 (EDT)
Subject: |PENDING| pw142895-142899 [PATCH] [v1,5/5] raw/zxdh: add support for
From: dpdklab@iol.unh.edu
To: Test Report <test-report@dpdk.org>
Cc: dpdk-test-reports@iol.unh.edu
In-Reply-To: <20240805133750.1542615-10-zhang.yong25@zte.com.cn>
References: <20240805133750.1542615-10-zhang.yong25@zte.com.cn>
Content-Type: text/plain
X-BeenThere: test-report@dpdk.org
X-Mailman-Version: 2.1.29
Precedence: list
List-Id: automatic DPDK test reports <test-report.dpdk.org>
List-Unsubscribe: <https://mails.dpdk.org/options/test-report>,
 <mailto:test-report-request@dpdk.org?subject=unsubscribe>
List-Archive: <http://mails.dpdk.org/archives/test-report/>
List-Post: <mailto:test-report@dpdk.org>
List-Help: <mailto:test-report-request@dpdk.org?subject=help>
List-Subscribe: <https://mails.dpdk.org/listinfo/test-report>,
 <mailto:test-report-request@dpdk.org?subject=subscribe>
Errors-To: test-report-bounces@dpdk.org

Test-Label: iol-abi-testing
Test-Status: PENDING
http://dpdk.org/patch/142899

_Testing pending_

Submitter: Yong Zhang <zhang.yong25@zte.com.cn>
Date: Monday, August 05 2024 13:35:02 
DPDK git baseline: Repo:dpdk
  Branch: master
  CommitID:b3485f4293997d35b6daecc3437bb0c183a51fb3

142895-142899 --> testing pending

Upstream job id: Generic-DPDK-Compile-ABI#101756

Test environment and result as below:

+-------------------+----------+
|    Environment    | abi_test |
+===================+==========+
| CentOS Stream 9   | PASS     |
+-------------------+----------+
| Debian Bullseye   | PASS     |
+-------------------+----------+
| Fedora 38 (Clang) | PASS     |
+-------------------+----------+
| Debian 12         | PEND     |
+-------------------+----------+
| Fedora 37         | PEND     |
+-------------------+----------+
| Fedora 39 (Clang) | PASS     |
+-------------------+----------+
| Fedora 38         | PEND     |
+-------------------+----------+
| Fedora 39         | PEND     |
+-------------------+----------+
| Fedora 40 (Clang) | PEND     |
+-------------------+----------+
| RHEL8             | PEND     |
+-------------------+----------+
| Fedora 40         | PEND     |
+-------------------+----------+
| RHEL9             | PEND     |
+-------------------+----------+
| openSUSE Leap 15  | PEND     |
+-------------------+----------+
| Ubuntu 22.04      | PEND     |
+-------------------+----------+
| Ubuntu 24.04      | PEND     |
+-------------------+----------+


CentOS Stream 9
	Kernel: 5.4.0-167-generic
	Compiler: gcc 11.4.1 20230605

Debian Bullseye
	Kernel: 5.4.0-167-generic
	Compiler: gcc 10.2.1-6

Fedora 38 (Clang)
	Kernel: Depends on container host
	Compiler: clang 16.0.6

Debian 12
	Kernel: Container Host Kernel
	Compiler: gcc 12.2.0

Fedora 37
	Kernel: Depends on container host system
	Compiler: gcc 12.3.1

Fedora 39 (Clang)
	Kernel: Depends on container host
	Compiler: clang 17.0.6

Fedora 38
	Kernel: Depends on container host
	Compiler: gcc 13.2.1

Fedora 39
	Kernel: Depends on container host
	Compiler: gcc 13.2.1

Fedora 40 (Clang)
	Kernel: Depends on container host
	Compiler: clang 18.1.6

RHEL8
	Kernel: 5.4.0-167-generic
	Compiler: gcc 8.5.0 20210514 (Red Hat 8.5.0-20)

Fedora 40
	Kernel: Depends on container host
	Compiler: gcc 14.1.1

RHEL9
	Kernel: Depends on container host
	Compiler: gcc 11.4.1

openSUSE Leap 15
	Kernel: 5.4.0-167-generic
	Compiler: gcc 7.5.0

Ubuntu 22.04
	Kernel: 5.4.0-167-generic
	Compiler: gcc 11.4.0

Ubuntu 24.04
	Kernel: 5.4.0-167-generic
	Compiler: gcc 13.2.0

To view detailed results, visit:
https://lab.dpdk.org/results/dashboard/patchsets/30716/

UNH-IOL DPDK Community Lab

To manage your email subscriptions, visit: 
https://lab.dpdk.org/results/dashboard/preferences/subscriptions/