From mboxrd@z Thu Jan  1 00:00:00 1970
Return-Path: <test-report-bounces@dpdk.org>
Received: from mails.dpdk.org (mails.dpdk.org [217.70.189.124])
	by inbox.dpdk.org (Postfix) with ESMTP id A92A245745
	for <public@inbox.dpdk.org>; Tue,  6 Aug 2024 00:41:24 +0200 (CEST)
Received: from mails.dpdk.org (localhost [127.0.0.1])
	by mails.dpdk.org (Postfix) with ESMTP id A0F5540295;
	Tue,  6 Aug 2024 00:41:24 +0200 (CEST)
Received: from mail-yw1-f227.google.com (mail-yw1-f227.google.com
 [209.85.128.227])
 by mails.dpdk.org (Postfix) with ESMTP id 267E9400D5
 for <test-report@dpdk.org>; Tue,  6 Aug 2024 00:41:24 +0200 (CEST)
Received: by mail-yw1-f227.google.com with SMTP id
 00721157ae682-6518f8bc182so46733887b3.0
 for <test-report@dpdk.org>; Mon, 05 Aug 2024 15:41:24 -0700 (PDT)
DKIM-Signature: v=1; a=rsa-sha256; c=relaxed/relaxed;
 d=iol.unh.edu; s=unh-iol; t=1722897683; x=1723502483; darn=dpdk.org;
 h=references:in-reply-to:cc:to:from:subject:message-id:date:from:to
 :cc:subject:date:message-id:reply-to;
 bh=OJuZPv51vop0Of79Td+nDsujmCAmzRJ8psduoEQaXHw=;
 b=GKzIUO3g1LUjFGCVYBQNBl+y6KwPxL4pPiYPDQXpFVeXvxUUdXVjtVvFq1ojF2UzW0
 fMf16mGuM7mnsKNIh8ebts1KF4cbU3SmZRzREJq0KJ4zTBaNtSdduwX6obkPC6VxaqBX
 xJAOCCsB12m0PT6zM9hBJYyue/j5Kk1/Eltpo=
X-Google-DKIM-Signature: v=1; a=rsa-sha256; c=relaxed/relaxed;
 d=1e100.net; s=20230601; t=1722897683; x=1723502483;
 h=references:in-reply-to:cc:to:from:subject:message-id:date
 :x-gm-message-state:from:to:cc:subject:date:message-id:reply-to;
 bh=OJuZPv51vop0Of79Td+nDsujmCAmzRJ8psduoEQaXHw=;
 b=lV7cSjLBS2kUYpNpSKwsnq2SO0Y62sxH71SEDbavRpAlVChpv9UxtNtOww5QmnQgcT
 NA4MSKOxkWxWQg4+q6up9J5qPN7xYr/9ETKOOZxN/fnK0HOrfwBZBaAFMZ6aD3n6+p0q
 dY4Ex3TNK/B0d37LOincCwuBfxfPXBjULiqIOKRdvTgXmEpP3ZYSZDTZhj1I0FTKMQ+q
 mEg2gCcAUjj4A54xvoD6AOH5XJ3q8fMu8Vql0LO2lJRxd9IYYuzHUCQUQvup5uXcuWMX
 t34qCSnMdF1MnB24VjIlCBoUc1+tUecUDAQPz2s3hYgod6LLBF+nioSJ3mY6r4lAcxX/
 00XQ==
X-Gm-Message-State: AOJu0Yxy6vSRDx7DQ2kObOWcZ0Gh4TDFsGmcGcf8fah1t0p3dp2Dvco6
 VZKl5UW1vI/BQPWY3mW8NaAzZbnOtJssQPKzgEortu7JsvbBRshvbzDOPlkvHb/Gs4bBml/1uG5
 8RvgJDa09iVumABhLh2YZ3nfLbbQM0ZMpqeEeG6T8
X-Google-Smtp-Source: AGHT+IGVuMVn9AA/Wz97NSJ2rNteePHI/ZlkK78VeRP5k+S+B0fLMf+AbBEgSw5ygLMIRBuPlAt4d79EcFAh
X-Received: by 2002:a81:bb45:0:b0:65c:8dfb:fa04 with SMTP id
 00721157ae682-68960c5007cmr105172027b3.14.1722897683469; 
 Mon, 05 Aug 2024 15:41:23 -0700 (PDT)
Received: from postal.iol.unh.edu (postal.iol.unh.edu. [132.177.123.84])
 by smtp-relay.gmail.com with ESMTPS id
 00721157ae682-68a168d8f67sm9507877b3.71.2024.08.05.15.41.23
 (version=TLS1_2 cipher=ECDHE-ECDSA-AES128-GCM-SHA256 bits=128/128);
 Mon, 05 Aug 2024 15:41:23 -0700 (PDT)
X-Relaying-Domain: iol.unh.edu
Date: Mon, 05 Aug 2024 15:41:23 -0700 (PDT)
Message-ID: <66b15513.810a0220.3687e.2497SMTPIN_ADDED_MISSING@mx.google.com>
Received: from [172.21.0.7] (unknown [172.18.0.240])
 by postal.iol.unh.edu (Postfix) with ESMTP id 1D65D605C351;
 Mon,  5 Aug 2024 18:41:23 -0400 (EDT)
Subject: |PENDING| pw142895-142899 [PATCH] [v1,5/5] raw/zxdh: add support for
From: dpdklab@iol.unh.edu
To: Test Report <test-report@dpdk.org>
Cc: dpdk-test-reports@iol.unh.edu
In-Reply-To: <20240805133750.1542615-10-zhang.yong25@zte.com.cn>
References: <20240805133750.1542615-10-zhang.yong25@zte.com.cn>
Content-Type: text/plain
X-BeenThere: test-report@dpdk.org
X-Mailman-Version: 2.1.29
Precedence: list
List-Id: automatic DPDK test reports <test-report.dpdk.org>
List-Unsubscribe: <https://mails.dpdk.org/options/test-report>,
 <mailto:test-report-request@dpdk.org?subject=unsubscribe>
List-Archive: <http://mails.dpdk.org/archives/test-report/>
List-Post: <mailto:test-report@dpdk.org>
List-Help: <mailto:test-report-request@dpdk.org?subject=help>
List-Subscribe: <https://mails.dpdk.org/listinfo/test-report>,
 <mailto:test-report-request@dpdk.org?subject=subscribe>
Errors-To: test-report-bounces@dpdk.org

Test-Label: iol-abi-testing
Test-Status: PENDING
http://dpdk.org/patch/142899

_Testing pending_

Submitter: Yong Zhang <zhang.yong25@zte.com.cn>
Date: Monday, August 05 2024 13:35:02 
DPDK git baseline: Repo:dpdk
  Branch: master
  CommitID:b3485f4293997d35b6daecc3437bb0c183a51fb3

142895-142899 --> testing pending

Upstream job id: Generic-DPDK-Compile-ABI#101762

Test environment and result as below:

+-------------------+----------+
|    Environment    | abi_test |
+===================+==========+
| CentOS Stream 9   | PASS     |
+-------------------+----------+
| Debian Bullseye   | PASS     |
+-------------------+----------+
| Fedora 38 (Clang) | PASS     |
+-------------------+----------+
| Debian 12         | PASS     |
+-------------------+----------+
| Fedora 37         | PASS     |
+-------------------+----------+
| Fedora 39 (Clang) | PASS     |
+-------------------+----------+
| Fedora 38         | PASS     |
+-------------------+----------+
| Fedora 39         | PASS     |
+-------------------+----------+
| Fedora 40 (Clang) | PASS     |
+-------------------+----------+
| RHEL8             | PASS     |
+-------------------+----------+
| Fedora 40         | PEND     |
+-------------------+----------+
| RHEL9             | PASS     |
+-------------------+----------+
| openSUSE Leap 15  | PASS     |
+-------------------+----------+
| Ubuntu 22.04      | PASS     |
+-------------------+----------+
| Ubuntu 24.04      | PASS     |
+-------------------+----------+


CentOS Stream 9
	Kernel: 5.4.0-167-generic
	Compiler: gcc 11.4.1 20230605

Debian Bullseye
	Kernel: 5.4.0-167-generic
	Compiler: gcc 10.2.1-6

Fedora 38 (Clang)
	Kernel: Depends on container host
	Compiler: clang 16.0.6

Debian 12
	Kernel: Container Host Kernel
	Compiler: gcc 12.2.0

Fedora 37
	Kernel: Depends on container host system
	Compiler: gcc 12.3.1

Fedora 39 (Clang)
	Kernel: Depends on container host
	Compiler: clang 17.0.6

Fedora 38
	Kernel: Depends on container host
	Compiler: gcc 13.2.1

Fedora 39
	Kernel: Depends on container host
	Compiler: gcc 13.2.1

Fedora 40 (Clang)
	Kernel: Depends on container host
	Compiler: clang 18.1.6

RHEL8
	Kernel: 5.4.0-167-generic
	Compiler: gcc 8.5.0 20210514 (Red Hat 8.5.0-20)

Fedora 40
	Kernel: Depends on container host
	Compiler: gcc 14.1.1

RHEL9
	Kernel: Depends on container host
	Compiler: gcc 11.4.1

openSUSE Leap 15
	Kernel: 5.4.0-167-generic
	Compiler: gcc 7.5.0

Ubuntu 22.04
	Kernel: 5.4.0-167-generic
	Compiler: gcc 11.4.0

Ubuntu 24.04
	Kernel: 5.4.0-167-generic
	Compiler: gcc 13.2.0

To view detailed results, visit:
https://lab.dpdk.org/results/dashboard/patchsets/30716/

UNH-IOL DPDK Community Lab

To manage your email subscriptions, visit: 
https://lab.dpdk.org/results/dashboard/preferences/subscriptions/