From mboxrd@z Thu Jan  1 00:00:00 1970
Return-Path: <test-report-bounces@dpdk.org>
Received: from mails.dpdk.org (mails.dpdk.org [217.70.189.124])
	by inbox.dpdk.org (Postfix) with ESMTP id E827245745
	for <public@inbox.dpdk.org>; Tue,  6 Aug 2024 01:42:00 +0200 (CEST)
Received: from mails.dpdk.org (localhost [127.0.0.1])
	by mails.dpdk.org (Postfix) with ESMTP id DEB3140295;
	Tue,  6 Aug 2024 01:42:00 +0200 (CEST)
Received: from mail-pf1-f226.google.com (mail-pf1-f226.google.com
 [209.85.210.226])
 by mails.dpdk.org (Postfix) with ESMTP id D2BE2400D5
 for <test-report@dpdk.org>; Tue,  6 Aug 2024 01:41:59 +0200 (CEST)
Received: by mail-pf1-f226.google.com with SMTP id
 d2e1a72fcca58-70d2d7e692eso26001b3a.0
 for <test-report@dpdk.org>; Mon, 05 Aug 2024 16:41:59 -0700 (PDT)
DKIM-Signature: v=1; a=rsa-sha256; c=relaxed/relaxed;
 d=iol.unh.edu; s=unh-iol; t=1722901319; x=1723506119; darn=dpdk.org;
 h=references:in-reply-to:cc:to:from:subject:message-id:date:from:to
 :cc:subject:date:message-id:reply-to;
 bh=f4XvBXRYMUnwE9ZB/I19qckfoiSS7ZnWoza3TPabKR0=;
 b=jcLsBvB8w2C1Bl56z3Feez9ldJ/H1pCMaiI2Nv062YuXLBQgneMOQAJAQ3d6yjBgbT
 FkwRQ4lBQyrMBLwgJm1Y8mw4gm/xexUxID3zNY6N0hH5sGghnjqPGAZhoOZfAhEwKz/O
 RNmnx46L3M/KsBzr+D3RY2OiVC8SKq3RbgrXA=
X-Google-DKIM-Signature: v=1; a=rsa-sha256; c=relaxed/relaxed;
 d=1e100.net; s=20230601; t=1722901319; x=1723506119;
 h=references:in-reply-to:cc:to:from:subject:message-id:date
 :x-gm-message-state:from:to:cc:subject:date:message-id:reply-to;
 bh=f4XvBXRYMUnwE9ZB/I19qckfoiSS7ZnWoza3TPabKR0=;
 b=WYWDo9qbbkgRbkY6Px0w7jq8hs+ONpro0TXzVp2pbTbFgCmfmQe59Msnr7Am5TI7w4
 q6X3NY4AKN9FQB2DwbzAVyeISz6vtTd8a+LQwnQU/RJcjRNiFyBXcD3zEmGnc6dGV/BK
 zsFQT6L5TYTrQIvEG8G5zEC2FQyaI4l7H+2mtoTjolzuLH+Fdq4w92DO7+hjCzJC1DQc
 dEhjkT1ch1KBc+Wm9cPNm+MDRxILVsLS+MITCnaQ9DvBlbn8HeVC/ZIKhzzR9AWqBG7x
 81p7TM00KbwBTBo0sB1FhOxEFnUY5S1ekH2OXjx+Gpf+m5ZQKuUuwMpp7YYje+myFSYE
 jgFg==
X-Gm-Message-State: AOJu0YyRABUj19M4Ty2Ylq+v6914Ib1TQeKd1CR6JrtinHRhVFATNOmV
 B9Y/l/TbcAGN01QwSqF+NXnA/SQj7kMpuCoGcaaaOIdIdVRDx7nh0Zh2L7irRpelbYFILMLRnZK
 fQ+/P6gLYzWkMEMQIQOAJs9GOex0chm4KeQMZ0gKTEDtaFGRhUDRT46LZ
X-Google-Smtp-Source: AGHT+IEEXRE05JAk3ospaBeoTRcXHs4kRwk5Fpv3BWe9B55h2yyuOQ10kj9F5xtgSPirieEPE7qoR8+pgr24
X-Received: by 2002:a05:6a20:432c:b0:1c4:8da5:219a with SMTP id
 adf61e73a8af0-1c699550c90mr14951247637.8.1722901319017; 
 Mon, 05 Aug 2024 16:41:59 -0700 (PDT)
Received: from postal.iol.unh.edu (postal.iol.unh.edu.
 [2606:4100:3880:1234::84]) by smtp-relay.gmail.com with ESMTPS id
 98e67ed59e1d1-2cffac2dafdsm722557a91.0.2024.08.05.16.41.58
 (version=TLS1_2 cipher=ECDHE-ECDSA-AES128-GCM-SHA256 bits=128/128);
 Mon, 05 Aug 2024 16:41:59 -0700 (PDT)
X-Relaying-Domain: iol.unh.edu
Date: Mon, 05 Aug 2024 16:41:59 -0700 (PDT)
Message-ID: <66b16347.170a0220.6eb53.9605SMTPIN_ADDED_MISSING@mx.google.com>
Received: from [172.17.0.4] (unknown [172.18.0.217])
 by postal.iol.unh.edu (Postfix) with ESMTP id 3B66D605C351;
 Mon,  5 Aug 2024 19:41:58 -0400 (EDT)
Subject: |PENDING| pw142895-142899 [PATCH] [v1,5/5] raw/zxdh: add support for
From: dpdklab@iol.unh.edu
To: Test Report <test-report@dpdk.org>
Cc: dpdk-test-reports@iol.unh.edu
In-Reply-To: <20240805133750.1542615-10-zhang.yong25@zte.com.cn>
References: <20240805133750.1542615-10-zhang.yong25@zte.com.cn>
Content-Type: text/plain
X-BeenThere: test-report@dpdk.org
X-Mailman-Version: 2.1.29
Precedence: list
List-Id: automatic DPDK test reports <test-report.dpdk.org>
List-Unsubscribe: <https://mails.dpdk.org/options/test-report>,
 <mailto:test-report-request@dpdk.org?subject=unsubscribe>
List-Archive: <http://mails.dpdk.org/archives/test-report/>
List-Post: <mailto:test-report@dpdk.org>
List-Help: <mailto:test-report-request@dpdk.org?subject=help>
List-Subscribe: <https://mails.dpdk.org/listinfo/test-report>,
 <mailto:test-report-request@dpdk.org?subject=subscribe>
Errors-To: test-report-bounces@dpdk.org

Test-Label: iol-unit-amd64-testing
Test-Status: PENDING
http://dpdk.org/patch/142899

_Testing pending_

Submitter: Yong Zhang <zhang.yong25@zte.com.cn>
Date: Monday, August 05 2024 13:35:02 
DPDK git baseline: Repo:dpdk
  Branch: master
  CommitID:b3485f4293997d35b6daecc3437bb0c183a51fb3

142895-142899 --> testing pending

Upstream job id: Generic-Unit-Test-DPDK#248827

Test environment and result as below:

+---------------------+----------------+
|     Environment     | dpdk_unit_test |
+=====================+================+
| Windows Server 2022 | PASS           |
+---------------------+----------------+
| CentOS Stream 9     | PASS           |
+---------------------+----------------+
| Windows Server 2019 | PASS           |
+---------------------+----------------+
| Debian Bullseye     | PEND           |
+---------------------+----------------+
| Debian 12           | PEND           |
+---------------------+----------------+
| Fedora 37           | PEND           |
+---------------------+----------------+
| Fedora 38 (Clang)   | PEND           |
+---------------------+----------------+
| Fedora 38           | PEND           |
+---------------------+----------------+
| Fedora 39 (Clang)   | PEND           |
+---------------------+----------------+
| Fedora 40           | PEND           |
+---------------------+----------------+
| Fedora 40 (Clang)   | PEND           |
+---------------------+----------------+
| openSUSE Leap 15    | PEND           |
+---------------------+----------------+
| RHEL9               | PEND           |
+---------------------+----------------+
| Ubuntu 20.04        | PEND           |
+---------------------+----------------+
| RHEL8               | PEND           |
+---------------------+----------------+
| Ubuntu 24.04        | PEND           |
+---------------------+----------------+
| Ubuntu 22.04        | PEND           |
+---------------------+----------------+
| Fedora 39           | PEND           |
+---------------------+----------------+


Windows Server 2022
	Kernel: 10.0.20348.2031
	Compiler: clang 15.0.7, gcc 8.1.0 (MinGW), and MSVC VS 17.9

CentOS Stream 9
	Kernel: 5.4.0-167-generic
	Compiler: gcc 11.4.1 20230605

Windows Server 2019
	Kernel: 10.0.17763
	Compiler: clang 14.0 and gcc 8.1.0 (MinGW)

Debian Bullseye
	Kernel: 5.4.0-167-generic
	Compiler: gcc 10.2.1-6

Debian 12
	Kernel: Container Host Kernel
	Compiler: gcc 12.2.0

Fedora 37
	Kernel: Depends on container host system
	Compiler: gcc 12.3.1

Fedora 38 (Clang)
	Kernel: Depends on container host
	Compiler: clang 16.0.6

Fedora 38
	Kernel: Depends on container host
	Compiler: gcc 13.2.1

Fedora 39 (Clang)
	Kernel: Depends on container host
	Compiler: clang 17.0.6

Fedora 40
	Kernel: Depends on container host
	Compiler: gcc 14.1.1

Fedora 40 (Clang)
	Kernel: Depends on container host
	Compiler: clang 18.1.6

openSUSE Leap 15
	Kernel: 5.4.0-167-generic
	Compiler: gcc 7.5.0

RHEL9
	Kernel: Depends on container host
	Compiler: gcc 11.4.1

Ubuntu 20.04
	Kernel: 5.4.0-167-generic
	Compiler: gcc 9.4.0-1ubuntu1~20.04.1

RHEL8
	Kernel: 5.4.0-167-generic
	Compiler: gcc 8.5.0 20210514 (Red Hat 8.5.0-20)

Ubuntu 24.04
	Kernel: 5.4.0-167-generic
	Compiler: gcc 13.2.0

Ubuntu 22.04
	Kernel: 5.4.0-167-generic
	Compiler: gcc 11.4.0

Fedora 39
	Kernel: Depends on container host
	Compiler: gcc 13.2.1

To view detailed results, visit:
https://lab.dpdk.org/results/dashboard/patchsets/30716/

UNH-IOL DPDK Community Lab

To manage your email subscriptions, visit: 
https://lab.dpdk.org/results/dashboard/preferences/subscriptions/