From mboxrd@z Thu Jan 1 00:00:00 1970 Return-Path: Received: from mails.dpdk.org (mails.dpdk.org [217.70.189.124]) by inbox.dpdk.org (Postfix) with ESMTP id 3970A45746 for ; Tue, 6 Aug 2024 07:36:08 +0200 (CEST) Received: from mails.dpdk.org (localhost [127.0.0.1]) by mails.dpdk.org (Postfix) with ESMTP id 2B30740669; Tue, 6 Aug 2024 07:36:08 +0200 (CEST) Received: from mail-il1-f225.google.com (mail-il1-f225.google.com [209.85.166.225]) by mails.dpdk.org (Postfix) with ESMTP id D1087402BA for ; Tue, 6 Aug 2024 07:36:06 +0200 (CEST) Received: by mail-il1-f225.google.com with SMTP id e9e14a558f8ab-397cdb4bf11so255215ab.2 for ; Mon, 05 Aug 2024 22:36:06 -0700 (PDT) DKIM-Signature: v=1; a=rsa-sha256; c=relaxed/relaxed; d=iol.unh.edu; s=unh-iol; t=1722922566; x=1723527366; darn=dpdk.org; h=references:in-reply-to:cc:to:from:subject:message-id:date:from:to :cc:subject:date:message-id:reply-to; bh=v1DQdNEenQz5eQn0jgbt2ZjINxAiLev8hvUYHl+mKNA=; b=HKLpinECyzJaZyr31ygwAjWBFu/o7MwwnqdGIU/wHxDWhmPfzePUYgfse+RqTrYuzl wafEcPH/gbnyx4dsgINcynFw9uwxMHU+lD/mRmcq+RaBkXQwa91tuPyL4I5qTzdvmyZU eRHSyk6HAo1ScvCHGVB9GUase+QfYuUFw5oGw= X-Google-DKIM-Signature: v=1; a=rsa-sha256; c=relaxed/relaxed; d=1e100.net; s=20230601; t=1722922566; x=1723527366; h=references:in-reply-to:cc:to:from:subject:message-id:date :x-gm-message-state:from:to:cc:subject:date:message-id:reply-to; bh=v1DQdNEenQz5eQn0jgbt2ZjINxAiLev8hvUYHl+mKNA=; b=gNJPmtdvOmUziH3wMJ+bCVkkHWOjHjtcF9mWLwkQtG4r6GBPKkpR8AxXrr1D00Tl2G EO4jtlXSyirDTzxkmPDbl7h2XPrLjd+hG7fThB3J0MawkZaNrW1KJJPYcf8HU2A6X7CM UUv+4tNpTweIPoesvQrTRKZWpdObvqSIfVzuaOggPZfWnG+KdORFrJlKFw/wazEFOlFA 5+61izKU2h+oJPrVmmHCBhmqZD+S843Y1XrXK3NZ2cFslu+JsdW7N4XpW1ljLRqvhUBn FltZK9bVgJJ75zoIRXqgtr4qH0uG+OYQE+5A0Ka8cOHLk9MzSvaIvjbEDTPUcrEbBWK2 RD8w== X-Gm-Message-State: AOJu0Yxw3id9GiWhi4sqoWCINLmlW6jbsNPfm3UYar4aRVNoKR9To9Zv lxibnUqRzYU1+gl93Aw6DjcUiux/jiqmY4KTkaQk8yitrE72tzhVqxZfWMqWbZZ9IS5OjMfTEnk UR0sK5JBCTAcmggbBOGZbK+bcSnhHZZr2wwXcHxEv X-Google-Smtp-Source: AGHT+IFyOIebgTiwg52GK2lYXw/smrdZ1y4NwILwvE/xmJMdHNiwwt/szsr7O+g2FenwOmf4ejjYtK10AZhT X-Received: by 2002:a92:d8c4:0:b0:376:410b:ae69 with SMTP id e9e14a558f8ab-39b1fbb3999mr137970395ab.15.1722922566193; Mon, 05 Aug 2024 22:36:06 -0700 (PDT) Received: from postal.iol.unh.edu (postal.iol.unh.edu. [132.177.123.84]) by smtp-relay.gmail.com with ESMTPS id e9e14a558f8ab-39b3cd180easm5914655ab.26.2024.08.05.22.36.06 (version=TLS1_2 cipher=ECDHE-ECDSA-AES128-GCM-SHA256 bits=128/128); Mon, 05 Aug 2024 22:36:06 -0700 (PDT) X-Relaying-Domain: iol.unh.edu Date: Mon, 05 Aug 2024 22:36:06 -0700 (PDT) Message-ID: <66b1b646.050a0220.7d194.0b56SMTPIN_ADDED_MISSING@mx.google.com> Received: from [172.21.0.7] (unknown [172.18.0.240]) by postal.iol.unh.edu (Postfix) with ESMTP id B17F8605C351; Tue, 6 Aug 2024 01:36:05 -0400 (EDT) Subject: |PENDING| pw142909-142911 [PATCH] [v2,3/3] examples/l3fwd: enhance v From: dpdklab@iol.unh.edu To: Test Report Cc: dpdk-test-reports@iol.unh.edu In-Reply-To: <20240806034120.3165295-4-g.singh@nxp.com> References: <20240806034120.3165295-4-g.singh@nxp.com> Content-Type: text/plain X-BeenThere: test-report@dpdk.org X-Mailman-Version: 2.1.29 Precedence: list List-Id: automatic DPDK test reports List-Unsubscribe: , List-Archive: List-Post: List-Help: List-Subscribe: , Errors-To: test-report-bounces@dpdk.org Test-Label: iol-abi-testing Test-Status: PENDING http://dpdk.org/patch/142911 _Testing pending_ Submitter: Gagandeep Singh Date: Tuesday, August 06 2024 03:41:20 DPDK git baseline: Repo:dpdk Branch: master CommitID:b3485f4293997d35b6daecc3437bb0c183a51fb3 142909-142911 --> testing pending Upstream job id: Generic-DPDK-Compile-ABI#101782 Test environment and result as below: +-------------------+----------+ | Environment | abi_test | +===================+==========+ | CentOS Stream 9 | PASS | +-------------------+----------+ | Debian Bullseye | PEND | +-------------------+----------+ | Debian 12 | PASS | +-------------------+----------+ | Fedora 39 (Clang) | PASS | +-------------------+----------+ | Fedora 37 | PASS | +-------------------+----------+ | Fedora 38 | PEND | +-------------------+----------+ | Fedora 38 (Clang) | PEND | +-------------------+----------+ | Fedora 39 | PEND | +-------------------+----------+ | Fedora 40 (Clang) | PEND | +-------------------+----------+ | RHEL8 | PEND | +-------------------+----------+ | Fedora 40 | PEND | +-------------------+----------+ | openSUSE Leap 15 | PEND | +-------------------+----------+ | RHEL9 | PASS | +-------------------+----------+ | Ubuntu 22.04 | PEND | +-------------------+----------+ | Ubuntu 24.04 | PEND | +-------------------+----------+ CentOS Stream 9 Kernel: 5.4.0-167-generic Compiler: gcc 11.4.1 20230605 Debian Bullseye Kernel: 5.4.0-167-generic Compiler: gcc 10.2.1-6 Debian 12 Kernel: Container Host Kernel Compiler: gcc 12.2.0 Fedora 39 (Clang) Kernel: Depends on container host Compiler: clang 17.0.6 Fedora 37 Kernel: Depends on container host system Compiler: gcc 12.3.1 Fedora 38 Kernel: Depends on container host Compiler: gcc 13.2.1 Fedora 38 (Clang) Kernel: Depends on container host Compiler: clang 16.0.6 Fedora 39 Kernel: Depends on container host Compiler: gcc 13.2.1 Fedora 40 (Clang) Kernel: Depends on container host Compiler: clang 18.1.6 RHEL8 Kernel: 5.4.0-167-generic Compiler: gcc 8.5.0 20210514 (Red Hat 8.5.0-20) Fedora 40 Kernel: Depends on container host Compiler: gcc 14.1.1 openSUSE Leap 15 Kernel: 5.4.0-167-generic Compiler: gcc 7.5.0 RHEL9 Kernel: Depends on container host Compiler: gcc 11.4.1 Ubuntu 22.04 Kernel: 5.4.0-167-generic Compiler: gcc 11.4.0 Ubuntu 24.04 Kernel: 5.4.0-167-generic Compiler: gcc 13.2.0 To view detailed results, visit: https://lab.dpdk.org/results/dashboard/patchsets/30721/ UNH-IOL DPDK Community Lab To manage your email subscriptions, visit: https://lab.dpdk.org/results/dashboard/preferences/subscriptions/