From mboxrd@z Thu Jan 1 00:00:00 1970 Return-Path: Received: from mails.dpdk.org (mails.dpdk.org [217.70.189.124]) by inbox.dpdk.org (Postfix) with ESMTP id 56A7345748 for ; Tue, 6 Aug 2024 08:50:16 +0200 (CEST) Received: from mails.dpdk.org (localhost [127.0.0.1]) by mails.dpdk.org (Postfix) with ESMTP id 5038B4068A; Tue, 6 Aug 2024 08:50:16 +0200 (CEST) Received: from mail-pl1-f225.google.com (mail-pl1-f225.google.com [209.85.214.225]) by mails.dpdk.org (Postfix) with ESMTP id 4A9B3402CF for ; Tue, 6 Aug 2024 08:50:14 +0200 (CEST) Received: by mail-pl1-f225.google.com with SMTP id d9443c01a7336-1fd66cddd4dso4091585ad.2 for ; Mon, 05 Aug 2024 23:50:14 -0700 (PDT) DKIM-Signature: v=1; a=rsa-sha256; c=relaxed/relaxed; d=iol.unh.edu; s=unh-iol; t=1722927013; x=1723531813; darn=dpdk.org; h=references:in-reply-to:cc:to:from:subject:message-id:date:from:to :cc:subject:date:message-id:reply-to; bh=OtciJfVk8Ku+k8LLzYR8KgEjRJRLgJ6e89TbUMuDHfc=; b=UqGnV4ZKymq55VHtQHrol1FfY8x7FExLmngMlTPcF4X0ntOL2pROAsqckG3TEx+krv UAHrhFOmeVIPmqhbdk1YEDq0vFXrMZ8r6NiBu6hNl3QWHWWRNpHEREXYjAq3w4+EUopH p0FZLNJDRSob8x4r3gmOFz6dP/38PLICc1RQk= X-Google-DKIM-Signature: v=1; a=rsa-sha256; c=relaxed/relaxed; d=1e100.net; s=20230601; t=1722927013; x=1723531813; h=references:in-reply-to:cc:to:from:subject:message-id:date :x-gm-message-state:from:to:cc:subject:date:message-id:reply-to; bh=OtciJfVk8Ku+k8LLzYR8KgEjRJRLgJ6e89TbUMuDHfc=; b=cwGw4zG/bs5BfOro9xcCpX+xQJ8je1KxkTPhX8L2jEiHipUB4F7OS57HnIXUSAjd+D HAJJqVVODNkZmn6+BQbpfcYX/2N5wA6ur+JyuzZiBxXcK0qBrAVoqIUjxf0pwlF1oLvs 6tKef3k9xGCPuUGRluU8q/zGnLqh0ANE9rzilNsw4UaHyk4t0mKCR/wNbeugwNY9t5C7 /80WZ6E9oPUSeDij2/M2wICTbYZ+BDJdCEZXOLywPwNE3ebNgciS8stGhZnecFKQYjuP x2mKTAXIgoLjJzIooGbbfLRsrGFcWmII56y2Syp2zPIEuhUyJj6nxLjxLKbcx/KnLwDj brvw== X-Gm-Message-State: AOJu0YzeUohUHYQczTBS6D6NgOIByWAQgPtCiA17fJkwJEgTD5/ltYCW B0QN/NipPGl2ycDWQuR72uBYLMDLfvfcAvubFQC2AgsapcVX0vE7nZ7UcNraBAG+o59tfMnK9ev aufQZNf+YF+43QtEUlE7ODmYjcu8URzhQ4f4x/3D8nj/v1cdAR53w7wz+ X-Google-Smtp-Source: AGHT+IFXDtx4UubMPUkiUwU+9CtgW/tRAn05ZuIt9Yjdb4/BrwOXanqbpzUDEjM2Sc6UZFlUxoSKlYICyAvM X-Received: by 2002:a17:902:e541:b0:1fd:ae10:7242 with SMTP id d9443c01a7336-1ff572b9e3emr198172315ad.32.1722927013425; Mon, 05 Aug 2024 23:50:13 -0700 (PDT) Received: from postal.iol.unh.edu (postal.iol.unh.edu. [2606:4100:3880:1234::84]) by smtp-relay.gmail.com with ESMTPS id d9443c01a7336-1ff58f2ab5csm6995955ad.30.2024.08.05.23.50.13 (version=TLS1_2 cipher=ECDHE-ECDSA-AES128-GCM-SHA256 bits=128/128); Mon, 05 Aug 2024 23:50:13 -0700 (PDT) X-Relaying-Domain: iol.unh.edu Date: Mon, 05 Aug 2024 23:50:13 -0700 (PDT) Message-ID: <66b1c7a5.170a0220.2aa074.6c26SMTPIN_ADDED_MISSING@mx.google.com> Received: from [172.21.0.8] (unknown [172.18.0.240]) by postal.iol.unh.edu (Postfix) with ESMTP id 89892605C351; Tue, 6 Aug 2024 02:50:12 -0400 (EDT) Subject: |PENDING| pw142909-142911 [PATCH] [v2,3/3] examples/l3fwd: enhance v From: dpdklab@iol.unh.edu To: Test Report Cc: dpdk-test-reports@iol.unh.edu In-Reply-To: <20240806034120.3165295-4-g.singh@nxp.com> References: <20240806034120.3165295-4-g.singh@nxp.com> Content-Type: text/plain X-BeenThere: test-report@dpdk.org X-Mailman-Version: 2.1.29 Precedence: list List-Id: automatic DPDK test reports List-Unsubscribe: , List-Archive: List-Post: List-Help: List-Subscribe: , Errors-To: test-report-bounces@dpdk.org Test-Label: iol-unit-arm64-testing Test-Status: PENDING http://dpdk.org/patch/142911 _Testing pending_ Submitter: Gagandeep Singh Date: Tuesday, August 06 2024 03:41:20 DPDK git baseline: Repo:dpdk Branch: master CommitID:b3485f4293997d35b6daecc3437bb0c183a51fb3 142909-142911 --> testing pending Upstream job id: Generic-Unit-Test-DPDK#249014 Test environment and result as below: +-----------------------------+----------------+--------------+---------------------------+------------------------------+ | Environment | dpdk_unit_test | lpm_autotest | cryptodev_sw_zuc_autotest | cryptodev_sw_snow3g_autotest | +=============================+================+==============+===========================+==============================+ | CentOS Stream 9 (ARM) | PASS | SKIPPED | SKIPPED | SKIPPED | +-----------------------------+----------------+--------------+---------------------------+------------------------------+ | Debian 11 (Buster) (ARM) | PASS | SKIPPED | SKIPPED | SKIPPED | +-----------------------------+----------------+--------------+---------------------------+------------------------------+ | Fedora 37 (ARM) | PASS | SKIPPED | SKIPPED | SKIPPED | +-----------------------------+----------------+--------------+---------------------------+------------------------------+ | Debian 12 (arm) | PASS | SKIPPED | PASS | PEND | +-----------------------------+----------------+--------------+---------------------------+------------------------------+ | Fedora 38 (ARM Clang) | PEND | SKIPPED | SKIPPED | SKIPPED | +-----------------------------+----------------+--------------+---------------------------+------------------------------+ | Fedora 38 (ARM) | PASS | SKIPPED | SKIPPED | SKIPPED | +-----------------------------+----------------+--------------+---------------------------+------------------------------+ | 32-bit Ubuntu 20.04.4 (ARM) | PEND | SKIPPED | SKIPPED | SKIPPED | +-----------------------------+----------------+--------------+---------------------------+------------------------------+ | Fedora 39 (ARM Clang) | PEND | SKIPPED | SKIPPED | SKIPPED | +-----------------------------+----------------+--------------+---------------------------+------------------------------+ | Fedora 40 (ARM) | PEND | SKIPPED | SKIPPED | SKIPPED | +-----------------------------+----------------+--------------+---------------------------+------------------------------+ | Fedora 40 (ARM Clang) | PEND | SKIPPED | SKIPPED | SKIPPED | +-----------------------------+----------------+--------------+---------------------------+------------------------------+ | RHEL9 (ARM) | PEND | SKIPPED | SKIPPED | SKIPPED | +-----------------------------+----------------+--------------+---------------------------+------------------------------+ | Ubuntu 20.04 (ARM) | PEND | SKIPPED | SKIPPED | SKIPPED | +-----------------------------+----------------+--------------+---------------------------+------------------------------+ | Ubuntu 22.04 (ARM) | PEND | SKIPPED | SKIPPED | SKIPPED | +-----------------------------+----------------+--------------+---------------------------+------------------------------+ | Ubuntu 24.04 (ARM) | PEND | SKIPPED | SKIPPED | SKIPPED | +-----------------------------+----------------+--------------+---------------------------+------------------------------+ | Ubuntu 20.04 ARM SVE | SKIPPED | PEND | SKIPPED | SKIPPED | +-----------------------------+----------------+--------------+---------------------------+------------------------------+ CentOS Stream 9 (ARM) Kernel: Container Host Kernel Compiler: gcc 11.4.1 Debian 11 (Buster) (ARM) Kernel: Container Host Kernel Compiler: gcc 10.2.1 Fedora 37 (ARM) Kernel: Depends on container host Compiler: gcc 12.3.1 Debian 12 (arm) Kernel: Container Host Kernel Compiler: gcc 12.2.0 Fedora 38 (ARM Clang) Kernel: Depends on container host Compiler: clang 16.0.6 Fedora 38 (ARM) Kernel: Depends on container host Compiler: gcc 13.2.1 32-bit Ubuntu 20.04.4 (ARM) Kernel: 5.4.0-155-generic aarch64 Compiler: gcc 9.4 Fedora 39 (ARM Clang) Kernel: Depends on container host Compiler: clang 17.0.6 Fedora 40 (ARM) Kernel: Depends on container host Compiler: gcc 14.1.1 Fedora 40 (ARM Clang) Kernel: Depends on container host Compiler: clang 18.1.6 RHEL9 (ARM) Kernel: Depends on container host Compiler: gcc 11.4.1 Ubuntu 20.04 (ARM) Kernel: Container Host Kernel Compiler: gcc 9.4.0 Ubuntu 22.04 (ARM) Kernel: Container Host Kernel Compiler: gcc 11.4.0 Ubuntu 24.04 (ARM) Kernel: 5.4.0-167-generic Compiler: gcc 13.2.0 Ubuntu 20.04 ARM SVE Kernel: 5.4.0-167-generic Compiler: gcc (Ubuntu 10.5.0-1ubuntu1~20.04) 10.5.0 To view detailed results, visit: https://lab.dpdk.org/results/dashboard/patchsets/30721/ UNH-IOL DPDK Community Lab To manage your email subscriptions, visit: https://lab.dpdk.org/results/dashboard/preferences/subscriptions/