From mboxrd@z Thu Jan 1 00:00:00 1970 Return-Path: Received: from mails.dpdk.org (mails.dpdk.org [217.70.189.124]) by inbox.dpdk.org (Postfix) with ESMTP id A424E45748 for ; Tue, 6 Aug 2024 08:55:35 +0200 (CEST) Received: from mails.dpdk.org (localhost [127.0.0.1]) by mails.dpdk.org (Postfix) with ESMTP id 9E1654068A; Tue, 6 Aug 2024 08:55:35 +0200 (CEST) Received: from mail-ot1-f99.google.com (mail-ot1-f99.google.com [209.85.210.99]) by mails.dpdk.org (Postfix) with ESMTP id 33E00402CF for ; Tue, 6 Aug 2024 08:55:34 +0200 (CEST) Received: by mail-ot1-f99.google.com with SMTP id 46e09a7af769-709346604a7so100159a34.1 for ; Mon, 05 Aug 2024 23:55:34 -0700 (PDT) DKIM-Signature: v=1; a=rsa-sha256; c=relaxed/relaxed; d=iol.unh.edu; s=unh-iol; t=1722927333; x=1723532133; darn=dpdk.org; h=references:in-reply-to:cc:to:from:subject:message-id:date:from:to :cc:subject:date:message-id:reply-to; bh=l1VY4f7QY0W94LCKRZAqWEqFKqBwIialSmmmUfvbUvo=; b=MfuUDXUfuFjzCS9LwgMISN7FIJknyS/qR7a7Kyf8XPelZ4FrUp6o5mct7GjNJuZ51m WHR50stKKrxIl5I0BDEUfbA0NyFd7rYWta8PNGhQSSygQU36jfhfnVYdwBDswRVOWlpd j69VhWbhXbmIHss7H1NyvQl5YYxTHICfRpjUY= X-Google-DKIM-Signature: v=1; a=rsa-sha256; c=relaxed/relaxed; d=1e100.net; s=20230601; t=1722927333; x=1723532133; h=references:in-reply-to:cc:to:from:subject:message-id:date :x-gm-message-state:from:to:cc:subject:date:message-id:reply-to; bh=l1VY4f7QY0W94LCKRZAqWEqFKqBwIialSmmmUfvbUvo=; b=OENTlVV9LDZUxfRe9gSckDiUdxXqvPo0tBlfYckKwUCR9/glCME+9z2fsp/OdFN+zz tMg0NLy2r1U+T2fCAxStoKhfLsG+Pxv4GMZZOtUVdUzIaaZSNxr8KOf65b6v8QaNUer6 1RIiigosPCuWgCyqdiTYug9P0l0u7OTw79G44+tRbml4G3oqRP8TGmJRM5vJIylH6uBu 9Oyjr2Qp3royUVxLU/WXFMWRTzUFs6T6nRihCn4xh0Rlw3rCO+ZkQIna6FEGooJTkMzf jvaGFhmfSwN/IglZGDHQaBrzedQIm2su3cClqQis7oUNJPZKoHIHiVBJRGGXuKGn/dvW MBfQ== X-Gm-Message-State: AOJu0YyaUglSY/t0s03zmK9DbHH4MzDCXp0N5zPWA44BkoKo6o8AoYH7 MOhfsMx0mnP6uCArtwZFnGXyP8bYpjFqHOAXs7BZ3X5kW/e92J9nEx8/KgqtyIl3cZgaxLGNL+p 5pG6vzxHAdzpz/woTYueqtodnh8rLu4BAUqHFaWjB/Uexj4/Ita+kMzAn X-Google-Smtp-Source: AGHT+IG1h1dBu2H/jA6kEq4iliNuE3w3ZBAbmEEKYdNdyjNFFIj+jWSfChLI0yVUFU4MchROZv4iIm8/wGdQ X-Received: by 2002:a05:6358:e4a1:b0:1aa:a27c:ae9f with SMTP id e5c5f4694b2df-1af3baac370mr1745048755d.9.1722927333186; Mon, 05 Aug 2024 23:55:33 -0700 (PDT) Received: from postal.iol.unh.edu (postal.iol.unh.edu. [2606:4100:3880:1234::84]) by smtp-relay.gmail.com with ESMTPS id 41be03b00d2f7-7b763c28b6csm673005a12.21.2024.08.05.23.55.33 (version=TLS1_2 cipher=ECDHE-ECDSA-AES128-GCM-SHA256 bits=128/128); Mon, 05 Aug 2024 23:55:33 -0700 (PDT) X-Relaying-Domain: iol.unh.edu Date: Mon, 05 Aug 2024 23:55:33 -0700 (PDT) Message-ID: <66b1c8e5.630a0220.9375.aaa2SMTPIN_ADDED_MISSING@mx.google.com> Received: from [172.21.0.7] (unknown [172.18.0.240]) by postal.iol.unh.edu (Postfix) with ESMTP id 50FE1605C351; Tue, 6 Aug 2024 02:55:32 -0400 (EDT) Subject: |PENDING| pw142909-142911 [PATCH] [v2,3/3] examples/l3fwd: enhance v From: dpdklab@iol.unh.edu To: Test Report Cc: dpdk-test-reports@iol.unh.edu In-Reply-To: <20240806034120.3165295-4-g.singh@nxp.com> References: <20240806034120.3165295-4-g.singh@nxp.com> Content-Type: text/plain X-BeenThere: test-report@dpdk.org X-Mailman-Version: 2.1.29 Precedence: list List-Id: automatic DPDK test reports List-Unsubscribe: , List-Archive: List-Post: List-Help: List-Subscribe: , Errors-To: test-report-bounces@dpdk.org Test-Label: iol-compile-amd64-testing Test-Status: PENDING http://dpdk.org/patch/142911 _Testing pending_ Submitter: Gagandeep Singh Date: Tuesday, August 06 2024 03:41:20 DPDK git baseline: Repo:dpdk Branch: master CommitID:b3485f4293997d35b6daecc3437bb0c183a51fb3 142909-142911 --> testing pending Upstream job id: Windows-Compile-DPDK-Meson#24117 Test environment and result as below: +---------------------+--------------------+----------------------+-------------------+ | Environment | dpdk_meson_compile | dpdk_mingw64_compile | dpdk_msvc_compile | +=====================+====================+======================+===================+ | Windows Server 2019 | PASS | PASS | SKIPPED | +---------------------+--------------------+----------------------+-------------------+ | Windows Server 2022 | PASS | PASS | PASS | +---------------------+--------------------+----------------------+-------------------+ | FreeBSD 13.3 | PASS | SKIPPED | SKIPPED | +---------------------+--------------------+----------------------+-------------------+ | FreeBSD 14.1 | PEND | SKIPPED | SKIPPED | +---------------------+--------------------+----------------------+-------------------+ Windows Server 2019 Kernel: 10.0.17763 Compiler: clang 14.0 and gcc 8.1.0 (MinGW) Windows Server 2022 Kernel: 10.0.20348.2031 Compiler: clang 15.0.7, gcc 8.1.0 (MinGW), and MSVC VS 17.9 FreeBSD 13.3 Kernel: 13.3-RELEASE-p1 Compiler: clang 17.0.6 FreeBSD 14.1 Kernel: 14.1 Compiler: clang 18.1.5 To view detailed results, visit: https://lab.dpdk.org/results/dashboard/patchsets/30721/ UNH-IOL DPDK Community Lab To manage your email subscriptions, visit: https://lab.dpdk.org/results/dashboard/preferences/subscriptions/