From mboxrd@z Thu Jan  1 00:00:00 1970
Return-Path: <test-report-bounces@dpdk.org>
Received: from mails.dpdk.org (mails.dpdk.org [217.70.189.124])
	by inbox.dpdk.org (Postfix) with ESMTP id 4E4AE4574B
	for <public@inbox.dpdk.org>; Tue,  6 Aug 2024 09:58:43 +0200 (CEST)
Received: from mails.dpdk.org (localhost [127.0.0.1])
	by mails.dpdk.org (Postfix) with ESMTP id 4938E40685;
	Tue,  6 Aug 2024 09:58:43 +0200 (CEST)
Received: from mail-oa1-f97.google.com (mail-oa1-f97.google.com
 [209.85.160.97]) by mails.dpdk.org (Postfix) with ESMTP id CD3A9402CF
 for <test-report@dpdk.org>; Tue,  6 Aug 2024 09:58:42 +0200 (CEST)
Received: by mail-oa1-f97.google.com with SMTP id
 586e51a60fabf-2642cfb2f6aso120807fac.2
 for <test-report@dpdk.org>; Tue, 06 Aug 2024 00:58:42 -0700 (PDT)
DKIM-Signature: v=1; a=rsa-sha256; c=relaxed/relaxed;
 d=iol.unh.edu; s=unh-iol; t=1722931122; x=1723535922; darn=dpdk.org;
 h=references:in-reply-to:cc:to:from:subject:message-id:date:from:to
 :cc:subject:date:message-id:reply-to;
 bh=C9OcNP957j54/EwFFPkxE2NsDarPYzuEzJd2h6v6lNc=;
 b=agQd2JlDDYRBI729h2XC9EB8g/fEThSuEY88Re36FXpY7nqVfwJMtzWjVAH+5kBn8F
 +THKyeIiiSZ/IfLuVq11VypxJb9ZjQK6nLguVn+V9Qsz8T/sYcNbF+aIris1OspsRpNT
 k/WeLVF0eAGPnTDC1aGFoP/LYho7X9ZFZB75M=
X-Google-DKIM-Signature: v=1; a=rsa-sha256; c=relaxed/relaxed;
 d=1e100.net; s=20230601; t=1722931122; x=1723535922;
 h=references:in-reply-to:cc:to:from:subject:message-id:date
 :x-gm-message-state:from:to:cc:subject:date:message-id:reply-to;
 bh=C9OcNP957j54/EwFFPkxE2NsDarPYzuEzJd2h6v6lNc=;
 b=t3iuAqBpeh2bAxFZJJlmhSadqfzKSRCba3Kn+18sh76zb3TT/wr3QFmMpCh+AlmpEt
 TFua1nT9TbecV8AZ74K6cyg+qVEnMjPNbmfgb8WOmg+2uFnCvI7gClnV5QDswoJhxJZa
 sX5oh6vVUvjAOFw0xgMBvtznIPE/8y7+NldJCREvvBL1GbuMcBk+s46uWhJDL0YDu2G4
 gZLFhRAHv0phL7XuFA0u/9qDV5ov2PtRuN1clMtCnMSLeqh5PrMXUYsPORXf6Nw3nKSZ
 s3UhhMZiX542SuiOiIX6D63FKKdisv3HHPyMHMNVidEaAnFZdFi516AG/6OrEXtL4/0G
 ERJw==
X-Gm-Message-State: AOJu0YwcL4w19oK0HoGEuCToa5lE36BZJvsj1pDec1kje75AGhAWHOZO
 n7it+9uGzUM1BF9xegLIl1fLh5zWDHZWQZ133BZqgZ59DbmRyFWv48bGg5MEtKu7sH1QIushKiq
 inPNNtOf7koA6a9NgL980q5qBp1SZBsVzgppg3aWatslxNP4tlFAI+/69
X-Google-Smtp-Source: AGHT+IHSCrnztuwcYhwoRZbNYwiObKXi2AC8s9/0BYOPrGOkaQAQBAQTEfmaO+Bu8ExdxFbfITXCQXqLoY8j
X-Received: by 2002:a05:6870:a11b:b0:261:1af1:ee9e with SMTP id
 586e51a60fabf-26891af71eemr18608205fac.14.1722931121997; 
 Tue, 06 Aug 2024 00:58:41 -0700 (PDT)
Received: from postal.iol.unh.edu (postal.iol.unh.edu.
 [2606:4100:3880:1234::84]) by smtp-relay.gmail.com with ESMTPS id
 586e51a60fabf-2689a63ae0fsm739331fac.43.2024.08.06.00.58.41
 (version=TLS1_2 cipher=ECDHE-ECDSA-AES128-GCM-SHA256 bits=128/128);
 Tue, 06 Aug 2024 00:58:41 -0700 (PDT)
X-Relaying-Domain: iol.unh.edu
Date: Tue, 06 Aug 2024 00:58:41 -0700 (PDT)
Message-ID: <66b1d7b1.050a0220.37908e.982bSMTPIN_ADDED_MISSING@mx.google.com>
Received: from [172.21.0.6] (unknown [172.18.0.240])
 by postal.iol.unh.edu (Postfix) with ESMTP id 75F436052500;
 Tue,  6 Aug 2024 03:58:41 -0400 (EDT)
Subject: |PENDING| pw142909-142911 [PATCH] [v2,3/3] examples/l3fwd: enhance v
From: dpdklab@iol.unh.edu
To: Test Report <test-report@dpdk.org>
Cc: dpdk-test-reports@iol.unh.edu
In-Reply-To: <20240806034120.3165295-4-g.singh@nxp.com>
References: <20240806034120.3165295-4-g.singh@nxp.com>
Content-Type: text/plain
X-BeenThere: test-report@dpdk.org
X-Mailman-Version: 2.1.29
Precedence: list
List-Id: automatic DPDK test reports <test-report.dpdk.org>
List-Unsubscribe: <https://mails.dpdk.org/options/test-report>,
 <mailto:test-report-request@dpdk.org?subject=unsubscribe>
List-Archive: <http://mails.dpdk.org/archives/test-report/>
List-Post: <mailto:test-report@dpdk.org>
List-Help: <mailto:test-report-request@dpdk.org?subject=help>
List-Subscribe: <https://mails.dpdk.org/listinfo/test-report>,
 <mailto:test-report-request@dpdk.org?subject=subscribe>
Errors-To: test-report-bounces@dpdk.org

Test-Label: iol-compile-arm64-testing
Test-Status: PENDING
http://dpdk.org/patch/142911

_Testing pending_

Submitter: Gagandeep Singh <g.singh@nxp.com>
Date: Tuesday, August 06 2024 03:41:20 
DPDK git baseline: Repo:dpdk
  Branch: master
  CommitID:b3485f4293997d35b6daecc3437bb0c183a51fb3

142909-142911 --> testing pending

Upstream job id: Generic-DPDK-Compile-Meson#284769

Test environment and result as below:

+------------------------------------+--------------------+
|            Environment             | dpdk_meson_compile |
+====================================+====================+
| RHEL9 (ARM)                        | PASS               |
+------------------------------------+--------------------+
| Ubuntu 20.04 ARM GCC Cross Compile | PEND               |
+------------------------------------+--------------------+
| Debian 12 with MUSDK               | PASS               |
+------------------------------------+--------------------+
| Fedora 37 (ARM)                    | PASS               |
+------------------------------------+--------------------+
| Fedora 38 (ARM)                    | PASS               |
+------------------------------------+--------------------+
| Fedora 38 (ARM Clang)              | PEND               |
+------------------------------------+--------------------+
| Fedora 39 (ARM)                    | PASS               |
+------------------------------------+--------------------+
| Fedora 39 (ARM Clang)              | PEND               |
+------------------------------------+--------------------+
| Fedora 40 (ARM)                    | PASS               |
+------------------------------------+--------------------+


RHEL9 (ARM)
	Kernel: Depends on container host
	Compiler: gcc 11.4.1

Ubuntu 20.04 ARM GCC Cross Compile
	Kernel: 5.4.0-167-generic
	Compiler: aarch64-linux-gnu-gcc (Ubuntu 9.4.0-1ubuntu1~20.04.2) 9.4.0

Debian 12 with MUSDK
	Kernel: Container Host Kernel
	Compiler: gcc 12.2.0

Fedora 37 (ARM)
	Kernel: Depends on container host
	Compiler: gcc 12.3.1

Fedora 38 (ARM)
	Kernel: Depends on container host
	Compiler: gcc 13.2.1

Fedora 38 (ARM Clang)
	Kernel: Depends on container host
	Compiler: clang 16.0.6

Fedora 39 (ARM)
	Kernel: Depends on container host
	Compiler: gcc 13.2.1

Fedora 39 (ARM Clang)
	Kernel: Depends on container host
	Compiler: clang 17.0.6

Fedora 40 (ARM)
	Kernel: Depends on container host
	Compiler: gcc 14.1.1

To view detailed results, visit:
https://lab.dpdk.org/results/dashboard/patchsets/30721/

UNH-IOL DPDK Community Lab

To manage your email subscriptions, visit: 
https://lab.dpdk.org/results/dashboard/preferences/subscriptions/