From mboxrd@z Thu Jan 1 00:00:00 1970 Return-Path: Received: from mails.dpdk.org (mails.dpdk.org [217.70.189.124]) by inbox.dpdk.org (Postfix) with ESMTP id DE05A4574C for ; Tue, 6 Aug 2024 10:00:40 +0200 (CEST) Received: from mails.dpdk.org (localhost [127.0.0.1]) by mails.dpdk.org (Postfix) with ESMTP id DA51140685; Tue, 6 Aug 2024 10:00:40 +0200 (CEST) Received: from mail-pj1-f97.google.com (mail-pj1-f97.google.com [209.85.216.97]) by mails.dpdk.org (Postfix) with ESMTP id C0543402CF for ; Tue, 6 Aug 2024 10:00:39 +0200 (CEST) Received: by mail-pj1-f97.google.com with SMTP id 98e67ed59e1d1-2cd2f89825fso216653a91.1 for ; Tue, 06 Aug 2024 01:00:39 -0700 (PDT) DKIM-Signature: v=1; a=rsa-sha256; c=relaxed/relaxed; d=iol.unh.edu; s=unh-iol; t=1722931239; x=1723536039; darn=dpdk.org; h=references:in-reply-to:cc:to:from:subject:message-id:date:from:to :cc:subject:date:message-id:reply-to; bh=4tGM6+CC0tqX135uwpvCaslKw6Xz9gN+El1CkiqqozA=; b=d+5Fz23fYtgL/5gJLQ3aZ7sP29JqtXFznuu5ULoJ1hp5ERm3P1vCRXaQ4LMwj3lvy4 WnCWJRwLF1hl6KSe7tV/3VBGT9jBB+yTakyJxTltJah9PnFC20lcfqSgzYK2G6JhpYvo 8gC68J4EigePl22ZqVQJH/M9Eus/j4+Jwt4J8= X-Google-DKIM-Signature: v=1; a=rsa-sha256; c=relaxed/relaxed; d=1e100.net; s=20230601; t=1722931239; x=1723536039; h=references:in-reply-to:cc:to:from:subject:message-id:date :x-gm-message-state:from:to:cc:subject:date:message-id:reply-to; bh=4tGM6+CC0tqX135uwpvCaslKw6Xz9gN+El1CkiqqozA=; b=pxHpAK9+PGzIh8gUiis723llmM41AHIVpX2fXLPyrbqfl/MsEPxbMQtRKn2DfrOtyo 03bMg4rFY/9LVYZu6MnF1DSWjYvhy/q7hV3I0iU/WT4OwDDAquNI5ZqvKvDzcKjNsEtX 5fYUidFLU69BkfQiwqKpQo/Rec+BN81n2e/6wS8vOQpf8LR2TFrh/o8wg2+Hwt9TMZ9J s/p9UEKzC1FnRIDKW4rKwwrHlxyHSqVCFJ+f0FODWVBw7CON0Pj03+RXoA+Ru6xtWHmr A66gD02WjqkOojcKyhtsqScRl1aiabAsxB5G4idyhMnFdnMSEuz6YzoHArCztaCXQGV0 H+Uw== X-Gm-Message-State: AOJu0Yxglp3AB56YD9L+6emrwu1vJVNso4KOEPikbhfzYma3QXkWqssC 6lh06lKJQsRPqfCQHQNrotDW/Kazb2S87SF2n0+Do2ne1Jnke3mydZLFgVCoC8s+2PjRUaGy8Sa FKzfaV7huK6Hcrf6uEn03uQ10kgeRTa956nAdbQg6Q+3zlhAGjjqn1tu+ X-Google-Smtp-Source: AGHT+IFGoGrxwH4fvQs6tbn/E3J3yeD20tFi2V7i8v99cvDM0X1YBHCdVdJIFHeZIf057JHGKI2WWbPQLeGA X-Received: by 2002:a17:90a:fa85:b0:2cd:410a:b010 with SMTP id 98e67ed59e1d1-2cff93c59fdmr12929331a91.2.1722931238733; Tue, 06 Aug 2024 01:00:38 -0700 (PDT) Received: from postal.iol.unh.edu (postal.iol.unh.edu. [2606:4100:3880:1234::84]) by smtp-relay.gmail.com with ESMTPS id 98e67ed59e1d1-2cffaf69a11sm781486a91.1.2024.08.06.01.00.38 (version=TLS1_2 cipher=ECDHE-ECDSA-AES128-GCM-SHA256 bits=128/128); Tue, 06 Aug 2024 01:00:38 -0700 (PDT) X-Relaying-Domain: iol.unh.edu Date: Tue, 06 Aug 2024 01:00:38 -0700 (PDT) Message-ID: <66b1d826.170a0220.159093.b52bSMTPIN_ADDED_MISSING@mx.google.com> Received: from [172.21.0.7] (unknown [172.18.0.240]) by postal.iol.unh.edu (Postfix) with ESMTP id D490C6052500; Tue, 6 Aug 2024 04:00:37 -0400 (EDT) Subject: |PENDING| pw142909-142911 [PATCH] [v2,3/3] examples/l3fwd: enhance v From: dpdklab@iol.unh.edu To: Test Report Cc: dpdk-test-reports@iol.unh.edu In-Reply-To: <20240806034120.3165295-4-g.singh@nxp.com> References: <20240806034120.3165295-4-g.singh@nxp.com> Content-Type: text/plain X-BeenThere: test-report@dpdk.org X-Mailman-Version: 2.1.29 Precedence: list List-Id: automatic DPDK test reports List-Unsubscribe: , List-Archive: List-Post: List-Help: List-Subscribe: , Errors-To: test-report-bounces@dpdk.org Test-Label: iol-compile-arm64-testing Test-Status: PENDING http://dpdk.org/patch/142911 _Testing pending_ Submitter: Gagandeep Singh Date: Tuesday, August 06 2024 03:41:20 DPDK git baseline: Repo:dpdk Branch: master CommitID:b3485f4293997d35b6daecc3437bb0c183a51fb3 142909-142911 --> testing pending Upstream job id: Generic-DPDK-Compile-Meson#284773 Test environment and result as below: +------------------------------------+--------------------+ | Environment | dpdk_meson_compile | +====================================+====================+ | RHEL9 (ARM) | PASS | +------------------------------------+--------------------+ | Ubuntu 20.04 ARM GCC Cross Compile | PEND | +------------------------------------+--------------------+ | Debian 12 with MUSDK | PASS | +------------------------------------+--------------------+ | Fedora 37 (ARM) | PASS | +------------------------------------+--------------------+ | Fedora 38 (ARM) | PASS | +------------------------------------+--------------------+ | Fedora 38 (ARM Clang) | PEND | +------------------------------------+--------------------+ | Fedora 39 (ARM) | PASS | +------------------------------------+--------------------+ | Fedora 39 (ARM Clang) | PEND | +------------------------------------+--------------------+ | Fedora 40 (ARM) | PASS | +------------------------------------+--------------------+ RHEL9 (ARM) Kernel: Depends on container host Compiler: gcc 11.4.1 Ubuntu 20.04 ARM GCC Cross Compile Kernel: 5.4.0-167-generic Compiler: aarch64-linux-gnu-gcc (Ubuntu 9.4.0-1ubuntu1~20.04.2) 9.4.0 Debian 12 with MUSDK Kernel: Container Host Kernel Compiler: gcc 12.2.0 Fedora 37 (ARM) Kernel: Depends on container host Compiler: gcc 12.3.1 Fedora 38 (ARM) Kernel: Depends on container host Compiler: gcc 13.2.1 Fedora 38 (ARM Clang) Kernel: Depends on container host Compiler: clang 16.0.6 Fedora 39 (ARM) Kernel: Depends on container host Compiler: gcc 13.2.1 Fedora 39 (ARM Clang) Kernel: Depends on container host Compiler: clang 17.0.6 Fedora 40 (ARM) Kernel: Depends on container host Compiler: gcc 14.1.1 To view detailed results, visit: https://lab.dpdk.org/results/dashboard/patchsets/30721/ UNH-IOL DPDK Community Lab To manage your email subscriptions, visit: https://lab.dpdk.org/results/dashboard/preferences/subscriptions/