From mboxrd@z Thu Jan  1 00:00:00 1970
Return-Path: <test-report-bounces@dpdk.org>
Received: from mails.dpdk.org (mails.dpdk.org [217.70.189.124])
	by inbox.dpdk.org (Postfix) with ESMTP id AD38045748
	for <public@inbox.dpdk.org>; Tue,  6 Aug 2024 10:58:05 +0200 (CEST)
Received: from mails.dpdk.org (localhost [127.0.0.1])
	by mails.dpdk.org (Postfix) with ESMTP id A9C9840E4F;
	Tue,  6 Aug 2024 10:58:05 +0200 (CEST)
Received: from mail-qv1-f97.google.com (mail-qv1-f97.google.com
 [209.85.219.97]) by mails.dpdk.org (Postfix) with ESMTP id 4CDD740E49
 for <test-report@dpdk.org>; Tue,  6 Aug 2024 10:58:05 +0200 (CEST)
Received: by mail-qv1-f97.google.com with SMTP id
 6a1803df08f44-6b95b710e2cso1463046d6.2
 for <test-report@dpdk.org>; Tue, 06 Aug 2024 01:58:05 -0700 (PDT)
DKIM-Signature: v=1; a=rsa-sha256; c=relaxed/relaxed;
 d=iol.unh.edu; s=unh-iol; t=1722934684; x=1723539484; darn=dpdk.org;
 h=references:in-reply-to:cc:to:from:subject:message-id:date:from:to
 :cc:subject:date:message-id:reply-to;
 bh=Lq748C/6mlDYjz/1zkqNlJRdDSmK7eOCi0qUEEnCJQ8=;
 b=CeRN3c47xWjRfdDi/EgKLVLiHnnJhKHKZOlqdTQmxsP4+0YFXZwbXVxwNblLvYSwu9
 ZjwYNo9pzsIQ1Rpoz5HZWncm/u1aphRdSdKUhMesmyfFlG7pT1F+eV1VllI3PpqQOUOX
 c+qSNGJyMWcuTMCLiocuEMXIkt+kKQUXp97iI=
X-Google-DKIM-Signature: v=1; a=rsa-sha256; c=relaxed/relaxed;
 d=1e100.net; s=20230601; t=1722934684; x=1723539484;
 h=references:in-reply-to:cc:to:from:subject:message-id:date
 :x-gm-message-state:from:to:cc:subject:date:message-id:reply-to;
 bh=Lq748C/6mlDYjz/1zkqNlJRdDSmK7eOCi0qUEEnCJQ8=;
 b=dgjzUDVPSP4SZmmSqU8ivUANNE7NSWKw1dak7RxG8ytM2Og1eNnk0ZfsePkUJDnnJu
 lvTTayvBgnEoayrYAdI09CfTxFSTZTvrZQlVUYjdto7ezbFS6Lex/+spyIliRyioiDxd
 V5bHSpbrFS2ukbhjKZKRE2VBIVrDPLip7KrRehL7sp8RQZxzPW/jfvymrm4BE7yzOQNt
 xN9gbxTJYr9/famvBDklPoNAHX8GoOvLCvtFs9QmUJSpwhJ1syyVM+DhLZQEn6ne/31e
 RWOZr3u4xE5IQAUEL2czs/bM3mOXvnvw9hPKiF7qLlxehxtHB+oolcsbCgJmQibH8O88
 9qig==
X-Gm-Message-State: AOJu0Yzq2WghTto7aZEkWAB/LkooOvk920NkREcPe71Kr81a4L/GWIsc
 n/3sFhySHic7cNzv1J4v213bRTSUPeHwEnIcIaQRCbY9qyMvH8nl8bmxVQjcqhingIIYYKkgrL0
 /O6ugmJ5sKh8MnYEUVaPSlj9ujLB6QO/SINxRI2JoLj6CU/JZU4FbndvI
X-Google-Smtp-Source: AGHT+IFuzdrT3iZvCiaXeb9esSth+MVi00xPxCDxsmwnj0IbS5svLKt59X2aSIivFQmOIVTcKCvbqHOzQmPB
X-Received: by 2002:a05:6214:5c42:b0:6b8:5afd:8f70 with SMTP id
 6a1803df08f44-6bb98461709mr140712806d6.49.1722934684455; 
 Tue, 06 Aug 2024 01:58:04 -0700 (PDT)
Received: from postal.iol.unh.edu (postal.iol.unh.edu.
 [2606:4100:3880:1234::84]) by smtp-relay.gmail.com with ESMTPS id
 6a1803df08f44-6bb9c876f53sm7567816d6.65.2024.08.06.01.58.04
 (version=TLS1_2 cipher=ECDHE-ECDSA-AES128-GCM-SHA256 bits=128/128);
 Tue, 06 Aug 2024 01:58:04 -0700 (PDT)
X-Relaying-Domain: iol.unh.edu
Date: Tue, 06 Aug 2024 01:58:04 -0700 (PDT)
Message-ID: <66b1e59c.050a0220.12817e.8e5fSMTPIN_ADDED_MISSING@mx.google.com>
Received: from [172.21.0.6] (unknown [172.18.0.240])
 by postal.iol.unh.edu (Postfix) with ESMTP id 158866052500;
 Tue,  6 Aug 2024 04:58:04 -0400 (EDT)
Subject: |PENDING| pw142912-142916 [PATCH] [v12,5/5] dts: add API doc generat
From: dpdklab@iol.unh.edu
To: Test Report <test-report@dpdk.org>
Cc: dpdk-test-reports@iol.unh.edu
In-Reply-To: <20240806061401.222164-6-juraj.linkes@pantheon.tech>
References: <20240806061401.222164-6-juraj.linkes@pantheon.tech>
Content-Type: text/plain
X-BeenThere: test-report@dpdk.org
X-Mailman-Version: 2.1.29
Precedence: list
List-Id: automatic DPDK test reports <test-report.dpdk.org>
List-Unsubscribe: <https://mails.dpdk.org/options/test-report>,
 <mailto:test-report-request@dpdk.org?subject=unsubscribe>
List-Archive: <http://mails.dpdk.org/archives/test-report/>
List-Post: <mailto:test-report@dpdk.org>
List-Help: <mailto:test-report-request@dpdk.org?subject=help>
List-Subscribe: <https://mails.dpdk.org/listinfo/test-report>,
 <mailto:test-report-request@dpdk.org?subject=subscribe>
Errors-To: test-report-bounces@dpdk.org

Test-Label: iol-abi-testing
Test-Status: PENDING
http://dpdk.org/patch/142916

_Testing pending_

Submitter: Juraj Linkes <juraj.linkes@pantheon.tech>
Date: Tuesday, August 06 2024 06:14:01 
DPDK git baseline: Repo:dpdk
  Branch: master
  CommitID:b3485f4293997d35b6daecc3437bb0c183a51fb3

142912-142916 --> testing pending

Upstream job id: Generic-DPDK-Compile-ABI#101797

Test environment and result as below:

+-------------------+----------+
|    Environment    | abi_test |
+===================+==========+
| CentOS Stream 9   | PASS     |
+-------------------+----------+
| Debian Bullseye   | PASS     |
+-------------------+----------+
| Debian 12         | PASS     |
+-------------------+----------+
| Fedora 37         | PASS     |
+-------------------+----------+
| Fedora 38 (Clang) | PASS     |
+-------------------+----------+
| Fedora 38         | PASS     |
+-------------------+----------+
| Fedora 39 (Clang) | PASS     |
+-------------------+----------+
| Fedora 39         | PASS     |
+-------------------+----------+
| Fedora 40 (Clang) | PASS     |
+-------------------+----------+
| openSUSE Leap 15  | PASS     |
+-------------------+----------+
| RHEL8             | PEND     |
+-------------------+----------+
| RHEL9             | PEND     |
+-------------------+----------+
| Ubuntu 22.04      | PASS     |
+-------------------+----------+
| Ubuntu 24.04      | PEND     |
+-------------------+----------+
| Fedora 40         | PEND     |
+-------------------+----------+


CentOS Stream 9
	Kernel: 5.4.0-167-generic
	Compiler: gcc 11.4.1 20230605

Debian Bullseye
	Kernel: 5.4.0-167-generic
	Compiler: gcc 10.2.1-6

Debian 12
	Kernel: Container Host Kernel
	Compiler: gcc 12.2.0

Fedora 37
	Kernel: Depends on container host system
	Compiler: gcc 12.3.1

Fedora 38 (Clang)
	Kernel: Depends on container host
	Compiler: clang 16.0.6

Fedora 38
	Kernel: Depends on container host
	Compiler: gcc 13.2.1

Fedora 39 (Clang)
	Kernel: Depends on container host
	Compiler: clang 17.0.6

Fedora 39
	Kernel: Depends on container host
	Compiler: gcc 13.2.1

Fedora 40 (Clang)
	Kernel: Depends on container host
	Compiler: clang 18.1.6

openSUSE Leap 15
	Kernel: 5.4.0-167-generic
	Compiler: gcc 7.5.0

RHEL8
	Kernel: 5.4.0-167-generic
	Compiler: gcc 8.5.0 20210514 (Red Hat 8.5.0-20)

RHEL9
	Kernel: Depends on container host
	Compiler: gcc 11.4.1

Ubuntu 22.04
	Kernel: 5.4.0-167-generic
	Compiler: gcc 11.4.0

Ubuntu 24.04
	Kernel: 5.4.0-167-generic
	Compiler: gcc 13.2.0

Fedora 40
	Kernel: Depends on container host
	Compiler: gcc 14.1.1

To view detailed results, visit:
https://lab.dpdk.org/results/dashboard/patchsets/30722/

UNH-IOL DPDK Community Lab

To manage your email subscriptions, visit: 
https://lab.dpdk.org/results/dashboard/preferences/subscriptions/