From mboxrd@z Thu Jan  1 00:00:00 1970
Return-Path: <test-report-bounces@dpdk.org>
Received: from mails.dpdk.org (mails.dpdk.org [217.70.189.124])
	by inbox.dpdk.org (Postfix) with ESMTP id 4B9E345748
	for <public@inbox.dpdk.org>; Tue,  6 Aug 2024 11:00:41 +0200 (CEST)
Received: from mails.dpdk.org (localhost [127.0.0.1])
	by mails.dpdk.org (Postfix) with ESMTP id 3D8D6427B4;
	Tue,  6 Aug 2024 11:00:41 +0200 (CEST)
Received: from mail-pg1-f228.google.com (mail-pg1-f228.google.com
 [209.85.215.228])
 by mails.dpdk.org (Postfix) with ESMTP id 0AC8240E40
 for <test-report@dpdk.org>; Tue,  6 Aug 2024 11:00:40 +0200 (CEST)
Received: by mail-pg1-f228.google.com with SMTP id
 41be03b00d2f7-7b80afeb099so199339a12.2
 for <test-report@dpdk.org>; Tue, 06 Aug 2024 02:00:39 -0700 (PDT)
DKIM-Signature: v=1; a=rsa-sha256; c=relaxed/relaxed;
 d=iol.unh.edu; s=unh-iol; t=1722934839; x=1723539639; darn=dpdk.org;
 h=references:in-reply-to:cc:to:from:subject:message-id:date:from:to
 :cc:subject:date:message-id:reply-to;
 bh=mhlMl4ksVZSXtSaBUN0AA7/rJOo6ozHUQOiO4OWPwqo=;
 b=UO74UIIBY6B7YtWLd8gExNysxIaReZ435JHbEm/+sOReK3lzfqVy6dBO/Vc+2bLjQa
 sxaIOnsNIk0eqvYcVbWkGfHou9EsLGoDG9gz8eDTxndU/9uwzjqcuCbFiVjdp0DLBW5S
 atYZC5gwpJFDxGY+BNe+iaTtxb/p0Zlk0StLA=
X-Google-DKIM-Signature: v=1; a=rsa-sha256; c=relaxed/relaxed;
 d=1e100.net; s=20230601; t=1722934839; x=1723539639;
 h=references:in-reply-to:cc:to:from:subject:message-id:date
 :x-gm-message-state:from:to:cc:subject:date:message-id:reply-to;
 bh=mhlMl4ksVZSXtSaBUN0AA7/rJOo6ozHUQOiO4OWPwqo=;
 b=JbKhO1A3U3KF2EPRX4Yk2wXTi97v5YX8xbIHdiJj4sdkO3k3/LW/xtmQBEzsZ1z41f
 uX+Dwty4LkDpX/W8M/mDMSccEDcyp+pc9zkpwtDUQF3UcVc42tKEJrHED159HcK3nHBT
 AsiH9B5L9Be63qB+MXx8uxGBpQgXPqYVLkik4pgzTIojmdIPF9EWMs7HG8n0Y0oaL2uv
 n9FLNqVaKP0KG8Jk66LKgXqXNFrT8aYQo2UWqhlXyXCHP8X7r+gwemyat5ecpLESjbFC
 rltgIl0TH5tEawGhgl6lXjpOWNx5RAoUC7Jc57DhMZu+UXUQh9/krfBXENYa0yX8ROOH
 CC0w==
X-Gm-Message-State: AOJu0YzPu+aAGWoYaF+Z/udcU4y+SRV8w6Dip+G/Q+Qso/tVJwbsOnB0
 szyYU1i49Zrj+q2mLCC0Rijr4ylhJoh0GkYn+3dbfqzt6rGVMlkk61Y+TpdbDmJ3l9Bwap1Oi2m
 ur3aDv/OUN/0BEegH+a8acKRphwgCB+12LC+2Qe5o
X-Google-Smtp-Source: AGHT+IF1GEqJ/zolr2wnVPbuEtoGvhu1FxoFv2SGd6RiJx0JGd6AM1MfZ6V3lIcjq3v4sA6Dn25x5DFcgTMw
X-Received: by 2002:a05:6a20:7289:b0:1c3:ff33:246b with SMTP id
 adf61e73a8af0-1c6995ee3e0mr15801676637.40.1722934839064; 
 Tue, 06 Aug 2024 02:00:39 -0700 (PDT)
Received: from postal.iol.unh.edu (postal.iol.unh.edu. [132.177.123.84])
 by smtp-relay.gmail.com with ESMTPS id
 d9443c01a7336-1ff58f37662sm7237545ad.18.2024.08.06.02.00.38
 (version=TLS1_2 cipher=ECDHE-ECDSA-AES128-GCM-SHA256 bits=128/128);
 Tue, 06 Aug 2024 02:00:39 -0700 (PDT)
X-Relaying-Domain: iol.unh.edu
Date: Tue, 06 Aug 2024 02:00:39 -0700 (PDT)
Message-ID: <66b1e637.170a0220.2943c6.808aSMTPIN_ADDED_MISSING@mx.google.com>
Received: from [172.21.0.8] (unknown [172.18.0.240])
 by postal.iol.unh.edu (Postfix) with ESMTP id 2D3EA6052519;
 Tue,  6 Aug 2024 05:00:38 -0400 (EDT)
Subject: |PENDING| pw142912-142916 [PATCH] [v12,5/5] dts: add API doc generat
From: dpdklab@iol.unh.edu
To: Test Report <test-report@dpdk.org>
Cc: dpdk-test-reports@iol.unh.edu
In-Reply-To: <20240806061401.222164-6-juraj.linkes@pantheon.tech>
References: <20240806061401.222164-6-juraj.linkes@pantheon.tech>
Content-Type: text/plain
X-BeenThere: test-report@dpdk.org
X-Mailman-Version: 2.1.29
Precedence: list
List-Id: automatic DPDK test reports <test-report.dpdk.org>
List-Unsubscribe: <https://mails.dpdk.org/options/test-report>,
 <mailto:test-report-request@dpdk.org?subject=unsubscribe>
List-Archive: <http://mails.dpdk.org/archives/test-report/>
List-Post: <mailto:test-report@dpdk.org>
List-Help: <mailto:test-report-request@dpdk.org?subject=help>
List-Subscribe: <https://mails.dpdk.org/listinfo/test-report>,
 <mailto:test-report-request@dpdk.org?subject=subscribe>
Errors-To: test-report-bounces@dpdk.org

Test-Label: iol-abi-testing
Test-Status: PENDING
http://dpdk.org/patch/142916

_Testing pending_

Submitter: Juraj Linkes <juraj.linkes@pantheon.tech>
Date: Tuesday, August 06 2024 06:14:01 
DPDK git baseline: Repo:dpdk
  Branch: master
  CommitID:b3485f4293997d35b6daecc3437bb0c183a51fb3

142912-142916 --> testing pending

Upstream job id: Generic-DPDK-Compile-ABI#101800

Test environment and result as below:

+-------------------+----------+
|    Environment    | abi_test |
+===================+==========+
| CentOS Stream 9   | PASS     |
+-------------------+----------+
| Debian Bullseye   | PASS     |
+-------------------+----------+
| Debian 12         | PASS     |
+-------------------+----------+
| Fedora 37         | PASS     |
+-------------------+----------+
| Fedora 38 (Clang) | PASS     |
+-------------------+----------+
| Fedora 38         | PASS     |
+-------------------+----------+
| Fedora 39 (Clang) | PASS     |
+-------------------+----------+
| Fedora 39         | PASS     |
+-------------------+----------+
| Fedora 40 (Clang) | PASS     |
+-------------------+----------+
| openSUSE Leap 15  | PASS     |
+-------------------+----------+
| RHEL8             | PASS     |
+-------------------+----------+
| RHEL9             | PEND     |
+-------------------+----------+
| Ubuntu 22.04      | PASS     |
+-------------------+----------+
| Ubuntu 24.04      | PEND     |
+-------------------+----------+
| Fedora 40         | PEND     |
+-------------------+----------+


CentOS Stream 9
	Kernel: 5.4.0-167-generic
	Compiler: gcc 11.4.1 20230605

Debian Bullseye
	Kernel: 5.4.0-167-generic
	Compiler: gcc 10.2.1-6

Debian 12
	Kernel: Container Host Kernel
	Compiler: gcc 12.2.0

Fedora 37
	Kernel: Depends on container host system
	Compiler: gcc 12.3.1

Fedora 38 (Clang)
	Kernel: Depends on container host
	Compiler: clang 16.0.6

Fedora 38
	Kernel: Depends on container host
	Compiler: gcc 13.2.1

Fedora 39 (Clang)
	Kernel: Depends on container host
	Compiler: clang 17.0.6

Fedora 39
	Kernel: Depends on container host
	Compiler: gcc 13.2.1

Fedora 40 (Clang)
	Kernel: Depends on container host
	Compiler: clang 18.1.6

openSUSE Leap 15
	Kernel: 5.4.0-167-generic
	Compiler: gcc 7.5.0

RHEL8
	Kernel: 5.4.0-167-generic
	Compiler: gcc 8.5.0 20210514 (Red Hat 8.5.0-20)

RHEL9
	Kernel: Depends on container host
	Compiler: gcc 11.4.1

Ubuntu 22.04
	Kernel: 5.4.0-167-generic
	Compiler: gcc 11.4.0

Ubuntu 24.04
	Kernel: 5.4.0-167-generic
	Compiler: gcc 13.2.0

Fedora 40
	Kernel: Depends on container host
	Compiler: gcc 14.1.1

To view detailed results, visit:
https://lab.dpdk.org/results/dashboard/patchsets/30722/

UNH-IOL DPDK Community Lab

To manage your email subscriptions, visit: 
https://lab.dpdk.org/results/dashboard/preferences/subscriptions/