From mboxrd@z Thu Jan  1 00:00:00 1970
Return-Path: <test-report-bounces@dpdk.org>
Received: from mails.dpdk.org (mails.dpdk.org [217.70.189.124])
	by inbox.dpdk.org (Postfix) with ESMTP id D31374574A
	for <public@inbox.dpdk.org>; Tue,  6 Aug 2024 12:56:08 +0200 (CEST)
Received: from mails.dpdk.org (localhost [127.0.0.1])
	by mails.dpdk.org (Postfix) with ESMTP id CE05C40ED0;
	Tue,  6 Aug 2024 12:56:08 +0200 (CEST)
Received: from mail-yw1-f228.google.com (mail-yw1-f228.google.com
 [209.85.128.228])
 by mails.dpdk.org (Postfix) with ESMTP id 752F4402A1
 for <test-report@dpdk.org>; Tue,  6 Aug 2024 12:56:07 +0200 (CEST)
Received: by mail-yw1-f228.google.com with SMTP id
 00721157ae682-65f9708c50dso6031807b3.2
 for <test-report@dpdk.org>; Tue, 06 Aug 2024 03:56:07 -0700 (PDT)
DKIM-Signature: v=1; a=rsa-sha256; c=relaxed/relaxed;
 d=iol.unh.edu; s=unh-iol; t=1722941767; x=1723546567; darn=dpdk.org;
 h=references:in-reply-to:cc:to:from:subject:message-id:date:from:to
 :cc:subject:date:message-id:reply-to;
 bh=2+p1Ssno45Ezs0y+LPRLKbTGi4tHqiDWxM9O67P/g0M=;
 b=TMnhWaiSfk7VYTU+DmIrjj7tJlUkrtPdPU48FS5Cr5QAQfHfYXSzvAfRdDy6lKHoxz
 yp9Fu/LtNgl0wU0yJ9cOqlxWh79qHZCilPRguGvuiQRHQzm61uAo+KqeeSIBL59jqRVw
 h8bqaVJVX+RlGUdl65n100LQK2Yr+fmn/qabw=
X-Google-DKIM-Signature: v=1; a=rsa-sha256; c=relaxed/relaxed;
 d=1e100.net; s=20230601; t=1722941767; x=1723546567;
 h=references:in-reply-to:cc:to:from:subject:message-id:date
 :x-gm-message-state:from:to:cc:subject:date:message-id:reply-to;
 bh=2+p1Ssno45Ezs0y+LPRLKbTGi4tHqiDWxM9O67P/g0M=;
 b=buBJ/T4J3DiG1NuAZlBxqxEpMj7uvWl16Wl3ccHCTAHJOYaAl/umvVBVUUp6dOX0Ka
 QT4qeAx91q9MTjTZXINzATb+CVm4iWVvDq56QDDHiG+N4Rzgrw1fI86CXZKe1s0/itx8
 miO37NYdhb3Lu+zFakr/IoAWi64WAVrjztDgMAIBX3zGwEMGyf2RD3LvCO59uOInKAab
 6XGnxMbt2hvD0bhM4i5zvH+Sj8UV4oiHb2YJ0fZCDCSx4rRmiMjVal4q0Gs5I4iSyHdx
 DMioQQJplld6jMeKva92tPl0AH3un+++oJF7Uz/HMYyn1Oo7UzAETkQokUZX/mX/Lwb6
 cYfw==
X-Gm-Message-State: AOJu0YzUW3oBjpQuWMTxi1JJ7H9WjUsg70L9BU4m1bBv/QSj1pnP3u1j
 vBvFuhCKHPwSp6QbTOsa/Nk4yL5jrboYl7co+/lm6ZzxdnUXOVFBzYvT9Yx/F4m2f0nX8kf3wjR
 2GT0CTSNs8DXAYkq8gYDUAE0GgXey2gwa/rhjBkaXL1Sv67uiYbBGNyWj
X-Google-Smtp-Source: AGHT+IF9e3W9gmZH6S7dUfZ1xoNSCP3GfIb3wCgLxQi6950pdZzycGFIPtlSZX4AsHAkdqOm/9/tLgOaE+45
X-Received: by 2002:a81:9c0f:0:b0:645:8fb:71c8 with SMTP id
 00721157ae682-68964392be3mr161647847b3.37.1722941766792; 
 Tue, 06 Aug 2024 03:56:06 -0700 (PDT)
Received: from postal.iol.unh.edu (postal.iol.unh.edu.
 [2606:4100:3880:1234::84]) by smtp-relay.gmail.com with ESMTPS id
 00721157ae682-68a131e3342sm11374827b3.33.2024.08.06.03.56.06
 (version=TLS1_2 cipher=ECDHE-ECDSA-AES128-GCM-SHA256 bits=128/128);
 Tue, 06 Aug 2024 03:56:06 -0700 (PDT)
X-Relaying-Domain: iol.unh.edu
Date: Tue, 06 Aug 2024 03:56:06 -0700 (PDT)
Message-ID: <66b20146.810a0220.3d4fe9.8d7fSMTPIN_ADDED_MISSING@mx.google.com>
Received: from [172.21.0.7] (unknown [172.18.0.240])
 by postal.iol.unh.edu (Postfix) with ESMTP id 73C466052500;
 Tue,  6 Aug 2024 06:56:06 -0400 (EDT)
Subject: |SUCCESS| pw142924-142929 [PATCH] [v13,6/6] dts: add API doc generat
From: dpdklab@iol.unh.edu
To: Test Report <test-report@dpdk.org>
Cc: dpdk-test-reports@iol.unh.edu
In-Reply-To: <20240806084622.232327-7-juraj.linkes@pantheon.tech>
References: <20240806084622.232327-7-juraj.linkes@pantheon.tech>
Content-Type: text/plain
X-BeenThere: test-report@dpdk.org
X-Mailman-Version: 2.1.29
Precedence: list
List-Id: automatic DPDK test reports <test-report.dpdk.org>
List-Unsubscribe: <https://mails.dpdk.org/options/test-report>,
 <mailto:test-report-request@dpdk.org?subject=unsubscribe>
List-Archive: <http://mails.dpdk.org/archives/test-report/>
List-Post: <mailto:test-report@dpdk.org>
List-Help: <mailto:test-report-request@dpdk.org?subject=help>
List-Subscribe: <https://mails.dpdk.org/listinfo/test-report>,
 <mailto:test-report-request@dpdk.org?subject=subscribe>
Errors-To: test-report-bounces@dpdk.org

Test-Label: iol-abi-testing
Test-Status: SUCCESS
http://dpdk.org/patch/142929

_Testing PASS_

Submitter: Juraj Linkes <juraj.linkes@pantheon.tech>
Date: Tuesday, August 06 2024 08:46:22 
DPDK git baseline: Repo:dpdk
  Branch: master
  CommitID:b3485f4293997d35b6daecc3437bb0c183a51fb3

142924-142929 --> testing pass

Upstream job id: Generic-DPDK-Compile-ABI#101819

Test environment and result as below:

+-------------------+----------+
|    Environment    | abi_test |
+===================+==========+
| CentOS Stream 9   | PASS     |
+-------------------+----------+
| Debian Bullseye   | PASS     |
+-------------------+----------+
| Debian 12         | PASS     |
+-------------------+----------+
| Fedora 37         | PASS     |
+-------------------+----------+
| Fedora 38         | PASS     |
+-------------------+----------+
| Fedora 38 (Clang) | PASS     |
+-------------------+----------+
| Fedora 39 (Clang) | PASS     |
+-------------------+----------+
| Fedora 39         | PASS     |
+-------------------+----------+
| Fedora 40 (Clang) | PASS     |
+-------------------+----------+
| openSUSE Leap 15  | PASS     |
+-------------------+----------+
| Fedora 40         | PASS     |
+-------------------+----------+
| RHEL8             | PASS     |
+-------------------+----------+
| RHEL9             | PASS     |
+-------------------+----------+
| Ubuntu 22.04      | PASS     |
+-------------------+----------+
| Ubuntu 24.04      | PASS     |
+-------------------+----------+


CentOS Stream 9
	Kernel: 5.4.0-167-generic
	Compiler: gcc 11.4.1 20230605

Debian Bullseye
	Kernel: 5.4.0-167-generic
	Compiler: gcc 10.2.1-6

Debian 12
	Kernel: Container Host Kernel
	Compiler: gcc 12.2.0

Fedora 37
	Kernel: Depends on container host system
	Compiler: gcc 12.3.1

Fedora 38
	Kernel: Depends on container host
	Compiler: gcc 13.2.1

Fedora 38 (Clang)
	Kernel: Depends on container host
	Compiler: clang 16.0.6

Fedora 39 (Clang)
	Kernel: Depends on container host
	Compiler: clang 17.0.6

Fedora 39
	Kernel: Depends on container host
	Compiler: gcc 13.2.1

Fedora 40 (Clang)
	Kernel: Depends on container host
	Compiler: clang 18.1.6

openSUSE Leap 15
	Kernel: 5.4.0-167-generic
	Compiler: gcc 7.5.0

Fedora 40
	Kernel: Depends on container host
	Compiler: gcc 14.1.1

RHEL8
	Kernel: 5.4.0-167-generic
	Compiler: gcc 8.5.0 20210514 (Red Hat 8.5.0-20)

RHEL9
	Kernel: Depends on container host
	Compiler: gcc 11.4.1

Ubuntu 22.04
	Kernel: 5.4.0-167-generic
	Compiler: gcc 11.4.0

Ubuntu 24.04
	Kernel: 5.4.0-167-generic
	Compiler: gcc 13.2.0

To view detailed results, visit:
https://lab.dpdk.org/results/dashboard/patchsets/30724/

UNH-IOL DPDK Community Lab

To manage your email subscriptions, visit: 
https://lab.dpdk.org/results/dashboard/preferences/subscriptions/