From mboxrd@z Thu Jan  1 00:00:00 1970
Return-Path: <test-report-bounces@dpdk.org>
Received: from mails.dpdk.org (mails.dpdk.org [217.70.189.124])
	by inbox.dpdk.org (Postfix) with ESMTP id DCCDA4574A
	for <public@inbox.dpdk.org>; Tue,  6 Aug 2024 13:12:22 +0200 (CEST)
Received: from mails.dpdk.org (localhost [127.0.0.1])
	by mails.dpdk.org (Postfix) with ESMTP id D71D440BA4;
	Tue,  6 Aug 2024 13:12:22 +0200 (CEST)
Received: from mail-yw1-f227.google.com (mail-yw1-f227.google.com
 [209.85.128.227])
 by mails.dpdk.org (Postfix) with ESMTP id BB8F8402A1
 for <test-report@dpdk.org>; Tue,  6 Aug 2024 13:12:21 +0200 (CEST)
Received: by mail-yw1-f227.google.com with SMTP id
 00721157ae682-664b4589b1aso48759687b3.1
 for <test-report@dpdk.org>; Tue, 06 Aug 2024 04:12:21 -0700 (PDT)
DKIM-Signature: v=1; a=rsa-sha256; c=relaxed/relaxed;
 d=iol.unh.edu; s=unh-iol; t=1722942741; x=1723547541; darn=dpdk.org;
 h=references:in-reply-to:cc:to:from:subject:message-id:date:from:to
 :cc:subject:date:message-id:reply-to;
 bh=6P2fKxcuo0CxDKOOZqzZ0FLAhH4sUdSfM9FPbulFNEA=;
 b=MmTMJetHLOyJMhiPmPIxQVzU18TohPVB18l8SrEn5w2HlDPCLg8ood/Xt3ZfQBk6aM
 69rBV6FG+WX6qVl1fnaWxaOkGSXFjL0xT16Or87z71VedRpAVPO+2CnGyaTGGBZzbLEw
 TO0e1+9yTE6jnpv2buSKhHvLbfbrHhm9MzdFM=
X-Google-DKIM-Signature: v=1; a=rsa-sha256; c=relaxed/relaxed;
 d=1e100.net; s=20230601; t=1722942741; x=1723547541;
 h=references:in-reply-to:cc:to:from:subject:message-id:date
 :x-gm-message-state:from:to:cc:subject:date:message-id:reply-to;
 bh=6P2fKxcuo0CxDKOOZqzZ0FLAhH4sUdSfM9FPbulFNEA=;
 b=dH7DmaWdxvdzUpNiUfM/2nKlW3gViUolLybTo75AwQZkyvdY2cJbbl3vlR1bE/20Jg
 zanxtl0zntynJaUjPCWP8h8jnyhU207MhKzdsl50VZ6yjxrsZ9OxbXbRGdk7I/COLPlV
 KwwgRsBuOC4FSXlUk7w99kezH27lzzKNasUskeQo4IZyl2XhzxSAGSGW8lur+OwDuT2J
 suHqrPQXIpRVjHs4HlSW7AwskB2+7U09pBW4P0Yzh0M5n8/mVjelTRiLG0Fy4cB18BcH
 7sB4xaNqiG2zJfvV+fyHIk1lGZlcaGBOF2dMAFB3aPmpywwsvSm3b9cHPUgRYNi5/D/g
 IQ4w==
X-Gm-Message-State: AOJu0YyI6hOryTj+nMt5qKKHEKaZJA2V3DPJCntHx4N2ugB+YXtOTAbJ
 ovFFJbD16BkDzTAAvMPI7fmLOS6G+83y7jeT3yCgxTEzZ9ydSrlm7WBMw+Pry6RMPQ6oGyYUbrX
 zuNReqUuK8yGwGem7ntzWY1aRkEtrBCuMyefkmGmIZJ23iXiz5dLI5Zsb
X-Google-Smtp-Source: AGHT+IELgzAQhZz9sZK1v8kzPjgigcVmzcIUMoPGYaOKeJWYaG+S4UlHH2ExKAwY/mtY4gweDF5QwUwrwYs+
X-Received: by 2002:a0d:ee02:0:b0:648:ba8b:578e with SMTP id
 00721157ae682-688500be844mr142263527b3.4.1722942741007; 
 Tue, 06 Aug 2024 04:12:21 -0700 (PDT)
Received: from postal.iol.unh.edu (postal.iol.unh.edu.
 [2606:4100:3880:1234::84]) by smtp-relay.gmail.com with ESMTPS id
 00721157ae682-68a16acf6a4sm11446127b3.74.2024.08.06.04.12.20
 (version=TLS1_2 cipher=ECDHE-ECDSA-AES128-GCM-SHA256 bits=128/128);
 Tue, 06 Aug 2024 04:12:20 -0700 (PDT)
X-Relaying-Domain: iol.unh.edu
Date: Tue, 06 Aug 2024 04:12:20 -0700 (PDT)
Message-ID: <66b20514.0d0a0220.1a4f8a.7f5dSMTPIN_ADDED_MISSING@mx.google.com>
Received: from [172.21.0.6] (unknown [172.18.0.240])
 by postal.iol.unh.edu (Postfix) with ESMTP id 9EB236052500;
 Tue,  6 Aug 2024 07:12:20 -0400 (EDT)
Subject: |PENDING| pw142917-142923 [PATCH] [v1,7/7] crypto/dpaa2_sec: rework 
From: dpdklab@iol.unh.edu
To: Test Report <test-report@dpdk.org>
Cc: dpdk-test-reports@iol.unh.edu
In-Reply-To: <20240806084136.3212615-8-g.singh@nxp.com>
References: <20240806084136.3212615-8-g.singh@nxp.com>
Content-Type: text/plain
X-BeenThere: test-report@dpdk.org
X-Mailman-Version: 2.1.29
Precedence: list
List-Id: automatic DPDK test reports <test-report.dpdk.org>
List-Unsubscribe: <https://mails.dpdk.org/options/test-report>,
 <mailto:test-report-request@dpdk.org?subject=unsubscribe>
List-Archive: <http://mails.dpdk.org/archives/test-report/>
List-Post: <mailto:test-report@dpdk.org>
List-Help: <mailto:test-report-request@dpdk.org?subject=help>
List-Subscribe: <https://mails.dpdk.org/listinfo/test-report>,
 <mailto:test-report-request@dpdk.org?subject=subscribe>
Errors-To: test-report-bounces@dpdk.org

Test-Label: iol-abi-testing
Test-Status: PENDING
http://dpdk.org/patch/142923

_Testing pending_

Submitter: Gagandeep Singh <g.singh@nxp.com>
Date: Tuesday, August 06 2024 08:41:36 
DPDK git baseline: Repo:dpdk
  Branch: master
  CommitID:b3485f4293997d35b6daecc3437bb0c183a51fb3

142917-142923 --> testing pending

Upstream job id: Generic-DPDK-Compile-ABI#101830

Test environment and result as below:

+-------------------+----------+
|    Environment    | abi_test |
+===================+==========+
| Debian Bullseye   | PASS     |
+-------------------+----------+
| CentOS Stream 9   | PASS     |
+-------------------+----------+
| Fedora 38 (Clang) | PASS     |
+-------------------+----------+
| Debian 12         | PEND     |
+-------------------+----------+
| Fedora 37         | PASS     |
+-------------------+----------+
| Fedora 39 (Clang) | PASS     |
+-------------------+----------+
| Fedora 39         | PEND     |
+-------------------+----------+
| Fedora 38         | PASS     |
+-------------------+----------+
| Fedora 40 (Clang) | PASS     |
+-------------------+----------+
| Fedora 40         | PEND     |
+-------------------+----------+
| openSUSE Leap 15  | PASS     |
+-------------------+----------+
| RHEL8             | PASS     |
+-------------------+----------+
| Ubuntu 22.04      | PEND     |
+-------------------+----------+
| RHEL9             | PEND     |
+-------------------+----------+
| Ubuntu 24.04      | PEND     |
+-------------------+----------+


Debian Bullseye
	Kernel: 5.4.0-167-generic
	Compiler: gcc 10.2.1-6

CentOS Stream 9
	Kernel: 5.4.0-167-generic
	Compiler: gcc 11.4.1 20230605

Fedora 38 (Clang)
	Kernel: Depends on container host
	Compiler: clang 16.0.6

Debian 12
	Kernel: Container Host Kernel
	Compiler: gcc 12.2.0

Fedora 37
	Kernel: Depends on container host system
	Compiler: gcc 12.3.1

Fedora 39 (Clang)
	Kernel: Depends on container host
	Compiler: clang 17.0.6

Fedora 39
	Kernel: Depends on container host
	Compiler: gcc 13.2.1

Fedora 38
	Kernel: Depends on container host
	Compiler: gcc 13.2.1

Fedora 40 (Clang)
	Kernel: Depends on container host
	Compiler: clang 18.1.6

Fedora 40
	Kernel: Depends on container host
	Compiler: gcc 14.1.1

openSUSE Leap 15
	Kernel: 5.4.0-167-generic
	Compiler: gcc 7.5.0

RHEL8
	Kernel: 5.4.0-167-generic
	Compiler: gcc 8.5.0 20210514 (Red Hat 8.5.0-20)

Ubuntu 22.04
	Kernel: 5.4.0-167-generic
	Compiler: gcc 11.4.0

RHEL9
	Kernel: Depends on container host
	Compiler: gcc 11.4.1

Ubuntu 24.04
	Kernel: 5.4.0-167-generic
	Compiler: gcc 13.2.0

To view detailed results, visit:
https://lab.dpdk.org/results/dashboard/patchsets/30723/

UNH-IOL DPDK Community Lab

To manage your email subscriptions, visit: 
https://lab.dpdk.org/results/dashboard/preferences/subscriptions/